BEGIN:VCALENDAR
VERSION:2.0
PRODID:-//wp-events-plugin.com//7.2.3.1//EN
BEGIN:VEVENT
UID:2398@x8ti.com
DTSTART;TZID=Europe/Madrid:20261012T090000
DTEND;TZID=Europe/Madrid:20261016T130000
DTSTAMP:20260222T090119Z
URL:https://x8ti.com/event/mechanical-equipment-design-testing-installatio
 n-inspection-and-maintenance-training-course-4/
SUMMARY:Mechanical Equipment Design\, Testing\, Installation\, Inspection a
 nd Maintenance Training Course
DESCRIPTION:Course Overview\n\nMechanical equipment is extremely important\
 , and proper maintenance of these plays a critical role in determining org
 anizational success. If not maintained well\, they can cause serious injur
 ies\, including open wounds\, amputations and fractures. Pressure vessels\
 , pumps\, fans\, blowers and compressors are called mechanical equipment.\
 n\nA pressure vessel handles fluids at a pressure not equal to the ambient
  temperature. A pump moves fluids through mechanical action. Furthermore\,
  fans\, blowers and compressors involve movement of gas through different 
 mechanisms. Fans move huge amounts of gas with a low increase in pressure\
 , blowers move gases with a moderate increase in pressure and compressors 
 raise gases to a higher level of pressure.\n\nThis Xcelerate Training Inst
 itute course will empower you with a detailed understanding of mechanical 
 equipment. Through this course\, you will gain adequate knowledge and expe
 rience to work with any or all mechanical equipment when required in any f
 unction or role.\n\nThus\, the knowledge and information gained through th
 is course will make you capable of handling any role or responsibility rel
 ated to mechanical equipment. This will invite greater and better opportun
 ities for career growth and progression.\n\nLearning Objectives\n\n 	detai
 led understanding and knowledge of mechanical equipment\n 	adequate inform
 ation\, confidence and experience to handle any issue or problem related t
 o mechanical equipment during operations\n 	the ability to up skill to suc
 cessfully oversee end-to-end seamless operations at plants\n 	greater unde
 rstanding of inspection schedules and activities and maintenance requireme
 nts to be able to contribute to better and more efficient mechanical equip
 ment and lesser repair costs\n 	the required experience and knowledge to t
 rain other professionals on best practices of handling mechanical equipmen
 t\, to ensure that the life of equipment or safety of employees is not com
 promised\n 	the skill and experience to foresee a challenge about the safe
 ty of mechanical equipment and take timely action to avoid hazards and org
 anizational losses\n 	the required understanding and knowledge of internat
 ional standards for safety and operational adherence\n 	the understanding 
 and awareness to choose the right equipment design as per the desired oper
 ations\, thereby contributing to better operations and organizational grow
 th\n 	the overall skill set and capabilities to work in dynamic roles requ
 iring handling or management of mechanical equipment of any type\n\nTraini
 ng Methodology\n\nTraining courses at Xcelerate Training Institute are des
 igned with scope for customization\, wherever necessary. Before each train
 ing\, the content is closely reviewed and changes are made\, if necessary\
 , to suit the relevant audience. Lectures are conducted by trained\, exper
 ienced professionals from relevant domains.\n\nTo encourage trainee partic
 ipation\, the trainer assigns group projects and tasks. Role-plays and cas
 e study discussions encourage trainees to interact with each other.\n\nBen
 efits for Your Organization\n\n 	Seamless operations involving different m
 echanical equipment by experienced\, trained professionals\n 	Regular equi
 pment inspection and maintenance to aid longevity and prevent wear and tea
 r\n 	Reduced purchase and repair costs because of better-maintained equipm
 ent\n 	Effective prediction of challenges and risks before they occur\, wi
 th timely action to prevent business losses\n 	Increased operational effic
 iency because of better machines working at optimal levels\n 	Organization
 al growth and development because of reduced costs\, greater operational e
 fficiency\, lower risks and increased credibility\n 	Adherence to expected
  standards and benchmarks of safety and operational compliance\n 	Frequent
  and continuous training of personnel working with these machines to ensur
 e that they take care of the machines and do not compromise on safety\n 	A
 ppropriate selection of equipment as per the desired operations\n\nBenefit
 s for You\n\n 	Comprehensive understanding and knowledge of mechanical equ
 ipment\n 	Greater knowledge and information to choose the correct equipmen
 t type and design as per the intended operations\n 	Enhanced capabilities 
 and experience to handle end-to-end operations involving the use of any ty
 pe of mechanical equipment\n 	Increased strategic skills to thoroughly ins
 pect machines to ensure optimal working conditions and predict challenges\
 , thereby addressing risks and preventing organizational loss\n 	Increased
  potential to contribute to organizational growth through better machine m
 aintenance\, reduced costs\, increased safety\, etc.\n 	Greater confidence
  and knowledge to train other professionals on best practices when working
  with mechanical equipment\n 	Increased awareness and understanding of exp
 ected compliance standards to ensure compliance\n 	Increased ability and e
 xperience to promote machine longevity\, thereby ensuring seamless\, succe
 ssful operations\n 	Enhanced capabilities and knowledge to undertake any h
 igher responsibility involving mechanical equipment\, thereby fostering qu
 icker career progression\n\nTarget Audience\n\n 	Engineers and other opera
 tors working directly with mechanical equipment\n 	Managers responsible fo
 r overseeing end-to-end operations involving mechanical equipment\n 	Senio
 r management\, who is responsible for making critical decisions about mach
 ines\, operations\, etc.\n 	Compliance and safety officers responsible for
  quality adherence at required safety benchmarks\n 	Vendors and suppliers 
 of mechanical equipment\n 	Any other professional interested in knowing mo
 re about mechanical equipment\n\nCourse Outline\n\nTypes of Pressure Vesse
 ls\n\n 	Single-wall\n 	Multi-wall\n 	Cladded\n 	Over-lay\n 	High thick\n\n
 Components of Pressure Vessels\n\n 	Shell\n 	Dished end\n 	Nozzle\n 	Man w
 ays\n 	Lugs\n 	Support\n\nDesign Considerations for Pressure Vessels\n\n 	
 Codes\n 	Requirement understanding\n 	Opening mechanism\n\nPressure Vessel
  Operational Requirements and Processes\n\n 	Operating pressure\n 	Fluid c
 onditions\n 	External loads\n 	Transient conditions\n 	Functional requirem
 ents\n\nSafety Tips for Pressure Vessel Operation\n\n 	Maximize awareness\
 n 	Follow safety procedures\n 	Install protective devices\n 	Replace when 
 necessary\n 	Install safety equipment\n\nPressure Vessel Inspection/Mainte
 nance\n\n 	Shut-down inspection\n 	Non-destructive examination\n 	Metallur
 gical examination\n 	Analysis and evaluation\n 	Repair and modification\n 
 	Replacement\n\nPump Design Considerations\n\n 	Rated pressure\n 	Rated sp
 eed\n 	Design displacement\n 	Flow versus pressure curve\n 	Temperature ra
 ting\n 	Case drain pressure\n 	Inlet and outlet line size\n 	Case drain li
 ne size\n 	Recommended inlet pressure\n 	Number of pump pistons\n 	Power r
 equirements\n 	Maximum fluid viscosity\n 	Seals\n 	Filtration requirements
 \n 	Weight\n 	Shaft type\n 	Rotation direction\n 	Mounting\n 	Relief valve
 \n\nMechanical Pump Types and their Operation\n\n 	Positive displacement\n
  	Impulse\n 	Velocity\n 	Gravity\n 	Steam\n 	Valve-less\n\nParameters Regu
 larly Monitored for Centrifugal Pump Maintenance\n\n 	Suction pressure\n 	
 Discharge pressure\n 	Flow\n 	Pump speed\n 	Pump efficiency\n 	Power\n\nFa
 n/Blower Components and their Operation\n\n 	Impeller\n 	Blade\n 	Shroud\n
  	Hub\n 	Housing\n 	Inlet\n 	Outlet\n 	Guide vanes\n\nControl of Fan/Blowe
 r Airflow\n\n 	Speed change by pulley change\n 	Dampers\n 	Inlet guide van
 es\n 	Variable pitch fans\n 	Variable speed drives\n 	Multiple speed drive
 \n 	Disc throttle\n 	Operating fans in parallel\n 	Operating fans in serie
 s\n\nAir Compressor Maintenance\n\n 	Check for oil and air leaks\n 	Check 
 pump oil level\n 	Change pump oil\n 	Check air filter element\n 	Inspect b
 elts\n\nFan/Blower Maintenance\n\n 	Brake horsepower\n 	Fan capacity\n 	Fa
 n rating\n 	Outlet velocity\n 	Static efficiency\n 	Static pressure\n 	Tip
  speed\n 	Total pressure\n\n&nbsp\;
ATTACH;FMTTYPE=image/jpeg:https://x8ti.com/wp-content/uploads/2025/03/Mech
 anical-Equipment-Design-Testing-Installation-Inspection-and-Maintenance.jp
 g
CATEGORIES:Mechanical Engineering
LOCATION:Barcelona Training Courses\, Le Méridien Barcelona Hotel\, Barcel
 ona\, Spain\, Spain
X-APPLE-STRUCTURED-LOCATION;VALUE=URI;X-ADDRESS=Le Méridien Barcelona Hote
 l\, Barcelona\, Spain\, Spain;X-APPLE-RADIUS=100;X-TITLE=Barcelona Trainin
 g Courses:geo:0,0
END:VEVENT
BEGIN:VTIMEZONE
TZID:Europe/Madrid
X-LIC-LOCATION:Europe/Madrid
BEGIN:DAYLIGHT
DTSTART:20260329T030000
TZOFFSETFROM:+0100
TZOFFSETTO:+0200
TZNAME:CEST
END:DAYLIGHT
END:VTIMEZONE
END:VCALENDAR