BEGIN:VCALENDAR
VERSION:2.0
PRODID:-//wp-events-plugin.com//7.2.3.1//EN
BEGIN:VEVENT
UID:67@x8ti.com
DTSTART;TZID=Asia/Riyadh:20261005T090000
DTEND;TZID=Asia/Riyadh:20261016T130000
DTSTAMP:20260227T115916Z
URL:https://x8ti.com/event/mastering-supply-chain-management-5/
SUMMARY:Mastering Supply Chain Management
DESCRIPTION:Course Overview\nSupply chain management is the management of t
 he transferor flow of goods. It includes all processes\, including informa
 tion systems\, involved in the transformation of raw materials to finished
  products. The main objective is to deliver maximum customer value and gai
 n a competitive edge in the market.\n\nSuppliers make conscious efforts to
  set up supply chains that are economical and efficient. What are the prin
 ciples of supply chain management?\n\nSupply chain management principles d
 irect to adjust supply chains as per customer segments and needs\, customi
 ze logistics networks for each segment\, align demand planning across the 
 supply chain\, differentiate the product closer to the customer\, outsourc
 e strategically\, develop information technology to support multi-level de
 cision making and adopt both service and financial metrics.\n\nThis traini
 ng course will empower you with complete understanding and knowledge of th
 e principles and best practices for supply chain management. Through this 
 course\, you will be equipped with all necessary skills to independently a
 nd successfully manage supply chains across any organization or industry\,
  thereby facilitating career growth and progression. This course will help
  you manage any or all processes within the supply chain and contribute to
  overall organizational growth and development.\nObjectives\nThe main obje
 ctive of this Certified Supply Chain Management Professional Course is to 
 empower professionals with—\n\n 	complete knowledge and understanding of
  the principles and best practices of supply chain management\n 	the requi
 red skills to train other professionals on the principles and best practic
 es of supply chain management\n 	the skill to closely review and analyse g
 aps in existing processes and implement changes for performance\n 	the nec
 essary knowledge and skill to devise objective metrics for measuring perfo
 rmance in terms of quality and efficiency\n 	the adequate skill and foresi
 ght to predict all possible risks and address them before they negatively 
 impact organizational growth\n 	the skill and capabilities to increase the
  credibility of the organization through better risk assessment and perfor
 mance\, thereby contributing to organizational success\n 	the knowledge an
 d experience to apply advanced tools and techniques and introduce maximum 
 automation for leaner operations and higher efficiency\n 	the overall skil
 l set\, experience and confidence to undertake higher roles and responsibi
 lities related to supply chain management across any organization or indus
 try\, thus increasing avenues for progression\n\nTraining Methodology\nTra
 ining content is devised to afford customisations as per the professional 
 backgrounds of the training audience. Training is delivered by a highly ex
 perienced professional from the relevant domain\, using audio-visual prese
 ntations. Trainee participation is encouraged through group activities and
  assignments. Role-plays and sample projects help in relating the training
  content to practical scenarios.\nOrganizational Benefits\nBy professional
 s undertaking this Certified Supply Chain Management Professional course\,
  organizations will derive the following benefits:\n\n 	Better management 
 of supply chain processes by trained professionals\n 	Regular training of 
 other professionals regarding best practices for supply chain management\n
  	Frequent audits to identify gaps in existing processes and implement cha
 nges to address these and introduce smarter processes\n 	Application of ad
 vanced tools and techniques for automation as well as smarter\, leaner pro
 cesses\n 	Better risk assessment and management\n 	Increased organizationa
 l credibility because of better risk management and reduced costs\n 	Organ
 izational growth as a result of increased investments from increased credi
 bility\n 	Competitive edge in the market and complete client satisfaction\
 n 	Objective metrics to measure\, track and improve employee performance\n
  	Adherence of supply chain systems and processes to industry standards\n\
 nPersonal Benefits\nProfessionals enrolling for this Certified Supply Chai
 n Management Professional Course will derive the following benefits:\n\n 	
 Detailed understanding and knowledge of principles and best practices for 
 supply chain management\n 	Increased confidence and skill to train other p
 rofessionals on principles and best practices for supply chain management\
 n 	Greater understanding and knowledge to audit existing systems and intro
 duce changes for performance improvement\n 	Increased skill\, knowledge an
 d confidence to work with advanced tools and techniques to introduce leane
 r processes and systems\, thereby demonstrating talent and potential and f
 ostering career growth and progression\n 	Enhanced skill set and capabilit
 ies to successfully undertake any role within supply chain management acro
 ss any organization or industry\, thereby increasing avenues for progressi
 on\n 	Increased understanding and knowledge to devise objective metrics to
  track and improve the performance of employees in the supply chain\n 	Enh
 anced perspective and foresight to predict and analyze risks and take corr
 ective measures to prevent negative impact\n 	Increased skill set and capa
 bility to contribute to organizational credibility and in turn organizatio
 nal growth\n\nWho Should Attend?\n\n 	Senior management of an organization
  who need to understand the importance of training employees for principle
 s and best practices of supply chain management\n 	Employees working in va
 rious processes of the supply chain\, who need to understand best practice
 s to be implemented in these processes\n 	Managers and supervisors of vari
 ous functions of the supply chain responsible for overseeing various funct
 ions of the supply chain\n 	Internal and external auditors responsible for
  checking adherence to industry standards\n 	Quality managers responsible 
 for ensuring quality across all processes of the supply chain\n 	Any other
  professional who would like to know more about the principles and best pr
 actices of supply chain management\n\nCourse Outline\nThe course covers th
 e following areas important to understand principles and best practices of
  supply chain management:\nSupply Chain Management Principles\n\n 	Adapt t
 he supply chain based on the service needs of each customer segment\n 	Cus
 tomize logistics networks for each segment\n 	Align demand planning across
  the supply chain\n 	Differentiate product closer to customer\n 	Outsource
  strategically\n 	Develop information technology supporting multi-level de
 cision-making\n 	Adopt both service and financial metrics\n\nComponents of
  Supply Chain Management\n\n 	Planning\n 	Information\n 	Source\n 	Invento
 ry\n 	Production\n 	Location\n 	Transportation\n 	Return of goods\n\nFunct
 ions of Supply Chain Management\n\n 	Aligning flows\n 	Integrating functio
 ns\n 	Coordinating processes\n 	Designing complex systems\n 	Managing reso
 urces\n\nKey Processes in Supply Chain Management\n\n 	Customer relationsh
 ip management (CRM)\n 	Customer service management\n 	Demand management\n 
 	Order fulfillment\n 	Manufacturing flow management\n 	Supplier relationsh
 ip management\n 	Product development\n 	Commercialization and return manag
 ement\n\nImportance of Supply Chain Management\n\n 	Boost customer service
 \n 	Decrease purchasing costs\n 	Decrease production costs\n 	Decrease tot
 al supply chain costs\n 	Increase profit leverage\n 	Decrease fixed assets
 \n 	Increase cash flow\n\nSocietal Role of Supply Chain Management\n\n 	En
 sure human survival\n 	Improve the quality of life\n 	Protect cultural fre
 edom and development\n\nBest Practices in Supply Chain Management\n\n 	Inc
 rease inventory velocity\n 	Implement lean logistics\n 	Improve supplier p
 erformance\n 	Compress cycle time\n 	Maximize inventory yield\n 	Utilize m
 eaningful metrics\n 	Segment the supply chain\n 	Employ supply chain techn
 ology\n\nAdvantages of Supply Chain Management Software\n\n 	Control and r
 educe costs\n 	Allay risks\n 	Improve customer service\n 	Help with foreca
 sting and decision-making\n 	Automate major processes\n 	Improve inventory
  management\n 	Improve on-time delivery\n 	Improve responsiveness to unfor
 eseen events\n 	Provide management reporting\n 	Support collaboration/comm
 unication between partners\, suppliers\, etc\n\nDisadvantages of Supply Ch
 ain Management\n\n 	Expensive\n 	Difficult to integrate\n 	Specialized tal
 ent requirement\n\nChallenges to Supply Chain Management\n\n 	Globalizatio
 n\n 	Fast-changing markets\n 	Quality and compliance\n 	Cost control\n 	Pl
 anning and risk management\n 	Supplier/partner relationship management\n
ATTACH;FMTTYPE=image/jpeg:https://x8ti.com/wp-content/uploads/2024/08/SSCB
 .png
CATEGORIES:Procurement, Logistics and Supply Chain Management
LOCATION:http://Online
END:VEVENT
BEGIN:VTIMEZONE
TZID:Asia/Riyadh
X-LIC-LOCATION:Asia/Riyadh
BEGIN:STANDARD
DTSTART:20251005T090000
TZOFFSETFROM:+0300
TZOFFSETTO:+0300
TZNAME:+03
END:STANDARD
END:VTIMEZONE
END:VCALENDAR