BEGIN:VCALENDAR
VERSION:2.0
PRODID:-//wp-events-plugin.com//7.2.3.1//EN
BEGIN:VEVENT
UID:2263@x8ti.com
DTSTART;TZID=Europe/Istanbul:20260323T090000
DTEND;TZID=Europe/Istanbul:20260327T130000
DTSTAMP:20260214T203505Z
URL:https://x8ti.com/event/marine-shipyard-welding-and-fabrication-trainin
 g-course/
SUMMARY:Marine Shipyard Welding and Fabrication Training Course
DESCRIPTION:Introduction\n\nIn today’s times of reduced manual labor onbo
 ard vessels coupled with the increasing challenges to perform maintenance 
 tasks of equipment under tight schedules\, the staff that occupies a ship 
 must be trained in the required skills to carry out safe\, efficient\, and
  quick repair of cracked\, damaged or leaking plates and pipes.\n\nWhy are
  there so many requirements for the marine industry and how does this “M
 arine Shipyard Welding and Fabrication Certification” course contribute 
 to those? Marine welding roles require a vast array of skills and training
  due to the safety considerations involved in the marine industry. Failure
  to keep your work up to standards can not only result in monetary penalti
 es but also jeopardize the workers and anyone else whose work depends on t
 he structural integrity of the vessels and equipment that they operate wit
 h. This program acquaints its participants with the relevant safety precau
 tions to be observed\, the requisite knowledge of the various welding equi
 pment\, and processes. It also identifies proper electrode and welding par
 ameters for selection\, and the practical skills required to execute vario
 us repair jobs on plates and pipes.\n\nThis Xcelerate Training Institute c
 ourse will empower you with the importance of attention to detail\, stamin
 a\, and a high degree of technical skill when it comes to marine shipyard 
 welding and fabrication.\n\nLearning Objectives\n\n 	Understand the perfor
 mance and functioning of different types of welding equipment and their wo
 rking principles\n 	Attain advanced skills in gas cutting techniques\n 	Re
 cognize the dangers and observe the relevant safety precautions while perf
 orming hot work\n 	Acquire the necessary skill to make acceptable weld joi
 nts on steel and nonferrous plates and pipes with both\, gas\, and arc wel
 ding in different positions\n 	Gain the knowledge of correct welding elect
 rodes and filler rod selection and parameter settings based on the materia
 l to be welded\n 	Acquire the skills in brazing using filler rods such as 
 silver and bronze\n 	Develop the skill to be able to weld various metals s
 uch as steel\, stainless steel\, cast iron\, and aluminum\n 	Familiarize t
 hemselves with the TIG and MIG welding processes and plasma cutting\n\nTra
 ining Methodology\n\n 	Lectures\n 	Videos\n 	Seminars &amp\; Presentations
 \n 	Group Discussions\n 	Assignments\n 	Case Studies &amp\; Functional Exe
 rcises\n\nBenefits for Your Organization\n\n 	Benefit from training your e
 mployees on the definition and importance of mechanical information\, alon
 g with the different roles played within the Marine Shipyard Welding and F
 abrication guidelines\n 	Document your Marine Shipyard Welding and Fabrica
 tion information systematically and efficiently\n 	Improve productivity by
  teaching your staff about the Marine Shipyard Welding and Fabrication wor
 k process and how it fits into the overall organizational work processes\n
  	Achieve improved Marine Shipyard Welding and Fabrication\, higher employ
 ee morale\, increased productivity\, and reduced costs of damage control\n
  	Assess your Marine Shipyard Welding and Fabrication rating by evaluating
  its effectiveness to reduce injuries and illnesses and identifying and el
 iminating workplace hazards\n 	Reduce the damages caused by inadequate Mar
 ine Shipyard Welding and Fabrication processes\n\nBenefits for You\n\n 	Ma
 ster the knowledge and techniques to see the future of an effective Marine
  Shipyard Welding and Fabrication process\n 	Learn how to do a good job wi
 th your machines and why it is important to do so\n 	Learn tips\, tricks\,
  and concepts to help you succeed as a mechanical analyst\n 	Make a valuab
 le contribution to your organization by being in a position to determine i
 f you should implement a program at your site\, or better understand an ex
 isting program\n 	Get an opportunity to work through hands-on exercises in
  detail to gain the skills needed to facilitate a Marine Shipyard Welding 
 and Fabrication study\n 	Gain the skills to plan\, manage\, facilitate\, a
 nd scribe for a Marine Shipyard Welding and Fabrication project\n\nTarget 
 Audience\n\n 	Ships Fitters\n 	Pump men\n 	Shipyard Welder\n 	Repair team 
 members\n 	Marine Technicians\n 	Marine Engineers\n 	Marine Crew\n\nCourse
  Outline\n\nMATERIAL TYPES AND CASTING DISCONTINUITIES\n\n 	Characteristic
 s of steel\, castings\, and forgings\n 	Types of discontinuities\n 	ABS re
 quirements for steel\, castings\, and forgings\n\nMATERIAL PROPERTIES\, CH
 ARACTERISTICS\, AND TESTS\n\n 	Material property testing:\n 	Tensile\n 	Ha
 rdness\n 	Weld soundness testing:\n 	Bend\n 	Fillet break\n 	Nick break\n 
 	Toughness\n 	Fatigue\n\nBASIC WELDING METALLURGY\n\n 	The grain structure
  of steel\n 	Grain size and properties\n 	Cooling rates and structural pro
 perties\n 	Pre-heating and cooling\n 	Thermal stress relief\n 	Heat treatm
 ent methods\n\nWELD JOINT GEOMETRY AND WELDING TERMINOLOGY\n\n 	Overview o
 f basic weld joints\n 	Weld joint parts and preparation\n 	Explanation of 
 types of welds:\n 	Groove\n 	Fillet\n 	Spot/Seam\n 	Plug/Slot\n 	Surfacing
 \n 	Back\n 	Backing\n 	Weld application terminology\n\nWELD SYMBOL TYPES A
 ND TEST SYMBOL TYPES\n\n 	Weld symbols\n 	Test symbols\n 	Supplementary sy
 mbols\n\nWELDING PROCESSES\n\n 	Shielded metal arc welding\n 	Gas metal ar
 c welding\n 	Safety precautions in gas and arc welding\n 	Gas and arc weld
 ing gear and attachments\n 	Gas and arc welding processes\n 	Flux core arc
  welding\n 	Submerged arc welding\n 	Gas tungsten arc welding\n 	Joint pre
 paration\n 	Brazing and cutting processes\n\nWELDING DISCONTINUITIES AND R
 EPAIRS\n\n 	Surface discontinuities\n 	Surface discontinuity weld repairs\
 n 	Weld root discontinuities\n 	Root discontinuity weld repairs\n 	Interna
 l discontinuities\n 	Internal discontinuity weld repairs\n 	Cracking and c
 racking repairs\n\nWELDING PROCEDURE QUALIFICATION\n\n 	Welder qualificati
 on documents\n 	Required and optional tests to be carried out\n\nWELDER PE
 RFORMANCE QUALIFICATION\n\n 	Welder qualification assessment criteria\n 	M
 onitoring production welding\n\nWELDING STRESS CONTROL\n\n 	Heating and co
 oling consequences on welding stresses\n 	Methods of controlling welding s
 tress\n 	Weld stress correction techniques\n 	Welding sequence best practi
 ces\n\nPIPING DRAWINGS\n\n 	Fabrication\n 	Welding and testing\n 	Installa
 tion and repair\n\n&nbsp\;
ATTACH;FMTTYPE=image/jpeg:https://x8ti.com/wp-content/uploads/2025/03/Mari
 ne-Shipyard-Welding-and-Fabrication-Training-Course.jpg
CATEGORIES:Mechanical Engineering
LOCATION:http://online
END:VEVENT
BEGIN:VTIMEZONE
TZID:Europe/Istanbul
X-LIC-LOCATION:Europe/Istanbul
BEGIN:STANDARD
DTSTART:20250323T090000
TZOFFSETFROM:+0300
TZOFFSETTO:+0300
TZNAME:+03
END:STANDARD
END:VTIMEZONE
END:VCALENDAR