BEGIN:VCALENDAR
VERSION:2.0
PRODID:-//wp-events-plugin.com//7.2.3.1//EN
BEGIN:VEVENT
UID:1922@x8ti.com
DTSTART;TZID=Asia/Riyadh:20260921T090000
DTEND;TZID=Asia/Riyadh:20260925T130000
DTSTAMP:20260202T234245Z
URL:https://x8ti.com/event/lte-epc-architecture-training-6/
SUMMARY:LTE EPC Architecture Training
DESCRIPTION:Introduction\nThis course by xcelerate Training Institute offer
 s an in-depth exploration of LTE technology\, emphasizing its role in driv
 ing the evolution of mobile networks. It delves into the key features and 
 benefits of LTE\, providing insights into its potential to transform the t
 elecommunications industry. The course is designed to equip participants w
 ith a comprehensive understanding of LTE's architecture\, performance\, an
 d deployment strategies.\nLearning Objectives\nUpon completion\, participa
 nts will gain a solid understanding of LTE technology\, its architecture\,
  and key performance indicators. They will be able to evaluate LTE deploym
 ent options and identify opportunities for network optimization.\nTraining
  Methodology\nThe course combines theoretical knowledge with practical exa
 mples to provide a comprehensive learning experience. Participants will en
 gage in interactive discussions\, case studies\, and hands-on activities t
 o apply their knowledge.\nBenefits for Your Organization\nOrganizations in
 vesting in this course can expect improved network performance\, enhanced 
 customer experience\, and increased revenue through efficient LTE deployme
 nt.\nBenefits for You\nIndividuals will develop expertise in LTE technolog
 y\, expanding their career opportunities in the telecommunications industr
 y.\nTarget Audience\nThis course is designed for engineers\, network plann
 ers\, and business professionals involved in the planning\, design\, and o
 peration of LTE networks.\nCourse Outline\nIntroduction to LTE and EPC\n\n
  	\nOverview of LTE\n\n 	Introduction to LTE technology and its evolution\
 n 	Key features and benefits of LTE\n 	Overview of LTE network components\
 n\n\n 	\nUnderstanding EPC Architecture\n\n 	Introduction to the Evolved P
 acket Core (EPC)\n 	EPC components: MME\, SGW\, PGW\, HSS\n 	Functional ro
 les of each component in the EPC\n\n\n\nKey EPC Components\n\n 	\nMobility
  Management Entity (MME)\n\n 	Functions of the MME in LTE networks\n 	User
  plane vs. control plane signaling\n 	Interaction with other EPC component
 s\n\n\n 	\nServing Gateway (SGW) and Packet Data Network Gateway (PGW)\n\n
  	Roles of SGW and PGW in data forwarding\n 	Handling of user data and ses
 sions\n 	Policy and charging rules in PGW\n\n\n\nUser Data and Management\
 n\n 	\nHome Subscriber Server (HSS)\n\n 	Overview of HSS and its importanc
 e\n 	User profiles and authentication processes\n 	Role of HSS in mobility
  management\n\n\n 	\nQuality of Service (QoS) in EPC\n\n 	Understanding Qo
 S parameters and policies\n 	Implementation of QoS in LTE networks\n 	Tech
 niques for ensuring service quality\n\n\n\nSecurity and Future Trends\n\n 
 	\nSecurity in EPC\n\n 	Security architecture of the EPC\n 	Authentication
  and encryption mechanisms\n 	Challenges and solutions for securing EPC\n\
 n\n 	\nFuture Trends in EPC Architecture\n\n 	Evolving EPC towards 5G Core
 \n 	Integration with SDN and NFV\n 	Future challenges and opportunities in
  EPC\n\n\n\n&nbsp\;
ATTACH;FMTTYPE=image/jpeg:https://x8ti.com/wp-content/uploads/2024/10/IMG-
 20241019-WA0141.jpg
CATEGORIES:Telecommunication
LOCATION:http://online
END:VEVENT
BEGIN:VTIMEZONE
TZID:Asia/Riyadh
X-LIC-LOCATION:Asia/Riyadh
BEGIN:STANDARD
DTSTART:20250921T090000
TZOFFSETFROM:+0300
TZOFFSETTO:+0300
TZNAME:+03
END:STANDARD
END:VTIMEZONE
END:VCALENDAR