BEGIN:VCALENDAR
VERSION:2.0
PRODID:-//wp-events-plugin.com//7.2.3.1//EN
BEGIN:VEVENT
UID:509@x8ti.com
DTSTART;TZID=Africa/Casablanca:20250616T090000
DTEND;TZID=Africa/Casablanca:20250620T130000
DTSTAMP:20241027T105643Z
URL:https://x8ti.com/event/lte-broadcast-embmscmasetwssib-3/
SUMMARY:LTE Broadcast ((eMBMS)(CMAS)(ETWS)(SIB))
DESCRIPTION:Introdction\nThis course by Xcelerate Training Institute explor
 es the integration of broadcast services with LTE networks. It examines th
 e potential of LTE to deliver high-quality video streaming and other broad
 cast content. The course provides a comprehensive understanding of the tec
 hnologies and strategies involved in implementing broadcast services over 
 LTE networks.\nLearning Objectives\nUpon completion\, participants will ga
 in a solid understanding of broadcast services over LTE\, including networ
 k architecture\, key technologies\, and performance metrics. They will be 
 able to evaluate the feasibility of implementing broadcast services and de
 velop strategies for network optimization.\nTraining Methodology\nThe cour
 se combines theoretical knowledge with practical examples to provide a com
 prehensive learning experience. Participants will engage in interactive di
 scussions\, case studies\, and hands-on activities to apply their knowledg
 e.\nBenefits for Your Organization\nOrganizations investing in this course
  can expect improved network performance\, enhanced customer experience\, 
 and increased revenue through the successful delivery of broadcast service
 s over LTE networks.\nBenefits for You\nIndividuals will develop expertise
  in broadcast services over LTE\, expanding their career opportunities in 
 the telecommunications industry.\nTarget Audience\nThis course is designed
  for engineers\, network planners\, and business professionals involved in
  the planning\, design\, and operation of LTE networks\, as well as those 
 in the broadcast industry.\nCourse Outline\nIntroduction to LTE Broadcast\
 n\n 	\nOverview of LTE and Broadcast Technologies\n\n 	LTE architecture fu
 ndamentals\n 	Differences between unicast and broadcast\n 	Introduction to
  eMBMS\, CMAS\, ETWS\, and SIB\n\n\n 	\neMBMS (Evolved Multimedia Broadcas
 t Multicast Service)\n\n 	eMBMS architecture and key components\n 	Feature
 s and benefits of eMBMS\n 	Use cases and applications in broadcasting\n\n\
 n\nEmergency Alert Systems\n\n 	\nCMAS (Commercial Mobile Alert System)\n\
 n 	Overview and purpose of CMAS\n 	Technical specifications and implementa
 tion processes\n 	Regulatory requirements and compliance considerations\n\
 n\n 	\nETWS (Emergency Telecommunications Warning System)\n\n 	Functions a
 nd importance of ETWS\n 	Message types and delivery mechanisms\n 	Integrat
 ion with existing emergency services\n\n\n\nSystem Information Blocks and 
 Configuration\n\n 	\nSIB (System Information Blocks)\n\n 	Introduction to 
 SIBs in LTE\n 	Types of SIBs and their specific functions\n 	Role of SIBs 
 in supporting broadcast services\n\n\n 	\nConfiguration and Management of 
 Broadcast Services\n\n 	Key configuration parameters for eMBMS\, CMAS\, an
 d ETWS\n 	Tools for managing and optimizing broadcast services\n 	Monitori
 ng techniques for performance assessment\n\n\n\nImplementation and Future 
 Trends\n\n 	\nImplementing LTE Broadcast Solutions\n\n 	Steps to effective
 ly deploy eMBMS and related services\n 	Interworking with existing network
  infrastructure\n 	Case studies of successful LTE Broadcast implementation
 s\n\n\n 	\nFuture Trends and Challenges in LTE Broadcast\n\n 	Emerging tec
 hnologies and standards in LTE Broadcast\n 	Challenges faced during deploy
 ment and operation\n 	Future outlook: LTE Broadcast in 5G and beyond\n\n\n
 \n&nbsp\;
ATTACH;FMTTYPE=image/jpeg:https://x8ti.com/wp-content/uploads/2024/10/IMG-
 20241019-WA0127.jpg
CATEGORIES:Telecommunication
LOCATION:Casablanca Training Courses\, Four Seasons Hotel Casablanca\, Casa
 blanca\, Morrocco\, Morocco
X-APPLE-STRUCTURED-LOCATION;VALUE=URI;X-ADDRESS=Four Seasons Hotel Casablan
 ca\, Casablanca\, Morrocco\, Morocco;X-APPLE-RADIUS=100;X-TITLE=Casablanca
  Training Courses:geo:0,0
END:VEVENT
BEGIN:VTIMEZONE
TZID:Africa/Casablanca
X-LIC-LOCATION:Africa/Casablanca
BEGIN:STANDARD
DTSTART:20250406T030000
TZOFFSETFROM:+0000
TZOFFSETTO:+0100
TZNAME:+01
END:STANDARD
END:VTIMEZONE
END:VCALENDAR