BEGIN:VCALENDAR
VERSION:2.0
PRODID:-//wp-events-plugin.com//7.2.3.1//EN
BEGIN:VEVENT
UID:605@x8ti.com
DTSTART;TZID=America/Toronto:20260817T090000
DTEND;TZID=America/Toronto:20260821T130000
DTSTAMP:20260216T163005Z
URL:https://x8ti.com/event/leed-green-associate-exam-preparation-4/
SUMMARY:LEED® Green Associate Exam Preparation
DESCRIPTION:Introduction\n\nThe Leaders in Energy and Environmental Design 
 exam preparation course is an extremely useful training course. It aims at
  introducing and helping participants to have the necessary skills and exp
 ertise to become internationally recognized and accredited professionals.\
 n\nThe certificate that participants will earn from undertaking the LEED®
  exam will signify that they are leaders in the energy and environment des
 ign. They are part of the active players and movement that is in the green
  revolution. The new job markets appreciate LEED® credentials because the
 y signify that one is committed to professional growth. This course will g
 uide the participants in acquiring this exam certificate. It will also gui
 de them to field expertise and knowledge to achieve the necessary and requ
 ired green principles.\n\nWritten and delivered with proven strategies and
  methods to pass the LEED® exam\, this course is an ideal guide to prepar
 ing and grasping the LEED® Green Associate exam. This Xcelerate Training 
 Institute course will engage the participants by breaking and explaining t
 he complex LEED® exam concepts to a clear and well-organized straightforw
 ard guide. In this Zoe course\, a thorough review and revision of previous
  papers and questions with useful study tips are used. This helps to reinf
 orce the learning materials by using an easy and accessible technique that
  will foster faster understanding.\n\nLearning Objectives\n\nThe main obje
 ctive of this course is to guide the participants effectively to successfu
 lly become LEED® professionals by guaranteeing they pass the LEED® exam.
 \n\nThe course will help the participants learn the following:\n\n 	How to
  prepare and be ready to undertake the LEED® green associate examination\
 n 	How to develop solutions to the existing challenges in the market\n 	To
  have a deeper understanding and attain LEED® requirements\n 	Implement t
 he best practices to achieve LEED® credentials in any project\n\nTraining
  Methodology\n\nThe course will utilize several deliveries means such as s
 yndicate discussion and individual and group exercises. It will be facilit
 ated by expert professionals who have vast experience in teaching and help
 ing participants pass the LEED® exam. Past examination questions will als
 o be used.\n\nHere is a quick list of some of the necessary tools that wil
 l be used:\n\n 	Charts.\n 	Past questions.\n 	Sample questions on flashcar
 ds.\n 	Diagrams for illustrations.\n 	Enhanced drawings.\n 	Summaries ever
 y aspect of the LEED® exam.\n\nParticipants are highly encouraged to be a
 ctive and engaging during presentations to ensure they utilize the benefit
 s of this course fully. Like all our acclaimed courses\, this program also
  follows the ‘Do-Review-Learn-Apply’ model.\n\nBenefits For Your Organ
 ization\n\nAny organization that will have professionals who have undergon
 e this course will benefit greatly in the following ways\n\n 	Enhance the 
 organization's credibility and improve performance\n 	Find the best soluti
 on for all the green buildings’ challenges\n 	Have continuous and regula
 r training of other employees because of directly working alongside indust
 ry experienced professionals\n 	Develop designs and construction activitie
 s that are guided by the best practice\n 	Enhance the organization's marke
 t\n 	Achieve LEED® certification for any project\n\nBenefits For You\n\nB
 y attending this well-developed course\, the participants will gain an adv
 anced understanding of the following:\n\n 	How to design LEED® projects\n
  	LEED® Green Association Examination setting style\n 	How to change the 
 old concepts of green building\n 	The integrative process\n\nTarget Audien
 ce\n\nThis course will guide the participants on how to pass the LEED® ex
 amination\, which trains participants on how to improve and obtain a bette
 r green-themed life Therefore\, it is important to everyone\, but the foll
 owing range of professionals will benefit from it greatly:\n\n 	Real estat
 e developers\n 	Facility managers\n 	Contractors\n 	Product and building s
 ystem manufacturers\n 	Interior designers\, architects\, designers\, and e
 ngineers\n 	Government agencies\n 	Utility managers\n 	Decision makers in 
 see the huge benefits of LEED®\n 	Landscape planners\n 	Building owners o
 r representatives\n\nCourse Outline\n\nWater Efficiency\n\n 	Water recycli
 ng\n 	Outdoor water conservation strategies\n 	Process water techniques\n 
 	Indoor water processing methods\n 	Water usage reduction measures\n 	Wate
 r reusing\n\nLEED® in Green Buildings\n\n 	USGBC policies\n 	LEED® benef
 its\n 	Project certification\n 	LEED® minimum rating techniques\n 	Projec
 t resources\n 	Defining Green buildings\n\nIndoor Environment Quality Usin
 g Different Materials and Resources\n\n 	Increase occupant comfort\n 	Envi
 ronmentally preferable materials\n 	Waste management\n 	Improve ventilatio
 n\n 	Conservation of materials and waste management\n 	Source control\n 	S
 ustainable purchasing\n\nSustainable Sites Location and Transportation\n\n
  	Site assessment\n 	Heat Island effect\n 	Transportation Site design\n 	S
 ite management\n 	Project location\n 	Rainwater management\n 	Neighborhood
  pattern and design\n\nAtmosphere and Energy\n\n 	Ongoing performance\n 	E
 nergy efficiency\n 	How to effectively utilize renewable energy\n 	Refrige
 rants and their devastating effects on the environment\n 	How to handle ex
 isting buildings\n\nSustainable Design Concepts\n\n 	Introduction to the m
 ain concepts of sustainable design and the process\n 	Do green buildings c
 ost more than normal buildings?\n 	What are the main concepts and benefits
  of green buildings?\n 	The construction and design process for green buil
 dings\n 	What are the roles of GBCI (Green Building Certification Institut
 e)?\n 	What are the roles of USGBC (US Green Building Council)?\n 	How do 
 both GBCI and USGBC operate?\n 	What are the main policies of USGBC and LE
 ED?\n\nThe Credential Process\n\n 	Registering\n 	The best tiers of the cr
 edentialing process\n 	How to apply\n 	Scheduling for the exam\n 	Why shou
 ld you be interested in LEED credentials?\n\nThird-Party Verification\n\n 
 	USBC and the GBCI\n 	Understanding LEED\n\n 	Credit weighting\n 	The LEED
  rating systems\n 	Prerequisites and credits\n 	Various LEED categories\n\
 n\n\n\n 	Commissioning\n\nResources and Materials\n\n 	The life-cycle impa
 cts of building materials\n 	How to effectively manage construction waste\
 n 	Sustaining construction operations\n\n&nbsp\;
ATTACH;FMTTYPE=image/jpeg:https://x8ti.com/wp-content/uploads/2024/11/What
 sApp-Image-2024-10-25-at-9.27.44-AM4.jpeg
CATEGORIES:Construction Management &amp; Civil Engineering
LOCATION:Boston Training Courses\, Boston Harbor Hotel\, Boston\, USA\, Uni
 ted States
X-APPLE-STRUCTURED-LOCATION;VALUE=URI;X-ADDRESS=Boston Harbor Hotel\, Bosto
 n\, USA\, United States;X-APPLE-RADIUS=100;X-TITLE=Boston Training Courses
 :geo:0,0
END:VEVENT
BEGIN:VTIMEZONE
TZID:America/Toronto
X-LIC-LOCATION:America/Toronto
BEGIN:DAYLIGHT
DTSTART:20260308T030000
TZOFFSETFROM:-0500
TZOFFSETTO:-0400
TZNAME:EDT
END:DAYLIGHT
END:VTIMEZONE
END:VCALENDAR