BEGIN:VCALENDAR
VERSION:2.0
PRODID:-//wp-events-plugin.com//7.2.3.1//EN
BEGIN:VEVENT
UID:1395@x8ti.com
DTSTART;TZID=Europe/Paris:20261123T090000
DTEND;TZID=Europe/Paris:20261125T130000
DTSTAMP:20260205T172731Z
URL:https://x8ti.com/event/inclusive-leadership-training-course-5/
SUMMARY:Inclusive Leadership Training Course
DESCRIPTION:Introduction:\nThis Inclusive Leadership training program focus
 es on developing leaders who can build and sustain inclusive teams by reco
 gnizing diverse talents and fostering a sense of belonging. Over three day
 s\, participants will engage in immersive sessions combining theoretical i
 nsights with practical applications\, guided by the expertise of the Xcele
 rate Training Institute’s seasoned facilitators. With a blend of dynamic
  workshops\, peer collaboration\, and actionable strategies\, this program
  equips leaders to create truly inclusive environments that drive organiza
 tional success.\nTraining Objectives:\n\n 	Learn the principles of inclusi
 ve leadership: Understand what it means to be an inclusive leader and its 
 importance in today’s organizational context.\n 	Understand the role of 
 leaders in promoting diversity and equity: Explore the responsibilities of
  leadership in driving diversity\, equity\, and inclusion initiatives.\n 	
 Develop strategies for creating an inclusive team environment: Gain practi
 cal tools to foster collaboration and belonging.\n\nTraining Methodologies
 :\n\n 	Leadership case studies and group discussions.\n 	Self-assessment a
 nd peer feedback activities.\n 	Leadership simulations\, role plays\, and 
 action plan development.\n 	Guest speakers or panel discussions with DEI e
 xperts.\n 	Interactive workshops and breakout group exercises.\n\nPersonal
  Benefits:\n\n 	Enhanced leadership capabilities to effectively manage and
  inspire diverse teams.\n 	Improved ability to identify and reduce biases\
 , creating a culture of fairness and respect.\n 	Increased confidence in i
 mplementing inclusion strategies.\n\nOrganizational Benefits:\n\n 	Increas
 ed employee engagement and retention through inclusive practices.\n 	Enhan
 ced team performance and innovation driven by diverse perspectives.\n 	Str
 engthened organizational culture aligned with DEI values.\n\nTarget Audien
 ce:\nManagers\, team leaders\, and executives across industries who are co
 mmitted to fostering diversity and inclusion within their teams.\nCourse O
 utline:\nFoundations of Inclusive Leadership\nUnderstanding Inclusive Lead
 ership\n\n 	\n\n 	Definition and key traits of inclusive leaders.\n 	The b
 usiness case for diversity and inclusion.\n 	Leadership self-assessment: I
 dentifying your inclusion strengths and areas for growth.\n\n\n\nRecognizi
 ng Bias\n\n 	\n\n 	Exploring unconscious biases and their impact on decisi
 on-making.\n 	Tools for recognizing and addressing personal and systemic b
 iases.\n 	Interactive bias simulation exercise.\n\n\n\nBuilding Inclusive 
 Teams\nFostering a Sense of Belonging\n\n 	\n\n 	The importance of psychol
 ogical safety in teams.\n 	Strategies to create a welcoming environment fo
 r all team members.\n 	Group exercise: Designing inclusive team-building a
 ctivities.\n\n\n\nPromoting Equity in Leadership\n\n 	\n\n 	Identifying ba
 rriers to equity in organizational processes.\n 	Practical tools to ensure
  fairness in hiring\, promotions\, and team dynamics.\n 	Case study analys
 is: Successful equity initiatives.\n\n\n\nSustaining Inclusive Leadership 
 Practices\nLeading by Example\n\n 	\n\n 	The role of authentic leadership 
 in driving inclusion.\n 	Storytelling as a tool to inspire inclusivity.\n 
 	Peer feedback: Leadership scenarios and solutions.\n\n\n\nAction Planning
  for Inclusion\n\n 	\n\n 	Developing a personal leadership action plan.\n 
 	Setting measurable inclusion goals.\n 	Interactive panel with DEI experts
  for final insights and Q&amp\;A.\n\n\n\nCommitment to Inclusive Leadershi
 p\n\n 	\n\n 	Reflection on key learnings.\n 	Sharing action plans with pee
 rs for accountability.\n 	Certification ceremony and group photo.\n\n\n\nA
 dditional Notes:\n\n 	Pre-training survey to tailor sessions to participan
 ts’ needs.\n 	Post-training follow-up: Virtual group check-in after 1 mo
 nth to discuss progress and challenges.\n
ATTACH;FMTTYPE=image/jpeg:https://x8ti.com/wp-content/uploads/2024/12/IL.p
 ng
CATEGORIES:Diversity, Equity, and Inclusion (DEI)
LOCATION:Geneva Training Courses\, Hotel d'Angleterre Geneva\, Geneva\, Swi
 tzerland\, Switzerland
X-APPLE-STRUCTURED-LOCATION;VALUE=URI;X-ADDRESS=Hotel d'Angleterre Geneva\,
  Geneva\, Switzerland\, Switzerland;X-APPLE-RADIUS=100;X-TITLE=Geneva Trai
 ning Courses:geo:0,0
END:VEVENT
BEGIN:VTIMEZONE
TZID:Europe/Paris
X-LIC-LOCATION:Europe/Paris
BEGIN:STANDARD
DTSTART:20261025T020000
TZOFFSETFROM:+0200
TZOFFSETTO:+0100
TZNAME:CET
END:STANDARD
END:VTIMEZONE
END:VCALENDAR