BEGIN:VCALENDAR
VERSION:2.0
PRODID:-//wp-events-plugin.com//7.2.3.1//EN
BEGIN:VEVENT
UID:2241@x8ti.com
DTSTART;TZID=Europe/Amsterdam:20260803T090000
DTEND;TZID=Europe/Amsterdam:20260807T130000
DTSTAMP:20260215T094927Z
URL:https://x8ti.com/event/hydraulic-system-training-course-4/
SUMMARY:Hydraulic System Training Course
DESCRIPTION:Introduction\n\nHydraulic systems come with some in-built safet
 y hazards\, but if workers are aware of these dangers and understand how t
 o reduce or prevent them\, many of these mishaps can be prevented.\n\nThis
  course focuses on the safety\, maintenance\, and troubleshooting aspects 
 of hydraulic systems along with its basics. It also discusses preventive a
 nd planned mechanical maintenance\, specific repair/replacement recommenda
 tions\, system diagnosis\, and other troubleshooting operations that can b
 e implemented to prevent accidents and operate hydraulic systems efficient
 ly.\n\nWhat will this “Hydraulic System Course” encompass? This course
  will provide you with a detailed understanding of hydraulic principles in
  mechanical maintenance\, along with the different types of hydraulic flui
 ds and their features. The program will also allow you to learn the compon
 ents of hydraulic systems and their filters\, strainers\, pumps\, piping\,
  tubing\, reservoirs\, accumulators\, hoses\, relief valves\, control valv
 es\, and other such essential mechanisms.\n\nThis Xcelerate Training Insti
 tute course will provide you with comprehensive and professional experienc
 e to understand the operation of hydraulic system\, including its design\,
  application\, and troubleshooting factors.\n\nLearning Objectives\n\n 	Le
 arn the basic structure of hydraulic systems\n 	Identify common hazards as
 sociated with the hydraulic systems and equipment in the workplace\n 	Defi
 ne proper standards of operations and procedures for working with various 
 hydraulic components\n 	Ascertain the safety procedures that must be follo
 wed when operating or maintaining a hydraulic system\n 	List the factors t
 hat determine when and how proactive maintenance tasks should be performed
 \n 	Identify the tests that should be part of a preventative maintenance p
 rogram\n 	Understand the function and structure of select hydraulic compon
 ents\n 	Gain the knowledge to optimize hydraulic circuit design with the u
 se of diagrams\n 	Study how to efficiently work with technical documentati
 on\n 	Use hydraulic systems effectively in daily planning at the workplace
 \n 	Recognize the criteria for planning and designing hydraulic systems\n\
 nTraining Methodology\n\n 	Lectures\n 	Seminars &amp\; Presentations\n 	Gr
 oup Discussions\n 	Assignments\n 	Case Studies &amp\; Functional Exercises
 \n\nBenefits for Your Organization\n\n 	Benefit from training your employe
 es on the definition and importance of mechanical information\, along with
  the different roles played within the Hydraulic System guidelines\n 	Lear
 n and apply standards in equipment identification\, equipment design featu
 res analysis\, equipment performance calculations\, safe operation and mon
 itoring of equipment\, and equipment maintenance\n 	Delegates will be able
  to apply the gained knowledge through this course and practice skills and
  that will impact their respective companies\n 	Maintain better organizati
 onal safety records\n\nBenefits for You\n\n 	Improve your career opportuni
 ties and increase your ability to work across worldwide industries like oi
 l and gas\, automobile\, production\, construction\, aeronautics\, etc.\n 
 	Secure a relevant job anywhere in the world with the right knowledge in H
 ydraulic Systems\n 	Get promoted in your current job in the Hydraulic Syst
 em field\n 	Acquire the professional skills and knowledge required to acco
 mplish your tasks with optimal competence and accuracy\n 	Master the knowl
 edge and techniques to see the future of an effective Hydraulic System pro
 cess\n 	Discover how to work well with your machines and the risks of not 
 being able to operate them accurately\n 	Contribute to your organization b
 y being knowledgeable enough to determine the need for a program/process a
 t your workplace or understand an existing program better\n 	Get an opport
 unity to work through hands-on exercises in detail to gain the skills need
 ed to facilitate a Hydraulic System study\n 	Gain the skills to plan\, man
 age\, facilitate\, and scribe for a Hydraulic System project\n\nTarget Aud
 ience\n\n 	Mechanics\n 	Fresh Graduates\n 	Operators\n 	Service Technician
 s\n 	Programmers\n 	Planners/Application Engineers\,\n 	Managers\n 	Techni
 cal Trainers\n 	Those who are seeking a career change related to Hydraulic
  Systems\n 	Engineers who deal with equipment that is hydraulically operat
 ed\n\nCourse Outline\n\nIntroduction to Hydraulic Systems\n\n 	Fluid Power
  and Its Scope\n 	Hydraulic Fluids Characteristics\n 	Hydraulic and Pneuma
 tic System\n 	Applications of Hydraulic Systems\n\n Hydraulic System Comp
 onents\n\n 	Hydraulic System Basic Components\n 	Measures for the Selectio
 n of Hydraulic System Components\n 	Open and Closed Loop Hydraulic System\
 n 	Hydraulic System Symbols Part\n\n Principles of Hydraulics and Hydraul
 ic Fluids\n\n 	Pascal’s Law\n 	Main Components of a Hydraulic System\n 	
 Filters\, Reservoirs\, and Accumulators\n 	Closed and Open Loop\n 	Propert
 ies of Hydraulic Fluid\n 	Types of Hydraulic Fluids\n 	Fluid Selection\n 	
 Problems Related to Hydraulic Fluids\n\nHydraulic Pumps &amp\; Actuators\n
 \n 	Classification and Performance of Hydraulic Pumps\n 	Variable and Fixe
 d Displacements Hydraulic Pumps\n 	Gear Pumps\n 	Vane Pumps\n 	Piston Pump
 s\n 	Pressure Compensate and Load Sense Control\n 	Hydraulic Cylinders\n 	
 Hydraulic Motors\n\nControl Valves\n\n 	Classification of Control Valves\n
  	Direct-Acting and Pilot-Operated Valves\n 	Pressure Control Valves\n 	Di
 rectional Control Valves\n 	Flow Control Valves\n 	Meter in and Meter out\
 n\nOperation and Hydraulic Circuits\n\n 	Operator Responsibilities\n 	Symb
 ol of Hydraulic Components\n 	Operation of Regenerative Circuits\n 	Counte
 rbalance Circuits\n 	Decompression Circuits\n 	Hydraulic Circuits of Vario
 us Machines\n 	Case Studies\n\nCylinders\n\n 	Acting Cylinders\n 	Two-pist
 on Cylinders\n 	Positional Cylinders\n 	Cylinder Construction\n 	Rings\, S
 eals\, and Packing\n 	Cylinder Mounting and Selection\n 	Flow Capacity\n 	
 Cushioning\n\nHydraulic Motors\n\n 	Performance Specifications\n 	Starting
 \, Running\, and Stalling Torque\n 	Volumetric Efficiency\n 	Hydraulic Mot
 or Construction\n 	Gear\, Vane\, and Piston Motors\n\nMaintenance and Trou
 bleshooting of Hydraulic Systems\n\n 	Flow Chart of Hydraulic Circuits\n 	
 Troubleshooting Different Parts of Hydraulic Systems\n 	Assembling and Dis
 assembling Hydraulic Units\n 	Inspection and Testing of Hydraulic Systems\
 n 	Maintenance of Hydraulic Systems\n 	Hydraulic System Contamination\n 	H
 ydraulic System Troubleshooting\n\nSystem Safety\n\n 	Hydraulic Safety\n 	
 Pumps and Relief Valves\n 	Conductors and Fluid Leaks\n 	Fluid Condition\n
  	Guards\, Safety Circuits\, and Emergency Stops\n 	Control Valves\n\nMain
 tenance Practices\n\n 	Maintenance Systems\n 	Hydraulic System Maintenance
 \n\n 	Preventative Maintenance\n 	Predictive Maintenance\n\n\n 	Routine Ta
 sks\n\nFluid Maintenance\n\n 	Temperature and Appearance\n 	Eliminating Po
 tential Contaminants\n 	Maintaining Clean Fluid\n\nPump Maintenance\n\n 	P
 reventing Breakdowns\n 	Cavitation\n 	Other Pump Problems\n\nHydraulic Com
 ponent Maintenance\n\n 	Actuators\n 	Pressure\, Flow\, Directional Control
  Valve\n\n&nbsp\;
ATTACH;FMTTYPE=image/jpeg:https://x8ti.com/wp-content/uploads/2025/03/Hydr
 aulic-System-Course-1.jpg
CATEGORIES:Mechanical Engineering
LOCATION:Amsterdam Training Courses\, Waldorf Astoria Amsterdam Hotel\, Ams
 terdam\, Netherlands\, Netherlands
X-APPLE-STRUCTURED-LOCATION;VALUE=URI;X-ADDRESS=Waldorf Astoria Amsterdam H
 otel\, Amsterdam\, Netherlands\, Netherlands;X-APPLE-RADIUS=100;X-TITLE=Am
 sterdam Training Courses:geo:0,0
END:VEVENT
BEGIN:VTIMEZONE
TZID:Europe/Amsterdam
X-LIC-LOCATION:Europe/Amsterdam
BEGIN:DAYLIGHT
DTSTART:20260329T030000
TZOFFSETFROM:+0100
TZOFFSETTO:+0200
TZNAME:CEST
END:DAYLIGHT
END:VTIMEZONE
END:VCALENDAR