BEGIN:VCALENDAR
VERSION:2.0
PRODID:-//wp-events-plugin.com//7.2.3.1//EN
BEGIN:VEVENT
UID:144@x8ti.com
DTSTART;TZID=Africa/Casablanca:20270104T090000
DTEND;TZID=Africa/Casablanca:20270108T130000
DTSTAMP:20260201T204313Z
URL:https://x8ti.com/event/grant-and-proposal-writing-training-course-5/
SUMMARY:Grant and Proposal Writing Training Course
DESCRIPTION:Introduction \nThis Xcelerate Training Institute  course is de
 signed to teach you the skills needed to write successful grant proposals 
 for international funding. We'll cover everything from understanding the b
 asics of grants and proposals to developing effective strategies for secur
 ing funding.\n\nWhether you're a development professional\, a non-profit w
 orker\, or simply someone interested in making a positive impact\, this co
 urse will provide you with valuable knowledge and practical tools.\nLearni
 ng Objectives\nUpon completion\, participants will be able to\n\n 	Develop
  well-structured and compelling grant proposals.\n 	Understand the princip
 les and procedures of international donor funding.\n 	Identify potential f
 unding sources and build partnerships.\n 	Evaluate the strengths and weakn
 esses of grant proposals.\n 	Apply grant writing skills to their organizat
 ion's mission and goals.\n\nTraining Methodology\nThe course combines theo
 retical knowledge with practical application through presentations\, assig
 nments\, case studies\, and interactive exercises.\n\nThis course is desig
 ned for professionals working in NGOs\, humanitarian organizations\, and g
 overnment agencies who are involved in grant acquisition and project manag
 ement.\nBenefits For Your Organization \nBenefits of Offering a Grant and 
 Proposal Writing Course for Your Organization\n\n 	Increased Fundraising: 
 Secure more international funding.\n 	Improved Project Design: Develop mor
 e effective and impactful programs.\n 	Enhanced Partnerships: Build strong
 er relationships with donors and partners.\n 	Sustainable Development: Con
 tribute to addressing global challenges and building local capacity.\n 	Pr
 ofessional Development: Provide staff with valuable skills and opportuniti
 es.\n 	Increased Visibility: Raise your organization's profile.\n 	Improve
 d Decision-Making: Make informed decisions based on sound planning and eva
 luation.\n 	Enhanced Reputation: Establish a strong reputation as a credib
 le organization.\n\n Benefits For You\nIndividuals who participate in thi
 s Certificate Training Course on Grant and Proposal Writing will benefit i
 n the following ways:\n\n 	Improve your performance through higher efficie
 ncy and greater worker productivity by being aware of the implications and
  extracted sustainable value emanating from compliance with principles of 
 international donor funding acquisition\n 	Engage in constructive discussi
 ons pertaining to the topic thus resulting in improved organizational capa
 city and overall communication\n\n\n 	Contextualize and assimilate a pract
 ical understanding of the impact of the acquisition of donor funding in re
 spect of conflict-affected states and regions\n 	Display a knowledge and u
 nderstanding of the main principles pertaining to the acquisition\n 	Under
 stand the roles\, functions and responsibilities of various actors\, organ
 izations\, and institutions in the acquisition of international donor fund
 ing\n 	Identify and critically evaluate the main weaknesses of existing gr
 ant and proposal writing procedures and protocols within your organization
 \n 	Get an opportunity to work through hands-on role-plays and case studie
 s in detail to gain the skills needed to write effective grant proposals\n
 \n&nbsp\;\nTarget Audience \n\n 	Non-profit organizations: Staff and volun
 teers from NGOs\, charities\, and foundations who are involved in fundrais
 ing and project development.\n 	Government agencies: Officials and staff f
 rom government departments who are responsible for securing external fundi
 ng for programs and initiatives.\n 	International development professional
 s: Individuals working in the field of international development who are i
 nterested in acquiring grant writing skills.\n 	Freelance consultants: Con
 sultants who provide grant writing services to non-profit organizations an
 d government agencies.\n 	Students and academics: Students and researchers
  who are interested in learning about grant writing and fundraising.\n 	In
 dividuals with a passion for social change: Individuals who want to make a
  positive impact on their communities and are interested in exploring gran
 t funding opportunities.\n\nCourse Outline\nIntroduction to Grant and Prop
 osal Writing\n\n 	Define grant and proposal writing\n 	Explore the history
  and legal framework of international donor funding\n 	Identify key intern
 ational donor agencies and their priorities\n\nThe Importance of Internati
 onal Donor Funding\n\n 	Understand the role of international funding in ad
 dressing global challenges\n 	Analyze the impact of donor funding on recip
 ient communities\n 	Explore case studies of successful grant-funded projec
 ts\n\nFundamental Concepts and Procedures\n\n 	Learn the essential steps i
 n the grant proposal writing process\n 	Develop effective proposal structu
 res and outlines\n 	Master the art of writing clear and concise proposals\
 n\nStructuring Your Proposal\n\n 	Create compelling proposal components\, 
 including summaries\, project descriptions\, objectives\, timelines\, and 
 budgets\n 	Develop effective proposal narratives that address donor priori
 ties\n\nSourcing International Donor Funding\n\n 	Identify potential fundi
 ng sources and build relationships with donors\n 	Explore partnership oppo
 rtunities and networking strategies\n 	Learn about different types of gran
 ts and funding mechanisms\n\nUnsolicited Proposals\n\n 	Develop compelling
  unsolicited proposals\n 	Create concept notes and proposal templates\n 	B
 uild a strong case for support\n\nTheory of Change\n\n 	Understand the con
 cept of theory of change and its application in grant proposals\n 	Develop
  logical frameworks for project design and evaluation\n\nAdvanced Grant Wr
 iting\n\n 	Build strong organizational capacity for grant writing\n 	Devel
 op sustainable fundraising strategies\n 	Learn from common proposal mistak
 es and rejection\n\n&nbsp\;\n\n&nbsp\;\n\n&nbsp\;
ATTACH;FMTTYPE=image/jpeg:https://x8ti.com/wp-content/uploads/2024/09/What
 sApp-Image-2024-10-30-at-12.16.01-AM1.jpeg
CATEGORIES:Fundraising and Grants Management
LOCATION:Casablanca Training Courses\, Four Seasons Hotel Casablanca\, Casa
 blanca\, Morrocco\, Morocco
X-APPLE-STRUCTURED-LOCATION;VALUE=URI;X-ADDRESS=Four Seasons Hotel Casablan
 ca\, Casablanca\, Morrocco\, Morocco;X-APPLE-RADIUS=100;X-TITLE=Casablanca
  Training Courses:geo:0,0
END:VEVENT
BEGIN:VTIMEZONE
TZID:Africa/Casablanca
X-LIC-LOCATION:Africa/Casablanca
BEGIN:STANDARD
DTSTART:20260322T030000
TZOFFSETFROM:+0000
TZOFFSETTO:+0100
TZNAME:+01
END:STANDARD
END:VTIMEZONE
END:VCALENDAR