BEGIN:VCALENDAR
VERSION:2.0
PRODID:-//wp-events-plugin.com//7.2.3.1//EN
BEGIN:VEVENT
UID:42@x8ti.com
DTSTART;TZID=Europe/Berlin:20261102T090000
DTEND;TZID=Europe/Berlin:20261106T130000
DTSTAMP:20260209T202305Z
URL:https://x8ti.com/event/fraud-investigation-audit-government-accounting
 -training/
SUMMARY:Fraud Detection\, Investigation Audit and Corrective Action in Gove
 rnment Accounting
DESCRIPTION:Course Overview\nGovernment accounting is a critical function a
 s it deals with huge sums of money of taxpayers and other forms of collect
 ion. Given the expanse of the sector and the number of individuals handlin
 g financial data\, the chances of fraudulent practices are very high. As s
 uch\, officials need to be well informed of the possibilities of fraud and
  well prepared with the best methods to detect and prevent them. Fraud is 
 committed by those under pressure\, opportunity or rationalization to comm
 it the fraud.\n\nFraud in the government has an exponential impact on not 
 just citizens and governance\, but also on the overall economic developmen
 t of the country. Some common signs of fraud include living beyond one’s
  own means\, paying unusually close attention to certain clients/vendors\,
  refusing to share responsibilities and duties with anyone\, etc.\n\nMany 
 public sector organizations rely solely on external auditors to detect fra
 ud\, although typically an audit has been designed to check fair presentat
 ion of financial statements rather than detecting fraud. The government ha
 s had its share of employee embezzlement\, theft\, false expenses and misa
 ppropriation of money.\n\nAmong all types of fraud\, fraudulent financial 
 reporting is on the rise. Fraudulent financial reporting is the intentiona
 l misrepresentation of financial statements with the aim of earning profit
 s and misleading recipients about operational performance and financial li
 ability.\n\nIn the government\, fraudulent financial reporting is usually 
 committed to receiving funding for projects\, financing terms and interest
  rates. There are various methods and signs to indicate fraud within the g
 overnment. Government accounting fraud highly influences investor decision
 s to issue bonds and has a grave impact on taxpayers\, citizens and civic 
 employees.\n\nConsidering that all taxpayer money is at stake\, the govern
 ment needs to implement stringent systems and processes to help keep a che
 ck on financial information\, transactions and operations to prevent fraud
 . Financial information handling for government accounting purposes is not
  completely digital and is subject to manual intervention.\n\nThis itself 
 explains why detection and prevention against fraud\, especially financial
 /accounting fraud\, needs to be treated so seriously. Thus\, awareness reg
 arding government accounting and related possibilities of fraudulent pract
 ices is definitely critical.\n\nThis Xcelerate training course will empowe
 r you with a detailed understanding of government accounting\, fraud in go
 vernment accounting and detection and prevention of government accounting 
 fraud. It will provide you with the necessary awareness to detect possibil
 ities of fraudulent practices and devise preventive measures to minimize t
 he impact such instances have on citizens and the economic growth of the n
 ation.\n\nThe knowledge gained through this course will specialize you in 
 the detection of fraud through various means and methods and enable you to
  play an important role in preventing fraud and taking necessary action to
  discourage recurrence. Further\, by undertaking this course\, you will be
  capable of suggesting and implementing new ways to manage fraud and prev
 ent future instances that could drastically impact growth.\nCourse Object
 ives\nThe main objective of this course is to empower government professio
 nals with—\n\n 	a detailed understanding and knowledge of fraud and frau
 dulent practices in government accounting\n 	the required awareness to kee
 p a keen eye on operations and minute details of other business transactio
 ns to be able to detect possible instances of fraud occurrence and devise 
 appropriate next steps to prevent the occurrence\n 	the required capabilit
 ies to work with advanced techniques and methods to detect and prevent fra
 ud\n 	the knowledge and experience to be part of decision making and polic
 y forming for handling fraud in government accounting\n 	the confidence to
  handle instances of fraud and implement disciplinary action and next step
 s in the event of such instances\n 	awareness and values to build a value-
 driven\, ethical work culture discouraging illegal practices and unethical
  work conduct\n 	additional skill\, confidence\, experience and exposure t
 o undertake higher roles and responsibilities\, in turn helping them progr
 ess in their roles or across roles within the organization\n\nTraining Met
 hodology\nXcelerate Training Institute offers training courses across a wi
 de range of topics in the most customizable form. The Fraud Detection\, In
 vestigation Audit and Corrective Action in Government Accounting course is
  customized as per the professional backgrounds and experience of the trai
 ning audience. Besides lectures and presentations on the topic of discussi
 on\, the course includes group activities and role-plays among trainees to
  ensure participation and learning.\n\nFurther\, the trainer discusses fam
 ous and recent case studies to foster relativity with some known reference
 . Trainees are also encouraged to share any relevant experiences that they
  have had in their roles or organizations\, and these situations are discu
 ssed in detail.\n\nThis course\, like all Xcelerate Training Institute’s
  courses\, follows the Do–Review–Learn–Apply Model.\nOrganizational 
 Benefits\nWith their employees undertaking this course\, public sector org
 anizations will benefit in the following ways:\n\n 	Trained and experience
 d employees to manage fraudulent instances and devise appropriate next ste
 ps\n 	Reduced instances and chances of fraud because of employees and mana
 gement being more prepared and aware\n 	Prevention of fraud by predicting 
 possible instances in advance and taking necessary steps in time\n 	Regula
 r internal audits to keep a check on the handling of accounting data\n 	A 
 more ethical\, value-driven work environment as a result of discouragement
  of involvement in fraud because of evident strict disciplinary action\n 	
 Greater chances of private investments because of reduced risk of fraud\n 
 	Greater economic growth because of increased investments and better work 
 culture\n\nPersonal Benefits\nBy undertaking this course\, public sector p
 rofessionals will benefit in the following ways:\n\n 	Increased understand
 ing and knowledge about fraud and fraudulent practices in government accou
 nting\n 	More awareness to predict or imply possible signs of fraud and hi
 gher skill to implement the next steps in line with these to prevent the o
 ccurrence\n 	Greater confidence and skill to work with advanced techniques
  and methods to detect and combat fraud in government accounting\n 	Increa
 sed skill\, understanding and confidence to be part of regular internal au
 dits and checks undertaken to ensure no fraud or fraudulent practices are 
 being carried forth\n 	Increased confidence\, experience and skill to suc
 cessfully manage fraud in government accounting and ensure minimal or no l
 oss to the organization\n 	A value-driven\, ethical work environment\n 	In
 creased understanding to help one’s organization be corruption-free\, wi
 th good economic growth\n 	Enhanced skill and perspective to undertake hig
 her roles and responsibilities in one’s organization\, thus encouraging 
 one’s growth and career development\n\nWho Should Attend?\n\n 	Senior ma
 nagement members\, Board members and directors of organizations responsibl
 e for critical decision making and fraud detection and prevention\n 	Human
  resource professionals responsible for inducing and driving a value-drive
 n\, ethical work culture\n 	Policymakers responsible for framing policies 
 to combat fraudulent practices and take necessary action if such instances
  occur\n 	Financial advisors and officers responsible for ensuring that al
 l financial assets are safe and all financial statements are presented in 
 a fair manner\n 	Legal professionals responsible for checking and ensuring
  that all processes and operations are adhering to set standards of perfor
 mance\n 	Internal and external auditors responsible for cross-checking cov
 erage and adherence\n 	Accountants responsible for managing sensitive fina
 ncial information\n 	Any other public sector professional or other vendors
  and service agents who would be interested to know about fraud and fraud
 ulent practices\n\nCourse Outline\nThe course will cover the following top
 ics important to understanding fraud detection in government accounting:\n
 Overview of Fraud\n\n 	Definition of Government Accounting\n 	Definition o
 f Fraud\n 	Types of Fraud\n\nObjectives of Government Accounting\n\n 	Fulf
 il legal requirement\n 	Perform stewardship function\n 	Enable good planni
 ng by the government\n 	Provide the process for controlling financial res
 ources\n 	Evaluate economy\, efficiency and effectiveness of governance\n\
 nIndicators of Fraud\n\n 	Financial results always on target\n 	Extraordin
 ary/complex transactions\n 	Cash flows not meeting revenue growth\n 	Swing
 s in assets and liabilities\n 	Unexpected changes in auditors\n 	Consisten
 t sales growth\n\nTypes of Accounting Frauds\n\n 	Asset/Revenue over- or u
 nderstatement\n 	Timing difference\n 	Fictitious revenues\n 	Concealed lia
 bilities\n 	Improper disclosures\n 	Improper asset valuation\n\nCauses of 
 Fraud\n\n 	Pressure\n 	Opportunity\n 	Rationalization\n\nWays of Fraud Pre
 vention\n\n 	Segregate duties\n 	Monitor controls\n 	Encourage the culture
  of ethics and accountability\n 	Encourage annual external examination of 
 financial statements\n 	Devise a strong control system\n 	Spread awareness
 \n\nFraud Detection Methods\n\n 	Regression\n 	Decision tree\n 	Neural net
 work\n 	Bayesian networks\n 	Supported vehicle machines\n\nFraud Detection
  of Financial Statements\n\n 	Vertical financial statement analysis\n 	Hor
 izontal financial statement analysis\n 	Comparative ratio analysis\n\nType
 s of Government Accounting Records\n\n 	Treasury cash books\n 	Impress cas
 h books\n 	Payment voucher\n 	Adjustment voucher\n\nProcesses of Governmen
 t Accounting\n\n 	Recording\n 	Analyzing\n 	Classifying\n 	Summarizing\n 	
 Communicating\n 	Interpreting\n\n&nbsp\;
ATTACH;FMTTYPE=image/jpeg:https://x8ti.com/wp-content/uploads/2024/08/Scre
 enshot_20240831-163613_Chrome.jpg
CATEGORIES:Audit, Compliance and Governance
LOCATION:Berlin Training Courses\, Hotel Adlon Kempinski Berlin\, Berlin\, 
 Germany\, Germany
X-APPLE-STRUCTURED-LOCATION;VALUE=URI;X-ADDRESS=Hotel Adlon Kempinski Berli
 n\, Berlin\, Germany\, Germany;X-APPLE-RADIUS=100;X-TITLE=Berlin Training 
 Courses:geo:0,0
END:VEVENT
BEGIN:VTIMEZONE
TZID:Europe/Berlin
X-LIC-LOCATION:Europe/Berlin
BEGIN:STANDARD
DTSTART:20261025T020000
TZOFFSETFROM:+0200
TZOFFSETTO:+0100
TZNAME:CET
END:STANDARD
END:VTIMEZONE
END:VCALENDAR