BEGIN:VCALENDAR
VERSION:2.0
PRODID:-//wp-events-plugin.com//7.2.3.1//EN
BEGIN:VEVENT
UID:1576@x8ti.com
DTSTART;TZID=Asia/Riyadh:20260720T090000
DTEND;TZID=Asia/Riyadh:20260724T130000
DTSTAMP:20260207T233425Z
URL:https://x8ti.com/event/forensic-accounting-and-auditing-training-cours
 e-2/
SUMMARY:Forensic Accounting and Auditing Training Course
DESCRIPTION:Introduction \nCorporate frauds have the potential to devastat
 e large organizations\, leading to massive financial losses\, legal battle
 s\, imprisonment of employees\, and erosion of market confidence. While ad
 vancements in technology have propelled industry growth\, they have also f
 ueled the rise of corporate fraud. Governments and corporations worldwide 
 are intensifying efforts to detect\, prevent\, and penalize fraudulent act
 ivities\, placing greater emphasis on forensic auditing and accounting.\nL
 earning Objectives\nThe Forensic Auditing and Accounting course aims to:\n
 \n 	Provide fundamental knowledge of accounting practices and financial st
 atement analysis.\n 	Offer an overview of the forensic accounting legal en
 vironment.\n 	Explain the responsibilities of forensic accountants and the
  process of fraud examination.\n 	Conduct an in-depth study of fraud detec
 tion procedures\, including:\n\n 	Identifying and categorizing fraudulent 
 practices.\n 	Collecting evidence.\n 	Fraud investigation procedures.\n 	R
 eporting and recovery following legal prosecution.\n 	Business valuation s
 trategies.\n\n\n 	Equip participants with the knowledge to plan and implem
 ent frameworks for fraud detection and prevention.\n 	Enhance expertise in
  forensic auditing and accounting.\n\nTraining Methodology\nThis course in
 cludes:\n\n 	Interactive training\n 	Group activities and presentations\n 
 	Audio/video presentations\n 	Individual and group experiential learning a
 ctivities\n 	Case studies to understand practical applications\n\nXcelerat
 e Training Institute follows the ‘Do-Review-Learn-Apply’ model for eff
 ective learning.\nBenefits for Your Organization\nOrganizations will benef
 it from:\n\n 	Increased efficiency in fraud detection\, leading to higher 
 revenue potential by avoiding the consequences of corporate fraud.\n 	Impr
 oved crisis management with a resource pool ready to combat fraud.\n 	Enha
 nced procedures for fraud detection and prevention\, emphasizing quality a
 ccounting standards.\n 	Boosted stakeholder confidence through better fore
 nsic auditing and accounting practices.\n 	Centralized fraud intelligence 
 data for tackling evolving fraud threats.\n 	Creation of an ethically soun
 d long-term strategy for organizational growth.\n\nBenefits for You\nParti
 cipants will gain:\n\n 	Understanding of fraud and corruption and their im
 pact on departments and governments.\n 	Transition from compliance mentali
 ty to strategic methodologies in forensic auditing and accounting.\n 	Anal
 ytical skills for detecting fraudulent practices and non-compliance.\n 	Fo
 resight and knowledge to manage emergency situations involving corporate f
 raud.\n 	Investigation techniques and tools for supporting digital investi
 gations.\n\nTarget Audience\nThis course is suitable for:\n\n 	Directors\,
  Board Members\, Chief Financial Officers\, and top management.\n 	Auditor
 s and financial professionals responsible for transparency and process int
 egrity.\n 	Bookkeepers and accountants maintaining financial transactions.
 \n 	Shareholders and investors involved in or interested in a firm's opera
 tions.\n 	Legal professionals preparing contracts and legal documents.\n 	
 Risk managers and consultants in forensic auditing and accounting.\n\nCour
 se Outline\nIntroduction to Forensic Accounting and Fraud Examination\n\n 
 	Fundamentals of Accounting Practices\n 	Essentials of Forensic Examinatio
 n\n 	Responsibilities of Accounting Investigators and Auditors\n 	Forensic
  Accounting Legal Environment\n\nUnderstanding Corporate Fraud\n\n 	Synops
 is of White-Collar Crimes\n 	Overview of Effective Fraud Investigation\n 	
 Types of Corporate Fraud\n 	Psychology of the Fraudster Profile\n 	The Fra
 ud Triangle Theory\n 	Implications of Corporate Fraud on Stakeholders\n\nE
 xamination of Financial Statements and Analytical Techniques\n\n 	Scope an
 d Types of Financial Statement Frauds\n 	Analysis of Financial Statements 
 and Audit Reports\n 	Horizontal and Vertical Analysis\n 	Financial Ratio A
 nalysis\n 	Anomaly Detection\n\nThe Fraud Investigation and Engagement Pro
 cesses\n\n 	Recognizing Symptoms of Fraudulent Behavior\n 	Investigation P
 rocess and Case Initiation\n 	Evidence Collection Techniques:\n\n 	Observa
 tional Evidence\n 	Financial Evidence\n 	Non-Financial Evidence\n\n\n\nDat
 a Compilation and Analysis\n\n 	Importing and Analyzing Data Using MS Offi
 ce Tools\n 	Root Cause Analysis (RCA) of Corporate Fraud\n 	Analysis of Da
 ta Based on Newcomb-Benford’s Law\n 	Data-Driven Fraud Analysis Techniqu
 es\n 	Evaluating Fraudulent Practices\n\nReporting of Findings and Analysi
 s\n\n 	Auditor Responsibility and Reporting Standards\n 	Forensic Audit Re
 port Template\n 	Risk Assessment and Reporting\n 	Business Valuation and D
 amages Reporting\n\nFraud Prevention\n\n 	Examining the Internal Control E
 nvironment\n 	Understanding the COSO Model (Internal Control-Integrated Fr
 amework)\n\n 	Control Environment\n 	Risk Assessment\n 	Control Activities
 \n 	Information &amp\; Communication\n 	Monitoring\n\n\n 	Review of COSO
 ’s Fraud Risk Management Guide 2016\n 	Managing Corporate Fraud: Evaluat
 e\, Identify\, Deter\, Respond\n\nDeterring Corporate Fraud\n\n 	Identifyi
 ng Organizational Tolerance to Risk and Improving Internal Controls\n 	For
 mulating a Fraud Response Strategy\n 	Developing an Anti-Fraud Program\n\n
 Effective Functioning within an Organizational Framework\n\n 	Aligning goa
 ls and expectations with key decision-makers\n 	Communicating objectives c
 learly to relevant personnel\n 	Collaborating with internal and external a
 uditors\n 	Coordinating with other legally trained departments\, such as c
 ompliance\, legal\, and ethical committees.\n
ATTACH;FMTTYPE=image/jpeg:https://x8ti.com/wp-content/uploads/2025/01/c5df
 bc14-8d41-4a0e-9fa9-d016a09a7b99.jpg
CATEGORIES:Accounting &amp; Finance
LOCATION:http://online
END:VEVENT
BEGIN:VTIMEZONE
TZID:Asia/Riyadh
X-LIC-LOCATION:Asia/Riyadh
BEGIN:STANDARD
DTSTART:20250720T090000
TZOFFSETFROM:+0300
TZOFFSETTO:+0300
TZNAME:+03
END:STANDARD
END:VTIMEZONE
END:VCALENDAR