BEGIN:VCALENDAR
VERSION:2.0
PRODID:-//wp-events-plugin.com//7.2.3.1//EN
BEGIN:VEVENT
UID:694@x8ti.com
DTSTART;TZID=Asia/Riyadh:20261116T090000
DTEND;TZID=Asia/Riyadh:20261120T130000
DTSTAMP:20260209T194841Z
URL:https://x8ti.com/event/food-security-and-sustainability-training-cours
 e-5/
SUMMARY:Food Security and Sustainability Training Course
DESCRIPTION:Introduction\nThis course by Xcelerate Training Institute focus
 es on food security and sustainability\, highlighting the institution's ro
 le in addressing these critical issues. Participants will gain a comprehen
 sive understanding of food systems\, security challenges\, and sustainable
  agricultural practices. The program emphasizes practical problem-solving\
 , incorporating cutting-edge thinking to develop effective intervention st
 rategies. By combining technology\, science\, and management skills\, part
 icipants will be prepared for successful careers in the food industry and 
 contribute to global food sustainability.\nLearning Objectives\nUpon compl
 etion\, participants will be able to:\n\n 	Understand the factors influenc
 ing food production\, availability\, accessibility\, utilization\, and sta
 bility.\n 	Develop strategies to achieve organizational sustainability goa
 ls and contribute to net-zero emissions.\n 	Analyze global\, national\, an
 d local food security challenges and potential solutions.\n 	Evaluate the 
 long-term sustainability of various food production systems.\n 	Examine th
 e role of markets\, policies\, and governance in ensuring food access.\n 	
 Identify key stakeholders and their roles in achieving food security.\n\nT
 raining Methodology\nThe course employs a blended learning approach combin
 ing lectures\, practical exercises\, online resources\, and group discussi
 ons. Experienced industry experts will facilitate the learning process. Pa
 rticipants will engage in various activities such as presentations\, field
  trips\, and project work to develop practical skills in data analysis\, r
 esearch\, and communication.\nBenefits for Your Organization\nImplementing
  the course's principles can benefit organizations by:\n\n 	Reducing food 
 waste and loss.\n 	Addressing food insecurity through redistribution and r
 ecycling.\n 	Enhancing operational efficiency and sustainability.\n 	Promo
 ting biodiversity conservation through sustainable food production.\n 	Opt
 imizing resource utilization and cost-effectiveness.\n\nBenefits for you \
 nParticipants will gain in-depth knowledge of food systems\, sustainabilit
 y\, and problem-solving. They will develop skills in systems thinking\, cr
 op cultivation\, and food access analysis. The course will enhance partici
 pants' ability to contribute to poverty reduction\, market development\, a
 nd cross-sector collaboration.\nTarget Audience\nThe course is designed fo
 r individuals interested in addressing climate change\, building organizat
 ional resilience\, and driving sustainable business practices. Professiona
 ls with backgrounds in geography\, health science\, biology\, or related f
 ields are encouraged to participate.\nCourse Outline\nInterconnected Agric
 ultural Technology:\n\n 	Explores the relationships between poverty\n 	Foo
 d safety\n 	Global rural development\n\nTaking on Global Food and Agricult
 ure Challenges:\n\n 	Participants will delve into challenges related to so
 il management\n 	Climate change\n 	Research methodologies\n\nAgriculture o
 n a Small Scale:\n\n 	Focuses on local food supply\n 	Business planning\n 
 	Entrepreneurship in small-scale agriculture\n\nOrganizing Your Business:\
 n\n 	Participants will learn about business organization\n 	Considering en
 vironmental factors\n 	Sustainability principles\n\nCropping Technique:\n\
 n 	Covers crop productivity\n 	Water management\n 	Overcoming production c
 hallenges\n\nProduction Hampered by Nutrient Constraints:\n\n 	Participant
 s will explore innovative solutions to address nutrient deficiencies in ag
 riculture\n\nInnovation in the Environment:\n\n 	Focuses on technological 
 advancements\n 	Application in livestock agriculture\n 	Complex food produ
 ction systems\n\nAn Overview of Process Management:\n\n 	Participants will
  learn about measuring food production productivity and efficiency\n\nIndi
 cations of the Food Production System’s Environmental Impact:\n\n 	Exami
 nes environmental indicators\n 	Case studies related to food production sy
 stems\n\nHouseholds’ Accessibility:\n\n 	Participants will analyze facto
 rs influencing food distribution\n 	Market dynamics\n 	Policy implications
  for food access\n\n&nbsp\;\n\n&nbsp\;
ATTACH;FMTTYPE=image/jpeg:https://x8ti.com/wp-content/uploads/2024/09/What
 sApp-Image-2024-10-25-at-8.51.17-AM.jpeg
CATEGORIES:Agribusiness Sustainability
LOCATION:http://Online
END:VEVENT
BEGIN:VTIMEZONE
TZID:Asia/Riyadh
X-LIC-LOCATION:Asia/Riyadh
BEGIN:STANDARD
DTSTART:20251116T090000
TZOFFSETFROM:+0300
TZOFFSETTO:+0300
TZNAME:+03
END:STANDARD
END:VTIMEZONE
END:VCALENDAR