BEGIN:VCALENDAR
VERSION:2.0
PRODID:-//wp-events-plugin.com//7.2.3.1//EN
BEGIN:VEVENT
UID:687@x8ti.com
DTSTART;TZID=Europe/Madrid:20260518T090000
DTEND;TZID=Europe/Madrid:20260522T130000
DTSTAMP:20260209T192252Z
URL:https://x8ti.com/event/environmental-sustainability-planning-and-polic
 y-training-course-2/
SUMMARY:Environmental Sustainability\, Planning and Policy Training Course
DESCRIPTION:Introduction\nThis course by Xcelerate Training Institute is de
 signed to equip participants with the knowledge and skills necessary to ad
 dress global sustainability challenges through effective environmental pla
 nning and policy development. It covers ecological theory\, spatial analys
 is\, environmental economics\, and policy planning\, providing a comprehen
 sive understanding of the interconnections between human activities and th
 e environment. The course emphasizes practical application and critical th
 inking\, preparing participants to contribute to the creation of sustainab
 le urban environments.\nLearning Objectives\nUpon completion of this cours
 e\, participants will be able to:\n\n 	Understand fundamental ecological c
 oncepts and their application to planning.\n 	Design environmentally frien
 dly spaces.\n 	Analyze spatial data to inform planning decisions.\n 	Ident
 ify and utilize planning tools to address sustainability issues.\n 	Critic
 ally assess global sustainability challenges.\n 	Develop strong critical t
 hinking\, communication\, and problem-solving skills.\n 	Evaluate various 
 planning approaches to achieve environmental goals.\n 	Conduct environment
 al impact assessments (EIAs) and strategic environmental assessments (SEAs
 ).\n 	Understand the future trajectory of renewable energy and environment
 al conservation.\n\nTraining Methodology\nThis course employs a practical\
 , adult-learning approach that combines lectures\, case studies\, and grou
 p discussions. Participants will actively engage in applying sustainabilit
 y principles to real-world planning scenarios. The course follows a "Do-Re
 view-Learn-Apply" model to enhance learning and retention.\n\n \nBenefits
  for Your Organization\nOrganizations that participate in this course will
  benefit from:\n\n 	Developing a strong business case for sustainability.\
 n 	Enhancing long-term organizational viability.\n 	Fostering a culture of
  environmental stewardship among employees.\n 	Promoting innovative and su
 stainable practices.\n 	Building a strong reputation for environmental lea
 dership.\n\nBenefits for you \nIndividuals who complete this course will b
 e able to:\n\n 	Design environmentally friendly projects.\n 	Analyze envir
 onmental data and information.\n 	Develop innovative and sustainable solut
 ions.\n 	Identify and address knowledge gaps in sustainable planning.\n 	E
 nhance risk management and analysis capabilities.\n\nTarget Audience\nThis
  course is suitable for individuals interested in sustainability\, with a 
 relevant academic qualification\, professional certification\, or work exp
 erience.\nCourse Outline\nIntroduction to Sustainability\n\n 	Defining sus
 tainability\n 	Historical development of sustainability concepts\n 	Ecolog
 ical planning principles\n 	Scientific foundations of sustainability\n\nEc
 ology and Environmental Challenges\n\n 	Evolution of the Earth and life\n 
 	Global environmental issues\n 	Population dynamics and environmental impa
 ct\n\nHuman-Environment Interactions\n\n 	Environmental systems and proces
 ses\n 	Environmental governance and management\n 	Planning for environment
 al protection\n\nSpatial Planning for Sustainability\n\n 	Planning fundame
 ntals\n 	Land use planning and management\n 	Environmental planning proces
 ses\n 	Residential development and sustainability\n 	Future-oriented plann
 ing\n\nUrban Ecology and Sustainable Living\n\n 	Urban biodiversity\n 	Sus
 tainability principles and practices\n 	Creating livable cities\n 	Waste m
 anagement and recycling\n\nEcosystem Services and Environmental Finance\n\
 n 	Environmental leadership and climate change\n 	Ecosystem services valua
 tion\n 	Energy planning and policy\n 	Water resources management\n\nAdvanc
 ed Environmental Science and Data Analysis\n\n 	Environmental data managem
 ent and analysis\n 	Case studies in environmental management and sustainab
 ility\n\nEnvironmental Communication and Engagement\n\n 	Conservation of n
 atural habitats\n 	Environmental ethics and social responsibility\n 	Geogr
 aphic information systems (GIS)\n\nParticipatory Sustainability\n\n 	Stake
 holder engagement and collaboration\n 	Global environmental challenges and
  cooperation\n 	Sustainability ethics and professional standards\n 	Climat
 e change adaptation and mitigation\n\nLeadership in Sustainability\n\n 	En
 vironmental governance and democracy\n 	Biodiversity conservation\n 	Advan
 ced data analysis and modeling\n 	Marine conservation policy and managemen
 t\n\n&nbsp\;
ATTACH;FMTTYPE=image/jpeg:https://x8ti.com/wp-content/uploads/2024/09/What
 sApp-Image-2024-10-25-at-8.51.16-AM-1.jpeg
CATEGORIES:Agribusiness Sustainability
LOCATION:Barcelona Training Courses\, Le Méridien Barcelona Hotel\, Barcel
 ona\, Spain\, Spain
X-APPLE-STRUCTURED-LOCATION;VALUE=URI;X-ADDRESS=Le Méridien Barcelona Hote
 l\, Barcelona\, Spain\, Spain;X-APPLE-RADIUS=100;X-TITLE=Barcelona Trainin
 g Courses:geo:0,0
END:VEVENT
BEGIN:VTIMEZONE
TZID:Europe/Madrid
X-LIC-LOCATION:Europe/Madrid
BEGIN:DAYLIGHT
DTSTART:20260329T030000
TZOFFSETFROM:+0100
TZOFFSETTO:+0200
TZNAME:CEST
END:DAYLIGHT
END:VTIMEZONE
END:VCALENDAR