BEGIN:VCALENDAR
VERSION:2.0
PRODID:-//wp-events-plugin.com//7.2.3.1//EN
BEGIN:VEVENT
UID:1891@x8ti.com
DTSTART;TZID=Europe/Berlin:20250224T090000
DTEND;TZID=Europe/Berlin:20250228T130000
DTSTAMP:20250130T111638Z
URL:https://x8ti.com/event/enterprise-resource-planning-erp-training-cours
 e/
SUMMARY:Enterprise Resource Planning (ERP) Training Course
DESCRIPTION:Introduction \n\nDo you find it difficult to understand the cha
 llenges of your business due to the data mismatch?\n\nERP or Enterprise Re
 source Planning is the answer to most of the business needs. It is a softw
 are used by the businesses to manage the routine activities of all the dep
 artments of an organization. Once the day-to-day activities are streamline
 d\, it helps in boosting revenue and productivity of the company.\n\nThis 
 course on Enterprise Resource Planning (ERP) by Xcelerate Training Institu
 te Solutions will help you to drive business productivity. This will also 
 help you address the tasks and challenges at any stage or module of your b
 usiness strategy timely and thus ensure the success of your organization's
  blueprint.\n\nLearning Objectives\n\nThis Enterprise Resource Planning (E
 RP) course will empower you to:\n\n 	Understand the strategic impact of ER
 P on Business\n 	Understand the importance of ERP and its relationship wit
 h the functions in the organization\n 	Understanding issues and decisions 
 made before selecting and implementing ERP\n 	Understand ERP as an enabler
  of the business\n\nTraining Methodology\n\nWe at Xcelerate Training Insti
 tute Solutions\, offer a highly interactive presentation with emphasis on 
 related theory. Practical examples\, current trends and case studies of th
 e success and failure of ERP will give an opportunity to share your ideas 
 with other industry participants as well.\n\nBenefits For Your Organizatio
 n \n\nThe organization will benefit as follows by implementing ERP:\n\n 	I
 ncreased rate of accuracy for the organization\n 	Accurate control on Inve
 ntory\n 	Better human capital management\n 	Customer relationship manageme
 nt\n 	Tracking of orders\n 	Timely decision-making due to the availability
  of accurate data\n 	Lower cost of operations\n 	Better data integrity and
  financial controls\n 	Eliminates wastage\n 	Better inter-personal relatio
 nships\n\nBenefits For You \n\nThe Personal Benefits for the participants 
 who will undertake this course are:\n\n 	Improved productivity\n 	Accuracy
  leads to NO interdepartmental conflicts\n 	Informed decision-making\n 	Be
 come a strategic partner to the organization\n 	Opportunities of promotion
 \n\nTarget Audience \n\nXcelerate Training Institute Solutions suggests th
 is course for:\n\n 	Business owners\n 	Stakeholders\n 	Senior Management T
 eam\n 	HOD’s/ Team Leaders\n 	Team Members\n 	Anyone who wishes to work 
 on ERP for better career opportunities\n\nCourse Outline\n\nINTRODUCTION A
 ND GROWTH OF ERP \n\n 	Introduction to ERP\n 	Why ERP?\n 	Business Process
  Re-engineering (BPR)\n 	Data Storage and Warehousing\n 	Data Mining\n 	Ma
 nagement of the Supply Chain\n 	Understanding the reasons for the growth o
 f ERP\n 	ERP – Advantages and Challenges\n 	Is your organization ready f
 or ERP?\n 	ERP Evaluation\n 	Modules of ERP\n\nUNDERSTANDING AND MAPPING E
 RP FOR BUSINESSES\n\n 	Understanding an Enterprise or business\, its funct
 ions\, and departments\n 	Understand how to Integrate Management Informati
 on\n 	Business Modelling\n 	ERP for Businesses\n 	 Business Process Mappi
 ng\n 	The process of implementing ERP\n 	Hardware and Software for ERP Imp
 lementation.\n\nERP IMPLEMENTATION\n\n 	Precautions in ERP Implementation\
 n 	ERP- Post Implementation\n 	Guidelines for ERP Implementation.\n\nERP A
 ND ITS RELATED TECHNOLOGIES \n\n 	ERP and its related technologies – Par
 t I\n\n 	Business Process Re-engineering\n 	Management Information System\
 n 	Executive Information System (EIS)\n\n\n 	ERP and its related technolog
 ies – Part II\n 	Decision Support Systems (DSS)\n 	Supply Chain Manageme
 nt\n\nERP MODULES \n\n 	ERP Modules – I\n\n 	Production Module\n 	Plant 
 Maintenance Module\n 	Quality Management\n 	Materials Management Module\n 
 	Supply Chain Management Module\n\n\n 	ERP Module – II\n\n 	Customer Rel
 ationship Management\n 	Sales and Marketing\n 	ERP Finance and Accounting 
 Module\n 	Human Resource\n\n\n\nERP IMPLEMENTATION\n\n 	ERP Implementation
  – I\n\n 	Re-evaluation Screening\n 	Package Evaluation\n 	Project Plann
 ing Phase\n\n\n 	ERP Implementation – II\n 	Gap Analysis\n 	Hidden Cost\
 n 	Vendors\, Consultants\, Human Resource\n\nPOST IMPLEMENTATION PHASES\n\
 n 	Re-Engineering\, Configuration\n 	Implementation\n 	Team Training\n 	Te
 sting\n 	End-User Training\n 	Post-Implementation and support\n\nERP AND E
 -COMMERCE\n\n 	Future Directives in ERP\n 	ERP and Internet\n 	Critical Fa
 ctors Guiding Selection\n 	Evaluation of ERP\n 	Strategies for Successful 
 ERP Implementation\n 	Critical Success Factors in ERP Implementation\n 	Fa
 ilure Factors in ERP Implementation\n 	Integrating ERP into an Organizatio
 n\n\n&nbsp\;
ATTACH;FMTTYPE=image/jpeg:https://x8ti.com/wp-content/uploads/2025/01/What
 sApp-Image-2025-01-23-at-8.56.38-PM4.jpeg
CATEGORIES:Strategy and Strategic Planning
LOCATION:Berlin Training Courses\, Hotel Adlon Kempinski Berlin\, Berlin\, 
 Germany\, Germany
X-APPLE-STRUCTURED-LOCATION;VALUE=URI;X-ADDRESS=Hotel Adlon Kempinski Berli
 n\, Berlin\, Germany\, Germany;X-APPLE-RADIUS=100;X-TITLE=Berlin Training 
 Courses:geo:0,0
END:VEVENT
BEGIN:VTIMEZONE
TZID:Europe/Berlin
X-LIC-LOCATION:Europe/Berlin
BEGIN:STANDARD
DTSTART:20241027T020000
TZOFFSETFROM:+0200
TZOFFSETTO:+0100
TZNAME:CET
END:STANDARD
END:VTIMEZONE
END:VCALENDAR