BEGIN:VCALENDAR
VERSION:2.0
PRODID:-//wp-events-plugin.com//7.2.3.1//EN
BEGIN:VEVENT
UID:867@x8ti.com
DTSTART;TZID=Europe/Paris:20270104T090000
DTEND;TZID=Europe/Paris:20270108T130000
DTSTAMP:20260301T100505Z
URL:https://x8ti.com/event/earned-value-management-evm-6/
SUMMARY:Earned Value Management (EVM)
DESCRIPTION:Introduction\nEVM is a comprehensive solution integrating cost 
 information with the schedule of the program by aligning and combining pro
 ject performance data from cost systems\, adding complex budgeting rates\,
  and tracking committed costs.\n\nIt adds earned value capabilities that i
 n turn help organizations better manage project costs\, measure earned va
 lue and analyze budget\, actual\, forecast and performed costs. In the abs
 ence of an earned value process\, complicated projects can go haywire befo
 re anyone recognizes a problem.\n\nHow does Oracle Primavera help? With Pr
 imavera's earned value management\, organizations can generate statistical
 ly accurate estimates to understand and relay project performance\, leavin
 g adequate time to handle issues.\n\nIt involves a robust methodology to i
 ntegrate project schedules\, cost\, and scope baselines. It is best descri
 bed as an analytical tool using variance to track project schedule and cos
 t performance and efficiency indicators to indicate project health.\n\nThi
 s Xcelerate training course will empower you with detailed knowledge and i
 nformation about Primavera earned value management and its importance for
  effective project management.\n\nThis course will also build your capabi
 lities and skills to effectively utilize Primavera's earned value manageme
 nt for tracking and introducing timely amendments and corrective action.\n
 \nThrough this course\, you will build your competency to work on any proj
 ect across any industry\, thus increasing avenues for job opportunities an
 d growth.\nCourse Objectives\nThe main objective of this Earned Value Mana
 gement (EVM) in Primavera course is to empower professionals with—\n\n 	
 detailed knowledge and understanding of Primavera earned value management\
 n 	the adequate capabilities and skills to effectively utilize Primavera e
 arned value management for successful project management\n 	the necessary 
 confidence and knowledge to train other professionals on Primavera earned 
 value management\n 	a sense of satisfaction and pride contributing to orga
 nizational growth through successful project management and client satisfa
 ction through high-quality outcomes\, in turn fostering career growth and 
 development\n 	the required awareness\, foresight\, and experience to addr
 ess issues before they hamper the project's performance or outcome\n 	the 
 skill and experience to draw relevant data to track project performance an
 d communicate the same to all stakeholders\n 	the required knowledge of go
 vernment or industry-level standards for measuring project health and perf
 ormance\n 	analytical and strategic skills to align project deliverables a
 nd goals to organizational strategic objectives\n\nTraining Methodology\nT
 he training methodology at Xcelerate Training Institute is unique in that 
 each course is customizable as per the professional backgrounds of the par
 ticipants.\n\nThe training format is a mix of theoretical and practical le
 arning. The theoretical aspect is through lectures by a highly experienced
  professional from the relevant domain\, using detailed audio-visual prese
 ntations.\n\nThe practical aspect is through role-plays or sample projects
  assigned to trainees during the training course. Trainee participation is
  also encouraged through group debates\, competitions\, assignments\, etc.
 \n\nThe above format is based on a model devised by Xcelerate Training Ins
 titute\, called the Do–Review–Learn–Apply Model.\nOrganizational Ben
 efits\nOrganizations whose professionals enroll for this Earned Value Mana
 gement (EVM) in Primavera course will benefit as follows:\n\n 	Trained and
  experienced employees to work with Primavera earned value management\n 	G
 reater project completion success because of optimal utilization of Primav
 era earned value management\n 	Regular and free training of other professi
 onals to work with Primavera earned value management for effective project
  management\n 	Organizational growth and development because of greater pr
 oject completion success\n 	Better tracking of project cost and schedule p
 erformance and early treatment of issues and challenges before they hamper
  the progress of a project\n 	Greater client satisfaction because of on-ti
 me delivery with a high-quality outcome\n 	Application of industry-level s
 tandards and practices for measuring project performance\n 	Alignment of 
 project deliverables and goals to organizational strategic objectives\n 	I
 ncreased communication among all stakeholders of a project\, fostering pro
 ject success\n\nPersonal Benefits\nBy undertaking this Earned Value Manage
 ment (EVM) in Primavera course\, professionals will benefit as follows:\n\
 n 	In-depth knowledge and information of Primavera earned value manageme
 nt\n 	Increased confidence and skill to optimally utilize all features of 
 Primavera earned value management for effective project management\n 	Enha
 nced confidence\, knowledge and experience to train others on Primavera ea
 rned value management\n 	Greater awareness and preparedness to identify is
 sues early and take corrective action before they affect project deliverab
 les\n 	Improved analytical and strategic skills to align project deliverab
 les and goals to organizational objectives\, thus contributing to organiza
 tional growth and facilitating one’s career development through better o
 pportunities\n 	Greater experience and confidence to check and track proje
 ct performance and communicate the same to all stakeholders\n 	A sense of 
 satisfaction and pride to contribute to organizational success through eff
 ective project management and client delight through high-quality and on-t
 ime delivery\n 	Increased awareness and knowledge of industry standards fo
 r measuring project performance\, thus building one’s competency to work
  with any organization and successfully manage projects therein\n\nTarget 
 Audience\n\n 	Senior management of an organization who should understand t
 he importance and benefits of using Primavera earned value management and 
 who need to know project status and performance\n 	Project team leaders an
 d managers responsible for managing complex projects and tracking project 
 performance regularly\n 	Project coordinators and other project management
  professionals eager to grow in their roles of project management\n 	Other
  stakeholders involved in a project who may need to intervene or interpret
  and understand project performance or manage projects of their own\n 	Any
  other professional interested in knowing more about Primavera earned valu
 e management\n\nCourse Outline\nThis Earned Value Management (EVM) in Prim
 avera course covers the following topics regarding Primavera earned value 
 management:\nComponents of Earned Value Management\n\n 	Input data\n 	Proj
 ect status indicators\n 	Earned value forecasting parameters\n\nImplementa
 tion of Earned Value Analysis\n\n 	Create project\n 	Define work breakdown
  structure\n 	Create calendars\n 	Define activities\n 	Assign durations to
  activities\n 	Assign logic links\n 	Perform scheduling\n 	Assign resource
 s\n 	Create baselines\n 	Update schedule\n 	Analyze earned value\n 	Publis
 h reports\n\nPrimavera Earned Value Management Features\n\n 	Comprehensive
  cost and earned value management\n 	Integrated cost and schedule informat
 ion\n 	Clarity and clear communication of key performance indicators\n 	Go
 vernment standards for performance measurement\n\nSteps for Using Primaver
 a Earned Value Management\n\n 	Add activities\, tie logic\, and set percen
 tage complete to physical\n 	Add resource assignments\n 	Maintain baseline
 \, assign to project\n 	Customize columns for analysis\n 	Update physical 
 percentage complete\, update resource actual units\n 	Schedule project\, a
 dvance data\n\nFeatures of Cost and Schedule Integration\n\n 	Combination 
 of cost and schedule information from other Oracle products\n 	Budget\, fo
 recast\, actual\, and performed cost analysis for complete control\n 	The 
 utilization of Primavera earned value management’s flexible interface fo
 r linking with scheduling functionality in other products\n\nFeatures of G
 overnment Standards for Project Performance Measurement\n\n 	Detailed meas
 urement and modeling of project costs\n 	Storage of past-period actual val
 ues and future-period forecasts for consistent reporting\n 	Unlimited\, us
 er-defined fiscal periods for resource\, cost\, and schedule value storage
 \n 	Committed cost tracking for a complete view of costs\n 	Complex resour
 ce rates modeling within escalation factors\n\nPrimavera Earned Value Mana
 gement Benefits\n\n 	Project portfolio alignment with organizational objec
 tives\n 	Improved project efficiency through role-based alignment\n 	Accur
 ate cost and schedule performance measurement\n 	Analysis and presentation
  of project performance data\n 	Increased program viability\n\nEarned Valu
 e Management Challenges\n\n 	Senior management/team member support\n 	Proj
 ect activity identification\n 	Work completion assessment\n 	Project progr
 ess data acquisition\n 	Actual cost data availability\n 	Contract activity
  measurement\n
ATTACH;FMTTYPE=image/jpeg:https://x8ti.com/wp-content/uploads/2024/12/evm.
 png
CATEGORIES:Project Management
LOCATION:Paris Training Courses\, Maison Colbert Meliá Collection\, Paris\
 , France\, France
X-APPLE-STRUCTURED-LOCATION;VALUE=URI;X-ADDRESS=Maison Colbert Meliá Colle
 ction\, Paris\, France\, France;X-APPLE-RADIUS=100;X-TITLE=Paris Training 
 Courses:geo:0,0
END:VEVENT
BEGIN:VTIMEZONE
TZID:Europe/Paris
X-LIC-LOCATION:Europe/Paris
BEGIN:STANDARD
DTSTART:20261025T020000
TZOFFSETFROM:+0200
TZOFFSETTO:+0100
TZNAME:CET
END:STANDARD
END:VTIMEZONE
END:VCALENDAR