BEGIN:VCALENDAR
VERSION:2.0
PRODID:-//wp-events-plugin.com//7.2.3.1//EN
BEGIN:VEVENT
UID:1136@x8ti.com
DTSTART;TZID=Asia/Dubai:20251208T090000
DTEND;TZID=Asia/Dubai:20251210T010000
DTSTAMP:20241216T062706Z
URL:https://x8ti.com/event/dynamics-365-administration-training-course-5/
SUMMARY:Dynamics 365 Administration Training Course
DESCRIPTION:Introduction\nThis course by Xcelerate Training Institutes prov
 ides comprehensive training on the installation\, configuration\, maintena
 nce\, and support of Microsoft Dynamics 365. Participants will gain profic
 iency in managing users\, security\, services\, workflows\, analytics\, re
 porting\, enterprise portals\, and overall system administration.\nLearnin
 g Objectives\nUpon completion\, participants will be able to:\n\n 	Install
  and configure Microsoft Dynamics 365 components (client\, database\, AOS)
 \n 	Establish necessary service accounts\n 	Fine-tune system parameters\n 
 	Synchronize database and initialize the system\n 	Implement robust user s
 ecurity measures\n 	Define analysis services roles\n 	Configure web servic
 es\n 	Design and execute workflows\n 	Install and configure Microsoft Dyna
 mics 365 BI components\n 	Utilize Windows PowerShell for report deployment
 \n 	Install and configure Enterprise Portal\n 	Define and configure Enterp
 rise Portal parameters\n 	Administer Microsoft Dynamics 365 effectively\n\
 nTraining Methodology\nThis course by Xcelerate Training Institutes should
  incorporate a blended learning approach\, combining instructor-led sessio
 ns with self-paced e-learning modules. Instructor-led sessions would cover
  core administration concepts\, hands-on exercises\, and group discussions
 \, while e-learning modules would provide learners with access to recorded
  sessions\, supplementary materials\, and interactive quizzes for reinforc
 ement. Personalized learning paths should be tailored to individual needs 
 and experience levels\, ensuring that learners acquire the necessary skill
 s and knowledge efficiently. Regular assessments and feedback mechanisms w
 ould be implemented to track progress\, identify knowledge gaps\, and prov
 ide targeted support.\nBenefits for Your Organization\nThis course empower
 s your organization by equipping administrators with the knowledge and ski
 lls to effectively manage and optimize your Dynamics 365 environment. This
  training will enhance system performance\, improve user experience\, and 
 minimize downtime\, ultimately driving productivity and business success.\
 nBenefits for you \nThis course empowers you to effectively manage and opt
 imize your Dynamics 365 environment\, enhancing productivity and efficienc
 y. By mastering environment management\, user provisioning\, security conf
 igurations\, and data management\, you'll streamline operations\, ensure d
 ata security\, and optimize resource utilization\, ultimately driving busi
 ness success.\nTarget Audience\nThis program is tailored for Engineers\, S
 enior Supervisors\, Systems/Applications Specialists\, Administrators\, an
 d new Managers identified by AECL.\nCourse Outline\nFoundation\n\n 	Course
  Overview and Planning\n 	System Installation\n 	User and Security Managem
 ent\n\nCore Functionalities\n\n 	Service Configuration\n 	Workflow Impleme
 ntation\n 	Data Analysis\n\nAdvanced Topics\n\n 	Report Generation\n 	Ente
 rprise Portal Deployment\n 	System Administration\n 	Organizational Model\
 n
ATTACH;FMTTYPE=image/jpeg:https://x8ti.com/wp-content/uploads/2024/12/10-1
 .jpeg
CATEGORIES:Information Technology
LOCATION:Dubai Training Courses\, Hilton Dubai Palm Jumeirah\, Dubai\, UAE\
 , United Arab Emirates
X-APPLE-STRUCTURED-LOCATION;VALUE=URI;X-ADDRESS=Hilton Dubai Palm Jumeirah\
 , Dubai\, UAE\, United Arab Emirates;X-APPLE-RADIUS=100;X-TITLE=Dubai Trai
 ning Courses:geo:0,0
END:VEVENT
BEGIN:VTIMEZONE
TZID:Asia/Dubai
X-LIC-LOCATION:Asia/Dubai
BEGIN:STANDARD
DTSTART:20241208T090000
TZOFFSETFROM:+0400
TZOFFSETTO:+0400
TZNAME:+04
END:STANDARD
END:VTIMEZONE
END:VCALENDAR