BEGIN:VCALENDAR
VERSION:2.0
PRODID:-//wp-events-plugin.com//7.2.3.1//EN
BEGIN:VEVENT
UID:700@x8ti.com
DTSTART;TZID=America/Toronto:20260720T090000
DTEND;TZID=America/Toronto:20260731T130000
DTSTAMP:20260217T212338Z
URL:https://x8ti.com/event/crisis-management-in-public-relations-3/
SUMMARY:Crisis Management in Public Relations
DESCRIPTION:Introduction\nCrisis management by Xcelerate Training Institute
 s is the process of handling unexpected\, disruptive events .Its importanc
 e grew after major industrial and environmental disasters. Crises are sudd
 en threats requiring swift action. Unlike risk management\, which predicts
  and prevents risks\, crisis management focuses on immediate response. It 
 involves identifying\, assessing\, and addressing critical situations. Eff
 ective crisis management requires clear systems\, roles\, and processes. I
 t also includes understanding public perception\, measuring crisis impact\
 , and effective communication. Reputation\, while intangible\, boosts busi
 ness value. Reputation management involves shaping public perception throu
 gh various strategies\, including social media monitoring and public relat
 ions campaigns. Understanding stakeholder views is crucial. Issues managem
 ent identifies potential problems affecting the organization. These three 
 areas are vital for organizational success. This course provides in-depth 
 knowledge of crisis management in public relations\, helping you manage cr
 ises\, protect your organization's reputation\, and advance your career.\n
 Learning Objectives\nThis course aims to equip professionals with comprehe
 nsive crisis management knowledge\, the ability to effectively manage cris
 es\, expertise in reputation management\, including online branding\, skil
 ls to identify and address issues\, foresight to predict and manage risks\
 , advanced skills for career advancement\, confidence in using social medi
 a analytics\, and improved decision-making abilities.\nTraining Methodolog
 y\nXcelerate Training Institutes use a learner-centered approach. Experien
 ced trainers deliver content through audiovisual presentations and encoura
 ge active participation through group activities\, role-plays\, and case s
 tudies. The course follows the Do-Review-Learn-Apply model.\nBenefits for 
 Your Organization\nOrganizations benefit from a knowledgeable workforce\, 
 improved crisis and issue management\, enhanced branding\, increased inves
 tment\, overall organizational growth\, internal training\, regular audits
 \, and a stronger social media presence.\nBenefits for you \nProfessionals
  gain in-depth crisis management knowledge\, enhanced skills for career ad
 vancement\, a broader skill set\, ability to train others\, expertise in c
 onducting internal audits\, proficiency in online reputation management to
 ols\, and increased job security.\nTarget Audience\nThis course is suitabl
 e for top management\, marketing professionals\, investors\, policymakers\
 , human resource professionals\, branding agency members\, and anyone inte
 rested in crisis management.\nCourse Outline\nCrisis Management in Public 
 Relations\n\n 	This training program will explore crucial aspects of crisi
 s\n 	Reputation\n 	Issue management\n\nCrisis Types\nThis section will cat
 egorize crises into various types\, including:\n\n 	natural disasters\n 	T
 echnological failures\n 	Confrontations\n 	Malicious acts\n 	Organizationa
 l misconduct\n 	Workplace violence\n 	Rumors\n 	Human-caused disasters\n\n
 Crisis Management Phases\nThis section will outline the stages of crisis m
 anagement:\n\n 	Prevention\n 	Assessment\n 	Handling\n 	Termination\n\nLea
 dership in Crisis\nThis section will focus on leadership roles during diff
 erent crisis phases: Signal detection\n\n 	Preparation\n 	Containment\n 	R
 ecovery\n 	Learning\n\nLeadership in Crisis Management\nThis section will 
 delve deeper into the leadership role in crisis management:\n\n 	Covering 
 trust-building\n 	Organizational mindset transformation\n 	Vulnerability i
 dentification\n 	Swift decision-making\n 	Knowledge application\n\nCorpora
 te Reputation\nThis section will explore the components of:\n\n 	Corporate
  reputation\n 	Including ethics\n 	Employees\n 	Financial performance\n 	L
 eadership\n 	Social responsibility\n 	Customer focus\n 	Quality\n 	Reliabi
 lity\n 	Emotional appeal\n\nReputation Management\nThis section will discu
 ss the importance of reputation management in:\n\n 	Increasing sales\n 	Bu
 ilding trust\n 	Projecting a positive image\n 	Gaining online insights\n 	
 Facilitating recruitment\n\nIssue Management\nThis section will cover the 
 significance of:\n\n 	Issue management\n 	Emphasizing clear issue identifi
 cation\n 	Documentation\n 	Impact assessment\n 	Prioritization\n 	Action p
 lanning\n\nIssue Management Steps\nThis section will outline the steps inv
 olved in issue management:\n\n 	Identification\n 	Impact evaluation\n 	Res
 earch\n 	Strategy development\n 	Implementation\n 	Progress evaluation\n\n
 &nbsp\;\n\n&nbsp\;
ATTACH;FMTTYPE=image/jpeg:https://x8ti.com/wp-content/uploads/2024/09/What
 sApp-Image-2024-10-25-at-8.39.53-AM-2.jpeg
CATEGORIES:Public Relations
LOCATION:Boston Training Courses\, Boston Harbor Hotel\, Boston\, USA\, Uni
 ted States
X-APPLE-STRUCTURED-LOCATION;VALUE=URI;X-ADDRESS=Boston Harbor Hotel\, Bosto
 n\, USA\, United States;X-APPLE-RADIUS=100;X-TITLE=Boston Training Courses
 :geo:0,0
END:VEVENT
BEGIN:VTIMEZONE
TZID:America/Toronto
X-LIC-LOCATION:America/Toronto
BEGIN:DAYLIGHT
DTSTART:20260308T030000
TZOFFSETFROM:-0500
TZOFFSETTO:-0400
TZNAME:EDT
END:DAYLIGHT
END:VTIMEZONE
END:VCALENDAR