BEGIN:VCALENDAR
VERSION:2.0
PRODID:-//wp-events-plugin.com//7.2.3.1//EN
BEGIN:VEVENT
UID:25@x8ti.com
DTSTART;TZID=Asia/Riyadh:20261019T090000
DTEND;TZID=Asia/Riyadh:20261023T130000
DTSTAMP:20260209T202209Z
URL:https://x8ti.com/event/counter-fraud-internal-control-and-fraud-preven
 tion-4/
SUMMARY:Counter Fraud\, Internal Control and Fraud Prevention
DESCRIPTION:Course Overview\nTransparency is a growing demand among citizen
 s from their government and employees from their organizations. As such\, 
 transparency needs to be managed well and implemented effectively to meet 
 its objective of providing necessary information to those concerned with t
 his information and ensuring that\, in doing so\, corruption and fraud are
  kept under control.\n\nWhile ensuring transparency in processes and trans
 actions is easy in small organizations\, in large organizations\, managing
  it and ensuring that all individuals adhere to such requirements is a maj
 or challenge. This challenge gives rise to the need for having clear and d
 irective policies and guidelines outlining professional behavior and condu
 ct to facilitate transparency and eliminate corruption and fraud.\n\nSuch 
 policies need to be framed in an effective yet simple manner so that they 
 are understood by all and carried out effectively. While framing policies\
 , policymakers and/or other individuals involved in the policy creation an
 d implementation process need to keep in mind the target audience and the 
 practicality of requirements and practices outlined in the policy.\n\nEffe
 ctive policies are framed by expert policymakers. An effective anti-fraud 
 policy is one that has a clear definition of all technical terms used with
 in the policy for clarity to readers. Further\, it outlines clear responsi
 bilities of all stakeholders responsible to take action in the event of fr
 aud\, defines the levels of authority so that there are no incorrect judge
 ments passed and defines reporting lines and contacts so that relevant ind
 ividuals are contacted in the event of fraud.\n\nThe policy also clearly m
 entions the seriousness with which the organization looks at fraud and the
  stringent action that would be taken against defaulters. The policy is fr
 amed in such a manner that it encourages employees to report fraud and emp
 owers them to play an important role in managing and curbing corruption an
 d fraud in the organization.\n\nAn anti-fraud policy is a critical tool fo
 r communicating an organization’s stance and processes concerning fraud.
  The tone of communication should be such that it is taken seriously and h
 as an impact in preventing unethical practices and encouraging others to b
 e intolerant to unethical practices that come to their notice. Policies ra
 ise awareness and ease the responsibility of senior management in preventi
 ng corruption and fraud in an organization.\n\nThis Xcelerate training cou
 rse will empower you with detailed information and knowledge of Counter Fr
 aud\, Internal Control and Fraud Prevention. By undertaking this course\, 
 you will not only understand the importance of such policies but will also
  gain the experience\, confidence and skill to play an active part in fram
 ing such policies for your organization.\n\nFurther\, this training course
  will provide you with the required exposure to create and successfully im
 plement transparency and anti-fraud policies in your organization\, in tur
 n contributing to the elimination of corruption and fraudulent practices w
 ithin your organization.\n\nIt will also provide you with the necessary co
 nfidence and authority to question and take action against any unethical p
 ractice noticed in the organization. By undertaking this training course\,
  you will enhance your skillset to play roles that are more critical in yo
 ur organization\, fostering natural vertical and/or lateral career progres
 sion.\nCourse Objectives\nThe main objective of this course is to empower 
 professionals with—\n\n 	detailed information and knowledge of transpare
 ncy and anti-fraud policies within the organization\n 	the required confid
 ence\, capability and skill to partake in framing of effective transparenc
 y and anti-fraud policies for the organization\n 	adequate exposure\, expe
 rience and confidence to play an active part in successfully implementing 
 these policies within the organization\, thus contributing to a reduction 
 in corrupt and/or fraudulent practices\n 	the confidence\, exposure and ab
 ility to undertake roles of authority to manage instances of fraud and cor
 ruption in the organization\n 	the required skill and understanding to com
 municate objectives and measures effectively to a target audience to meet 
 a defined objective\n 	the necessary knowledge to understand and effective
 ly undertake fraud risk management for the organization\n 	enhanced skill
  and potential to contribute to fraud prevention and transparency implemen
 tation for the growth and development of employees and the business\n\nTra
 ining Methodology\nXcelerate Training institute delivers training in vario
 us formats\, depending on the training audience and topic. The format incl
 udes audio/video presentations\, group debates and activities\, case studi
 es\, group experiential learning activities\, role-plays\, etc. The traine
 r also elaborately discusses practical issues and challenges faced by trai
 nees at their respective workplaces to foster relativity and application o
 f training knowledge and information in a practical setting. The trainees 
 are also asked to create a sample policy of their own.\n\nThis course is d
 elivered as per Xcelerate Training Institute highly successful Do–Review
 –Learn–Apply Model.\nOrganizational Benefits\nOrganizations whose empl
 oyees undertake this course will benefit in the following ways:\n\n 	Well-
 trained and equipped professionals to frame anti-fraud and transparency po
 licies for the organization\n 	Creation and implementation of appropriate 
 and effective anti-fraud and transparency policies\n 	Better fraud risk ma
 nagement\n 	Reduced attempts for fraud or corruption within the processes 
 of the organization\n 	Lesser responsibility on senior members to manage a
 nd communicate actions against fraud because of self-explanatory\, well-fr
 amed policies\n 	Increased investments because of higher credibility and m
 ore protection against fraud\n 	Better employer branding because of a stro
 ng value-driven\, anti-corruption\, transparent work culture\n\nPersonal B
 enefits\nThrough this course\, professionals will benefit in the following
  ways:\n\n 	Increased understanding of transparency and fraud management i
 n one’s organization\n 	Enhanced skill\, experience and understanding to
  partake in framing effective transparency and anti-fraud policies for one
 ’s organization and successfully implementing these\n 	Increased confide
 nce to play an important role in fraud prevention and management\n 	Increa
 sed experience\, exposure and confidence to undertake positions of authori
 ty and take appropriate decisions in the event of fraud reported in the or
 ganization\n 	Adequate exposure and experience to balance transparency and
  fraud prevention effectively for one’s organization\n 	A sense of pride
  and satisfaction to contribute to the growth of one’s organization and 
 colleagues by ensuring transparency and effectively managing fraud and cor
 ruption\n 	Enhanced skill set and potential fostering defined career growt
 h and progression\n\nWho Should Attend?\n\n 	Senior management of an organ
 ization responsible for ensuring corruption-free and transparent business 
 transactions and operations\n 	Policymakers responsible for framing approp
 riate and effective transparency and anti-fraud policies for an organizat
 ion\n 	Internal and external auditors responsible for ensuring adherence t
 o policies and guidelines set out by the organization\n 	Legal officials\,
  law enforcement agencies and investigators responsible for taking legal a
 ction in the event of fraud or corruption\n 	Human resource professionals 
 responsible for ensuring a transparent work culture and responsible for sp
 reading awareness of policies and encouraging adherence to the same\n 	Any
  other professional interested in knowing more about effective ways to cre
 ate and implement transparency and anti-fraud policies\n\nCourse Outline\n
 The course will cover the following areas that are critical for understand
 ing effective creation and implementation of transparency and anti-fraud p
 olicies:\nOverview of Fraud and Transparency in a Business Context\n\n 	De
 finition\n 	Impact of Fraud\n 	Impact of Transparency\n\nImportance of Fra
 ud Prevention\n\n 	Increased company morale and values\n 	Better risk and 
 cost management\n 	Increased investments\n 	Better employer branding\n 	Re
 duced risk of losses\n\nImportance of Transparency\n\n 	Democracy\, accoun
 tability\, participation\n 	Good governance\n 	Increased efficiency and ef
 fectiveness\n 	Reduced corruption\n\nTypes of Fraud\n\n 	Asset misappropri
 ation\n 	Consumer fraud\n 	Procurement fraud\n 	Bribery/corruption\n 	Busi
 ness misconduct and cybercrime\n 	Human resource fraud\n 	Accounting fraud
  and money laundering\n 	Intellectual property theft\n 	Law infringement\n
  	Tax fraud\n\nAreas of Fraud Impact\n\n 	Sustainable development\n 	Socio
 -economic development\n 	Public trust\n 	Government legitimacy\n 	Financia
 l markets\n\nFeatures of a General Policy\n\n 	­Provides necessary defini
 tions\n 	Clarifies applicability and eligibility\n 	Defines authority leve
 ls\n 	Defines the responsibilities of all stakeholders involved (allocatio
 n of responsibilities)\n 	Defines reporting lines\n\nFeatures of an Anti-F
 raud Policy\n\n 	Simple\, concise\, widely communicated\n 	Clear applicabi
 lity and expected staff behavior\n 	Fraud definition in the business conte
 xt\n 	Outlined responsibilities of senior managers/staff\n 	Detailed cours
 e of action for reporting fraud\n 	Appropriate and simple communication ch
 annels\n 	Equal action against all defaulters\n 	Protection of witness ide
 ntity\n\nChallenges to Implementation of Transparency and Fraud Prevention
 \n\n 	Lack of leadership support\n 	Lack of employee agreement and accepta
 nce\n 	Lack of awareness\n 	Digitization (lack of human control\, increase
 d dependence)\n 	External/political influence\n 	Unclear action\n\n&nbsp\;
ATTACH;FMTTYPE=image/jpeg:https://x8ti.com/wp-content/uploads/2024/08/Scre
 enshot_20240831-125858_Chrome-1.jpg
CATEGORIES:Audit, Compliance and Governance
LOCATION:http://Online
END:VEVENT
BEGIN:VTIMEZONE
TZID:Asia/Riyadh
X-LIC-LOCATION:Asia/Riyadh
BEGIN:STANDARD
DTSTART:20251019T090000
TZOFFSETFROM:+0300
TZOFFSETTO:+0300
TZNAME:+03
END:STANDARD
END:VTIMEZONE
END:VCALENDAR