BEGIN:VCALENDAR
VERSION:2.0
PRODID:-//wp-events-plugin.com//7.2.3.1//EN
BEGIN:VEVENT
UID:462@x8ti.com
DTSTART;TZID=Europe/London:20261026T090000
DTEND;TZID=Europe/London:20261106T130000
DTSTAMP:20260209T210223Z
URL:https://x8ti.com/event/corporate-governance-code-principles-models-pol
 icies-and-best-practices-6/
SUMMARY:Corporate Governance Code\, Principles\, Models\, Policies and Best
  Practices
DESCRIPTION:Course Overview\nCorporate governance refers to the set of rule
 s and laws by which businesses are operated and managed. The corporate gov
 ernance code defines good practice standards in connection with issues rel
 ating to the composition of the Board\, remuneration\, accountability\, et
 c.\n\nThe objective of the code is to ensure that all corporations party t
 o it function in a manner compliant with that set out in the code. Those w
 ith non-compliance instances owe an explanation and justification for not 
 conforming to it.\n\nThere are various models of corporate governance\, wi
 th each having its own set of principles. Organizations following any one 
 of these should adhere to the standards and best practices mentioned there
 in.\n\nThis Xcelerate training course will empower you with a detailed und
 erstanding and information around corporate governance\, specifically the 
 corporate governance code\, principles\, models\, policies and best practi
 ces.\n\nThe course content covers a wide spectrum of topics concerning cor
 porate governance and provides all the required experience and skills to u
 ndertake challenging and critical roles in the area of corporate governanc
 e\, also helping you choose from many relevant career opportunities across
  corporate governance.\nCourse Objectives\nThe key objective of this train
 ing course is to empower professionals to—\n\n 	thoroughly understand ma
 ny key areas of corporate governance\, including the code\, principles\, m
 odels\, policies and best practices\n 	multi-task between multiple challen
 ging opportunities arising from several areas concerning corporate governa
 nce\, thereby demonstrating one’s potential to successfully handle multi
 ple areas of corporate governance\, in turn supporting one’s growth and 
 development\n 	apply the knowledge and information received through the tr
 aining program to enhance existing systems and processes within one’s or
 ganization\, contributing to organizational growth and development\n 	expl
 ore opportunities for training other professionals on various aspects of c
 orporate governance\, including the code\, principles\, models\, policies 
 and best practices\n 	analyses and predict any challenges facing corporate
  governance\, while defining ways and means to mitigate the impact of thes
 e\n 	review and create various policies and guidelines for effective corpo
 rate governance across one’s organization\, demonstrating one’s capabi
 lities to undertake managerial roles and responsibilities fostering career
  growth and progression\n 	acquire adequate knowledge and experience to ex
 plore opportunities across any role in any organization\, thus widening on
 e’s scope for career progression\n\nTraining Methodology\nXcelerate Trai
 ning Institute offers training in the theoretical and practical formats. T
 he theoretical training is delivered by experienced professionals\, using 
 audio-visual presentations for reference. Before the commencement of each 
 training session\, the course content is reviewed by the trainer to ensure
  that it suits the training audience.\n\nThe trainer encourages trainee pa
 rticipation through group activities and assignments as well as role-plays
  and case study discussions\, all of which constitute the practical traini
 ng. Experiential learning is focused upon\, given the immense benefits it 
 provides.\n\nThis innovative\, effective approach to training is used by Z
 oe Talent Solutions alone for all its courses and is called the Do–Revie
 w–Learn–Apply Model.\nOrganizational Benefits\nWith professionals unde
 rgoing this training course\, organizations will derive the following bene
 fits:\n\n 	Good corporate governance through established and advanced sys
 tems defined and managed by trained and experienced professionals\n 	Adher
 ence with the corporate governance code\, thereby contributing to organiza
 tional credibility and success\n 	Application of advanced models of corpor
 ate governance to suit the business\, promising success in the execution o
 f all rules and guidelines set therein\n 	Best practice sharing and traini
 ng of other employees on corporate governance principles and related funct
 ions\n 	Continuous review and amendments to policies and systems to stay r
 elevant and competitive in the market\n 	Healthy and honest work environme
 nt for all employees\, thus promoting employee welfare and fostering emplo
 yee growth\n 	Effective risk assessment and management by trained professi
 onals\, contributing to sustainability and longevity of the business\n 	Or
 ganizational growth and development because of robust corporate governance
  systems increasing organizational success and credibility\n\nPersonal Ben
 efits\nProfessionals opting for this training course will benefit in the f
 ollowing ways:\n\n 	Complete understanding and detailed information about 
 corporate governance\, including the corporate governance code\, principle
 s\, models\, policies and best practices\n 	Increased knowledge and experi
 ence to use advanced systems and models of corporate governance that would
  best suit the nature of business\n 	Greater understanding and informatio
 n about the corporate governance code to ensure that one’s organization 
 functions in adherence to this\, thereby fostering greater opportunities f
 or career growth\n 	Better confidence and knowledge to establish and manag
 e defined and clear policies and guidelines of corporate governance\, in t
 urn inviting further opportunities to assume higher roles and responsibili
 ties within the organization\n 	Increased ability to handle multiple facet
 s of corporate governance\, demonstrating one’s potential to assume mana
 gerial responsibilities\n 	Increased confidence\, knowledge and experience
  to train other professionals on various aspects of corporate governance\n
  	Better understanding and perspective to foresee challenges and take prec
 autions before they could hamper the operations of one’s organization\n 
 	Enhanced skill and capability to work across any role within the corporat
 e governance domain\, thus enriching one’s professional portfolio and wi
 dening the scope for career growth across organizations\n\nWho Should Atte
 nd?\n\n 	The executive staff of organizations who are most closely impacte
 d by the policies set out under corporate governance\n 	Managers and leade
 rs playing critical roles in ensuring that all policies and guidelines are
  adopted and followed\n 	Human resource professionals who actively contrib
 ute to the creation and implementation of policies and guidelines\n 	Inter
 nal and external auditors responsible for ensuring adherence to fair pract
 ices and guidelines\n 	Shareholders and other top management who need to m
 ake strategic decisions in line with the principles and requirements of co
 rporate governance\n 	Legal advisors handling disputes and cases of non-ad
 herence to universally accepted standards\n 	Any other professional intere
 sted in knowing more about the corporate governance code\, principles\, mo
 dels\, policies and best practices\n\nCourse Outline\nThe course covers th
 e following aspects regarding the corporate governance code\, principles\,
  models\, policies and best practices:\nKey Players in the Corporate Gover
 nance Triangle\n\n 	Management\n 	Board of directors\n 	Shareholders\n\nOb
 jectives of Corporate Governance\n\n 	Market safety\n 	Investor protection
 \n 	Shareholder empowerment\n 	Greater holding value\n\nPillars of Good Co
 rporate Governance\n\n 	Accountability\n 	Fairness\n 	Transparency\n 	Assu
 rance\n 	Leadership and stakeholder management\n\nBest Practices for Corpo
 rate Governance\n\n 	Building a competent board\n 	Aligning strategies wit
 h goals\n 	Being accountable\n 	Possessing a high level of ethics and inte
 grity\n\nCharacteristics of Good Governance\n\n 	Participatory\n 	Consensu
 s-oriented\n 	Accountable\n 	Transparent\n 	Responsive\n 	Effective and ef
 ficient\n 	Equitable and inclusive\n 	Abidance with rule of law\n\nModels 
 of Corporate Governance in Developed Capital Markets\n\n 	Anglo-US model\n
  	Japanese model\n 	German model\n\nPrinciples of the Corporate Governance
  Code\n\n 	Leadership\n 	Effectiveness\n 	Accountability\n 	Remuneration\n
  	Shareholder relationships\n\nImportant Aspects when Framing Corporate Go
 vernance Policy\n\n 	Established laws\n 	Risk assessments\n 	Available str
 ategies\n 	Relevant factors\n 	Compliance\n 	Beneficial outcomes\n 	Best p
 ractices\n 	Certified board of directors\n 	Clear roles and responsibiliti
 es\n 	Integrity and fairness\n 	Accountability and transparency\n\n&nbsp\;
ATTACH;FMTTYPE=image/jpeg:https://x8ti.com/wp-content/uploads/2024/10/Scre
 enshot_20241014-135722_Chrome.jpg
CATEGORIES:Audit, Compliance and Governance
LOCATION:London Training Courses\, The Ritz London Hotel\, London\, UK\, Un
 ited Kingdom
X-APPLE-STRUCTURED-LOCATION;VALUE=URI;X-ADDRESS=The Ritz London Hotel\, Lon
 don\, UK\, United Kingdom;X-APPLE-RADIUS=100;X-TITLE=London Training Cours
 es:geo:0,0
END:VEVENT
BEGIN:VTIMEZONE
TZID:Europe/London
X-LIC-LOCATION:Europe/London
BEGIN:STANDARD
DTSTART:20261025T010000
TZOFFSETFROM:+0100
TZOFFSETTO:+0000
TZNAME:GMT
END:STANDARD
END:VTIMEZONE
END:VCALENDAR