BEGIN:VCALENDAR
VERSION:2.0
PRODID:-//wp-events-plugin.com//7.2.3.1//EN
BEGIN:VEVENT
UID:573@x8ti.com
DTSTART;TZID=Europe/Paris:20260525T090000
DTEND;TZID=Europe/Paris:20260529T130000
DTSTAMP:20260215T162728Z
URL:https://x8ti.com/event/construction-risk-management-2/
SUMMARY:Construction Risk Management
DESCRIPTION:Introduction\n\nMost construction sites and projects are natura
 lly prone to numerous risks\, from health to structural risks that are a t
 ragedy in waiting. Therefore\, it is the work of all the project managers\
 , working together with the surveyors and engineers\, to determine earlier
  enough the risks involved in any construction project or undertaking. Thi
 s course aims to equip such crucial professionals with the necessary skill
 s to correctly and effectively identify and predict all the possible risks
  in any construction project easily by giving them the necessary knowledge
 \, practical guides\, and techniques that can only be offered at Xcelerate
  Training Institute.\n\nEvery construction site is different and unique in
  its way and comes with its unique challenges with disguised opportunities
 . Handling the unique nature of construction projects by managing their ri
 sks can sometimes be a little too much but not impossible if there is a th
 orough planning process and execution.\n\nRisks can derail and easily beco
 me financial burdens when they turn into realities. That is why understand
 ing and managing construction risks are crucial to any construction projec
 t. Proper assessment\, monitoring\, and controlling of risk are some of th
 e thing's participants get to learn when they take this course.\n\nThe ski
 lls\, deep knowledge\, and applicable technical know-how that participants
  will gain from this course can help them catapult their professional care
 ers. This journey will give them a permanent place in their organizations 
 as the go-to person in matters concerning construction risk management. Ri
 sks can sometimes become great opportunities to increase profits and estab
 lish a concrete relationship with clients. This is\, if they are handled a
 nd managed properly.\n\nLearning Objectives\n\nThe main objectives of this
  course are to enable participants to be able to:\n\n 	Understand the risk
  management process and techniques thoroughly\n 	Get a better understandin
 g of how to use different tools and techniques to manage risks effectively
 \n 	Be professionals who understand how risk appetite\, tolerance\, and es
 calation work\n 	Study in detail risk management models and apply them in 
 their construction projects effectively\n 	Contribute to the development a
 nd credibility of their organizations by delivering high-quality risk repo
 rts and predicting risks correctly\n 	Improve their clients’ satisfactio
 n by ensuring that all the possible risks in any construction project are 
 captured\n\nTraining Methodology\n\nThis course will be delivered by highl
 y trained professionals who are a voice of authority in their field becaus
 e of their quality work. All the participants are encouraged to be engagin
 g during the lessons. There will be notes\, lectures\, case studies\, and 
 projects to ensure complete mastery of all the lessons. Like all our accl
 aimed courses\, this program also follows the ‘Do-Review-Learn-Apply’ 
 model.\n\nRole-plays and presentations will be introduced where applicable
 .\n\nBenefits For Your Organization\n\nOrganizations that will have profes
 sionals who have taken this course will benefit in the following ways:\n\n
  	Detailed and well-analyzed risk assessment with proper management to rev
 iew and predict all the possible challenges that projects might face\n 	We
 ll-managed organizations with reduced costs implication that might have oc
 curred due to avoidable tragedies\n 	Increased credibility because of incr
 eased customer satisfaction and well-managed risks\n 	Regular training of 
 other employees in modern techniques to identify and manage risks\n 	Well-
 developed risk management frameworks that adhere to international standard
 s\n 	Effective and efficient decision-making process\n 	Better utilization
  of the available resources\n\nBenefits For You\n\nThe course will give th
 e participants the ability to:\n\n 	Understand the integrated approach to 
 managing risks in construction projects\n 	Developed highly valued risk ma
 nagement protocols and processes\n 	Identify\, assess\, and analyses const
 ruction risks\n 	Gain the required skills and knowledge to assume a high-l
 evel office in their organization\n 	Understand in better ways their roles
  and responsibilities in identifying and assessing construction risks\n 	T
 rack and monitor construction risks effectively\n 	Develop international l
 evel structures and frameworks that will be used to manage construction ri
 sks\n\nTarget Audience\n\nThis course is highly beneficial but not limited
  in any way to the following groups of people:\n\n 	Risk and compliance of
 ficers\n 	Audit officers who intend to scale their skills in identifying l
 oopholes easily\n 	Construction project managers who intend to successfull
 y manage their projects professionally\n 	Senior management officers who a
 re responsible for enforcing risk management frameworks\n 	Construction wo
 rkers want to be safe and ensure they foresee all the risks involved in co
 nstruction projects\n 	Clients with construction projects would like to en
 sure their contractors follow risk management standards\n\nCourse Outline
  \n\nIntroduction to Risk Management\n\n 	Risk Management Frameworks and 
 How They Are Made\n 	What Is a Risk?\n 	Why Is Risk Management So Crucial?
 \n 	Risk Management Methods\n 	Policy And Strategy Formulation\n 	Risk Pro
 cedures and Protocols\n 	Risk Architecture\n 	Benefits Of Risk Allocation\
 n\nRisk Management Process\n\n 	Establishing The Right Context\n 	Risk Ran
 king (Using the Raking Matrix)\n 	Risk Identification and Assessment Techn
 iques\n 	The Cause-And-Effect Relationship That Exists in Risk\n 	Risk Pri
 oritization Methods and Analysis\n 	Risk Appetite\, Tolerance\, And Capaci
 ty\n 	Risk Reviewing and Monitoring Process\n 	Risk Profiling\n\nRisk Gove
 rnance\n\n 	The RAS (Risk Appetite Statement)\n 	Strategies Used in Risk M
 anagement\n 	The Lines of Defense Model\n 	Ensuring The Workflow of Any Co
 nstruction Site Is Seamless\n 	Safety Issues\n 	Risk Reporting\n 	Data-Dri
 ven Approach to Decision Making\n 	How To Transfer Project Risks\n\nRisk M
 itigation\n\n 	International Standards in Risks\n 	Adhering To the Necessa
 ry Standards\n 	Following All the Regulations\n 	Ensuring Everyone Does Th
 eir Job\n 	How To Handle Multiple Risks\n 	Sharing Resources Between Diffe
 rent Risk Types\n\nRisk Types And How They Are Handled\n\n 	Financial Risk
 s and Their Effects\n 	Environmental Risks and Why They Should Be Handled 
 In Detail\n 	Scheduling Risks\n 	Accepting Project Risks\n 	Construction R
 isks Management Process\n\nIdentifying Construction Risks\n\n 	Risk Identi
 fication Timing\n 	Reconstruction Phase Risk Assessment\n 	All The Potenti
 al Project Risks\n 	Brainstorming The Possible Risks\n 	Defining The Scope
 \n 	Handling Stakeholders to Identify Risks\n\nCommon Construction Risks\n
 \n 	Natural disasters\n 	Poor decision-making\n 	Orders management\n 	Poor
 ly written contracts\n 	Labor shortages\n 	Unexpected increase in the budg
 et\n 	Unknown site scenarios\n 	Poorly defined scope of work\n\nAssessing 
 Risk Exposure\n\n 	Risk identification process and techniques\n 	Project r
 isks evaluation for possible exposure and level\n 	Overall risk management
  strategy\n 	Plan for risk\n\n 	Covering all the “what if” scenarios\n
  	Getting all the details for actions that can mitigate risks\n 	Assessing
  risk costs and mitigation strategy\n\n\n 	Accept that some risks cannot b
 e avoided and how to deal with them\n 	Risk events monitoring\n\n 	Regular
  assessments\n 	Regular strategy revisions\n 	Informed decision-making pro
 cess\n\n\n 	Managing documents in every construction project\n\nThe Constr
 uction Contract\n\n 	Contractor and owner responsibilities\n 	Addressing d
 elays and time for performance\n 	Governing law and assignment\n 	Procedur
 es for payments\n 	Relating with various subcontractors that are separate 
 from the contractors\n 	Requirements\, insurance\, bonds\, and indemnity\n
  	Dispute resolution process\n 	Project close-out procedures\n 	Contract s
 uspension and termination agreement\n 	Changes initiation in the works of 
 the contractor\n 	Miscellaneous\n\nThe Construction Details and their Risk
 s\n\n 	Subsurface geological conditions\n 	Defective designs\n 	Equipment 
 commissioning\n 	Damage to persons or property\n 	Site access\n 	Late inst
 ructions and designs\n 	Cost of tests and sampling\n 	Accidents such as fi
 re\, collisions\, etc.\n 	Detail of design and its level\n 	Funding\n 	Int
 rusion\n 	Vandalism\n 	Assaults\n 	Negligence\n 	Terrorism\n 	Defective wo
 rk\n 	Suitability of materials\n 	Labor disputes\n 	Strikes\n 	Natural cat
 astrophes\n 	Regulations\n 	Environmental\n\n&nbsp\;
ATTACH;FMTTYPE=image/jpeg:https://x8ti.com/wp-content/uploads/2024/11/What
 sApp-Image-2024-10-25-at-9.27.45-AM1.jpeg
CATEGORIES:Construction Management &amp; Civil Engineering
LOCATION:Paris Training Courses\, Maison Colbert Meliá Collection\, Paris\
 , France\, France
X-APPLE-STRUCTURED-LOCATION;VALUE=URI;X-ADDRESS=Maison Colbert Meliá Colle
 ction\, Paris\, France\, France;X-APPLE-RADIUS=100;X-TITLE=Paris Training 
 Courses:geo:0,0
END:VEVENT
BEGIN:VTIMEZONE
TZID:Europe/Paris
X-LIC-LOCATION:Europe/Paris
BEGIN:DAYLIGHT
DTSTART:20260329T030000
TZOFFSETFROM:+0100
TZOFFSETTO:+0200
TZNAME:CEST
END:DAYLIGHT
END:VTIMEZONE
END:VCALENDAR