BEGIN:VCALENDAR
VERSION:2.0
PRODID:-//wp-events-plugin.com//7.2.3.1//EN
BEGIN:VEVENT
UID:569@x8ti.com
DTSTART;TZID=America/Toronto:20260622T090000
DTEND;TZID=America/Toronto:20260626T130000
DTSTAMP:20260216T161758Z
URL:https://x8ti.com/event/construction-quality-control-3/
SUMMARY:Construction Quality Control
DESCRIPTION:Introduction\n\nIt is reported that the total cost of poor and 
 inefficient control of construction quality costs a lot. Sometimes\, it is
  more than the total combined profits of all the companies involved in the
  construction.\n\nGood quality management combined with proper procedures 
 can transform these losses into profits and ensure customer satisfaction i
 s guaranteed. However\, developing and meeting the quality objectives is a
  process that requires a deep understanding of the legislation and complia
 nce requirements of any construction project. Luckily\, this course will o
 ffer a practical and tested approach to solving all the construction quali
 ty control problems while ensuring that the international standards are ma
 intained.\n\nReal case study examples will be provided with a focus on the
  use of modern technology and techniques to ensure quality is maintained. 
 This Xcelerate Training Institute course has been designed to suit profess
 ionals who have experience in the field and those who are just starting th
 eir careers or intend to start careers in the construction field. All the 
 participants will greatly benefit from its design and have a better unders
 tanding of the application and importance of quality control in the constr
 uction industry.\n\nParticipants enrolled in this course will be exposed t
 o state-of-art techniques and methods that are used to ensure that quality
  is maintained in the construction industry. It will give insights into ho
 w the control specification recommendations work and how to use the new an
 d modern techniques and technology to ensure quality is achieved.\n\nLearn
 ing Objectives\n\n 	Contribute in great ways to the credibility and develo
 pment of their organizations by ensuring quality is maintained in all the 
 construction project undertakings\n 	Apply advanced tools and technologies
  to enhance the project quality control process\n 	Oversee multiple functi
 ons end to end at ensuring the construction quality control process is fol
 lowed\n 	Familiarize themselves with all the quality management techniques
  and procedures\n 	Familiarize themselves with all the quality control pro
 cesses in different weather conditions\n 	Deeply understand the practical 
 tools\, methods\, and techniques to control construction quality from the 
 start to finish of any project\, including processes such as field-testing
  and required lab facilities\n 	Learn new concepts such as concrete streng
 th measurement\n 	Learn how to conduct the available non-destructive testi
 ng for different construction materials\n\nTraining Methodology\n\nXcelera
 te Training Institute Talent offers this course by utilizing the best indu
 stry-known professionals who have vast experience in quality control. The 
 mode of delivery will be lectures\, notes\, practical exercises\, and pres
 entations where necessary. Like all our acclaimed Xcelerate Training Inst
 itute courses\, this program also follows the ‘Do-Review-Learn-Apply’ 
 model.\n\nAll the participants are highly encouraged to be active during t
 he delivery of this course to ensure maximum retention of the skills and k
 nowledge.\n\nBenefits For Your Organization\n\nOrganizations that will hav
 e professionals who have taken this course will benefit in the following w
 ays:\n\n 	Enhanced quality of engineering review\, which is guaranteed to 
 improve the organization's project output\n 	Seamless operations in ensuri
 ng construction quality are maintained\n 	Detailed risk assessment involvi
 ng the negligence of construction quality\n 	Better construction project m
 aintenance\n 	Reduced and well-managed costs because of improved and bette
 r techniques of ensuring there is quality control\n 	Increased investment 
 returns by reducing the associated legal fees of not controlling construct
 ion quality\n 	Regular upscale of other employees’ skills and knowledge 
 by working alongside well-trained professionals who understand what they a
 re doing\n 	Improved organizational utilization of modern tools to achieve
  better results\n 	A thorough review of the existing quality control proce
 sses\n\nBenefits For You\n\nAll the professionals who will undergo this co
 urse will benefit in the following ways:\n\n 	Improved and better design c
 apabilities of the professional\n 	Increased skills to enhance the quality
  of the materials and requirements of any construction process\n 	Enhanced
  understanding of how to use modern technologies and tools\n 	Added skille
 ts that can help when taking up higher-level responsibilities\n 	Improved 
 confidence to teach others and better capabilities at leading others\n 	Be
 tter and deep understanding of the construction quality control processes\
 n 	Enhanced foresight to predict all the issues that may arise due to cons
 truction quality control\n\nTarget Audience \n\nThis course will be intere
 sting and beneficial to the following professionals\, but it is not limite
 d to them only in any way:\n\n 	Structural and civil engineers who intend 
 to follow quality control guidelines when developing their designs\n 	Proj
 ect managers\, when attending to their duties to ensure that the construct
 ion project follows the quality controls set\n 	Quality assurance officers
  who are already practicing\n 	Quality control professionals who want to r
 efresh their knowledge\n 	Construction managers\n 	Auditors\n\nCourse Outl
 ine\n\nConcrete Materials Components\n\n 	Example of Quality Control of co
 ncrete foundations construction under vibrating machines\n 	Codes and spec
 ification limitations as ACI and EN\n 	The nature of concrete variability\
 n 	Checking corrosion in steel bars\n 	Preparation before concreting\n 	Co
 des recommendation for the quality control\n 	Properties of concrete mater
 ials such as aggregate and cement\n 	Comparison of different Non-destructi
 ve testing methods\n\nProperties of Fresh Concrete\n\n 	Quality control fo
 r concrete form work\n 	Basic statistics\n 	Precaution in various climatic
  conditions\n 	Auditing the construction site quality\n 	Statistics for th
 e quality control data\n 	Data for evaluation collection\n 	Concrete desig
 n mix\n\nProcessing Fresh Concrete\n\n 	Hot weather handling of concrete d
 uring pouring\n 	Cube and cylinder tests\n 	Applied weight of the load on 
 the existing or new steel structure in construction activities\n 	Steel ba
 rs replacement\n 	Work ability test for concrete\n\nIntegrity Management\n
 \n 	Anchor bolts quality control\n 	Welding processes and their precaution
 s\n 	Quality control for tank construction\n 	Materials used in welding st
 eel structures\n 	Quality control for foundation construction and machine 
 installations\n 	The five methods application\n 	The main reasons for vari
 ous welding defects\n\nTotal Quality Management for Concrete\n\n 	Coeffici
 ent of variation\n 	Qualified personnel who should undertake the quality c
 ontrol\n 	Total quality control management system\n 	Pareto chart\n\nTakin
 g Care of Concrete\n\n 	Precautions in design mix in hot weather condition
 s\n 	How to control the fresh concrete obtained from the ready-mix plant\n
  	Coefficient of variation\n 	Evaluating the grade of the quality of concr
 ete\n 	How to control various types of concrete casting on site\n\nNon-Des
 tructive Tests\n\n 	Loki tests\n 	Various concrete tests were performed by
  various control personnel\n 	Rebound hammer\n 	Ultrasonic\n 	Core test\n 
 	Corrosion phenomena affecting quality\n\nQuality Assurance for Various Co
 nstruction Materials\n\n 	Quality control for corrosion protection systems
 \n 	The procedure of conducting quality control while on construction proj
 ects\n 	Steel reinforcing quality control\n 	Applying the quality control 
 techniques to wood form works\n 	Applying the quality control techniques t
 o steel constructions\n 	Quality assurance and quality control for the fou
 ndation in various industries\n\n&nbsp\;
ATTACH;FMTTYPE=image/jpeg:https://x8ti.com/wp-content/uploads/2024/11/What
 sApp-Image-2024-10-25-at-9.27.43-AM.jpeg
CATEGORIES:Construction Management &amp; Civil Engineering
LOCATION:Boston Training Courses\, Boston Harbor Hotel\, Boston\, USA\, Uni
 ted States
X-APPLE-STRUCTURED-LOCATION;VALUE=URI;X-ADDRESS=Boston Harbor Hotel\, Bosto
 n\, USA\, United States;X-APPLE-RADIUS=100;X-TITLE=Boston Training Courses
 :geo:0,0
END:VEVENT
BEGIN:VTIMEZONE
TZID:America/Toronto
X-LIC-LOCATION:America/Toronto
BEGIN:DAYLIGHT
DTSTART:20260308T030000
TZOFFSETFROM:-0500
TZOFFSETTO:-0400
TZNAME:EDT
END:DAYLIGHT
END:VTIMEZONE
END:VCALENDAR