BEGIN:VCALENDAR
VERSION:2.0
PRODID:-//wp-events-plugin.com//7.2.3.1//EN
BEGIN:VEVENT
UID:299@x8ti.com
DTSTART;TZID=Europe/Paris:20270104T090000
DTEND;TZID=Europe/Paris:20270108T130000
DTSTAMP:20260301T100151Z
URL:https://x8ti.com/event/construction-project-management-5/
SUMMARY:Construction Project Management
DESCRIPTION:Course Overview\nAs a construction project manager\, you overse
 e the entire project lifecycle\, from initial client requirements to final
  handover. This Xcelerate course equips you with the knowledge and skills 
 to effectively manage construction projects.\n\nCourse Objectives\nThe obj
 ectives of this training course are to empower professionals with:\n\n 	A 
 functional overview of the core elements of construction project managemen
 t and the skills required to coordinate building projects\n 	The onset kno
 wledge of the role of a Construction project manager\, and the competencie
 s needed to set yourself apart in construction management\n 	Knowledge on 
 how to become adept at applying project management principles\n 	Knowledge
  on techniques for projects of various sizes and complexity\n 	Ability to 
 achieve successful project delivery\n 	Practical experiences through the m
 anagement of the project with cases\, scenarios\, and challenges\n 	Fundam
 ental and advanced knowledge of managing stakeholders of construction proj
 ects.\n 	The ability to capture and understand the needs of clients and st
 akeholders\, and create reporting structures accordingly\n 	The skill and 
 ability to communicate and manage change even among construction workers\,
  thereby supporting project functions seamlessly\n 	Time Management and co
 st management skills to avoid falling behind schedule\, and over budget\n 
 	Advanced skills in how to identify risks &amp\; mitigate them\n 	The expe
 rience and knowledge to oversee the health and safety of all construction 
 workers\, project team members\, and other stakeholders\n 	The knowledge a
 nd experience to effectively and successfully closeout the project\n\nTrai
 ning Methodology\nThis collaborative Construction Project Management Mast
 erclass will comprise the following training methods:\n\n 	Lectures\n 	Se
 minars &amp\; Presentations\n 	Group Discussions\n 	Assignments\n 	Case St
 udies &amp\; Functional Exercises\n\nLike all Xcelerate acclaimed courses\
 , this masterclass also follows the ‘Do-Review-Learn-Apply’ model.\nOr
 ganizational Benefits\nThrough this course\, the respective organizations 
 through the trained professionals will benefit as follows:\n\n 	Trained an
 d experienced professionals who deliver successful projects on time\, and 
 within budget\n 	Lean operations\, and cost-improvised advanced technologi
 es\, thereby contributing to better productivity\, output\, and reduced co
 sts\n 	Being at the forefront of emerging trends and technologies to secur
 e a competitive edge in the Construction industry\n 	Key Construction team
  members\, and stakeholders\, being aware of the elements and complexities
  of construction project management\n 	Better risk assessment profiling an
 d management of risks\n 	Seamless project delivery through better project 
 planning\, negotiation with vendors/contractors\, and communication with s
 takeholders\n 	Increased credibility in the industry\, through trained pro
 fessionals\, hence leading to potentially greater investments through inve
 stors\n\nPersonal Benefits\nProfessionals taking this course will benefit 
 in the following ways:\n\n 	Increased understanding and knowledge\, a comp
 rehensive overview of the construction project management process\n 	Gaini
 ng the essential skills required for managing a construction project\n 	Be
 coming effective\, and adept at applying project management principles and
  techniques to projects of various sizes and complexity\, to achieve succe
 ssful project delivery\n 	Increased knowledge\, and experience to train co
 nstruction workers on industrial best practices\n 	Enhanced perspective an
 d foresight to effectively assess future risks so that they don’t negati
 vely impact the organization\n 	Enhanced skill and ability to introduce le
 an operations\, and lean behaviors\n 	Enhanced career prospects\, boosting
  your project management skills\n 	The ability to bring all your projects 
 to successful conclusions – in time\, under budget\, and to the expectat
 ion of the key stakeholders\n 	Increased your professional marketability t
 hrough the certification\n\nTarget Audience\n\n 	Construction project mana
 gers\n 	Management and/or senior management of organizations who must unde
 rstand the importance of all elements that need expertise in construction 
 project management\n 	Professionals looking to develop their careers in Co
 nstruction Project Management\n 	Junior engineers/project managers\n 	Civi
 l Engineers\, Designers\, Architects\, Construction Clients\, Consultants\
 , Contractors\, and other stakeholders.\n 	Any other professional\, who wo
 uld like to find out and learn more about project management in the Constr
 uction Industry\n\nCourse Outline\nIntroduction to Construction Management
 \n\n 	Overview of the construction industry.\n 	Project &amp\; Life Cycle\
 n 	What is Construction Management\n\nProject Delivery Method / Management
  of a Construction Project\n\n 	Project management methods\n 	Project deli
 very methods\n 	Payment and procurement methods\n 	The design-bid-build me
 thod\n 	The design-build method\n 	Construction manager at risk (CMAR)\n 	
 Integrated project delivery (IPD)\n 	Embracing Change\n\nPlanning &amp\; S
 cheduling / Construction Scheduling \n\n 	Project Planning\n 	Types of sc
 hedules\n 	Planning versus scheduling\n 	Bottom-up &amp\; Top-Down Schedul
 ing\n 	Work Breakdown Structure “WBS”\n 	Network diagrams\n 	Schedule 
 activity start and finish dates\n 	Assigning duration\, costs\, and resour
 ces\n 	Establishing early start\, late start\, and finish times\n 	Identif
 y the critical path\n 	Bar Charts\, Precedence Diagrams\n\nTime Management
 \n\n 	Time management Cycle\n 	Time management factors\n 	Schedule Level o
 f Reporting\n 	Progress Reports\n 	Progress Report Analysis\n 	Project Cra
 shing\n 	Examples &amp\; Solutions\n 	Schedule Update\n\nConstruction Fina
 nce – Cost Estimating\, Planning &amp\; Control\n\n 	Managing Construct
 ion Costs\n 	Cost Types\n 	Types of Estimates\n 	Pre-Estimate Process\n 	F
 actors that Impact the Estimation\n 	Estimation Process\n 	Monitoring &amp
 \; Controlling\n 	Labor Cost &amp\; Control\n 	Equipment Cost &amp\; Contr
 ol\n 	Materials Costs &amp\; Control\n 	General Overhead Cost &amp\; Contr
 ol\n 	Reports\n 	Earned Value\n 	EV Example &amp\; Solution\n\nProcurement
  Management\n\n 	Public Projects Vs Private Projects\n 	Procurement Select
 ion Methods\n 	Vendor Selection\n 	Types of contracts\n 	PDM &amp\; Select
 ion Methods\n\nQuality Management\n\n 	Quality in Construction\n 	Quality 
 Shortfall\n 	TQM\n 	Six Sigma\n 	Quality Assurance\n 	Quality Control\n\nS
 afety Management\n\n 	What is Safety\n 	Safety Reports &amp\; interpretati
 ons\n 	OSHA\n 	Incidents &amp\; SDS\n 	Safety Manager Plan\n 	Safety Plan 
 in Project Phases\n\nConstruction Risk Management\n\n 	Defining risk\n 	Th
 e role of the construction manager\n 	Risk vs. project type\n 	Risk vs. pr
 oject delivery method\n 	Risk analysis approaches\n 	Establishing a docume
 ntation system\n 	Methods of controlling risk\n 	Understanding risk transf
 er\n\nIntroduction to Lean Construction\n\n 	Introduction to lean\n 	Lean 
 in Construction\n 	Embracing lean productivity\n 	Lean processes\n 	Identi
 fying wastes\n 	Minimizing wastes at the project level\n 	Empowerment of t
 he field workers\n 	Pull planning\n 	Continuous improvement\n\nConstructio
 n Technology on the Jobsite\n\n 	Use of Tablets\, rather than printed draw
 ings\n 	Laser scanning vs tape measurements\n 	Bringing VR into perspectiv
 e\n 	Benefits of using technology\n 	Ways technology has changed the field
 \n\nProject Close-Out\n\n 	Closeout Process\n 	Punch List\n 	Substantial C
 ompletion/Final Completion\n\nInnovation in the Construction Industry\n\n 
 	Types of the construction projects\n 	Productivity challenges in the cons
 truction industry\n 	Megatrends of the construction industry\n 	Technologi
 cal and innovative trends rising in our construction industry\n 	Case stud
 ies\n
ATTACH;FMTTYPE=image/jpeg:https://x8ti.com/wp-content/uploads/2024/09/cpm.
 png
CATEGORIES:Project Management
LOCATION:Paris Training Courses\, Maison Colbert Meliá Collection\, Paris\
 , France\, France
X-APPLE-STRUCTURED-LOCATION;VALUE=URI;X-ADDRESS=Maison Colbert Meliá Colle
 ction\, Paris\, France\, France;X-APPLE-RADIUS=100;X-TITLE=Paris Training 
 Courses:geo:0,0
END:VEVENT
BEGIN:VTIMEZONE
TZID:Europe/Paris
X-LIC-LOCATION:Europe/Paris
BEGIN:STANDARD
DTSTART:20261025T020000
TZOFFSETFROM:+0200
TZOFFSETTO:+0100
TZNAME:CET
END:STANDARD
END:VTIMEZONE
END:VCALENDAR