BEGIN:VCALENDAR
VERSION:2.0
PRODID:-//wp-events-plugin.com//7.2.3.1//EN
BEGIN:VEVENT
UID:450@x8ti.com
DTSTART;TZID=Asia/Riyadh:20261123T090000
DTEND;TZID=Asia/Riyadh:20261127T130000
DTSTAMP:20260211T193242Z
URL:https://x8ti.com/event/compliance-investigation-and-enforcement-5/
SUMMARY:Compliance Investigation and Enforcement
DESCRIPTION:Course Overview\nThere is an increased expectation by the admin
 istrations of countries and the general public to effectively investigate 
 and impose statutory legislation and guidelines in most regulatory agencie
 s today. Such examinations can come under public inquiry specifically wher
 e it concerns the ecosystem\, community services or our biological resourc
 es.\n\nCompliance training and compliance solutions play a vital role in 
 keeping employees updated with organizational policies that are in sync wi
 th federal requirements. Immaterial of the industry you operate in\, you w
 ill find that policies and procedures evolve constantly.\n\nFinding the ri
 ght resources that can help you stay in touch with these updates can spell
  the difference between smooth business operations and fines and litigatio
 ns.\n\nThis Compliance Investigation and Enforcement course will provide t
 he basic skills needed to direct a wide range of inspections by officers\,
  public-sector controlling bodies\, and other agents in the public sector
 .\n\nWould inexperienced investigators impact your effectiveness as a comp
 liance enforcement or monitoring agency? Investigators with limited experi
 ence can find themselves and their organization on the ‘back foot’ whe
 n trying to encourage or enforce compliance of legislation.\n\nThis genera
 lly occurs where companies or individuals have interests which are not ser
 ved by complying with regulatory legislation or organizational guidelines.
 \n\nThis Xcelerate training course will empower you with effective investi
 gation training and techniques to foster compliance by client organization
 s and individuals. Participants can intermingle with experts and regulator
 s in the industry.\nCourse Objectives\nUpon completing this Compliance Inv
 estigation and Enforcement course successfully\, participants will be able
  to:\n\n 	Investigate criminal\, disciplinary or other regulatory breaches
 \n 	Act on identified non-compliance issues appropriately\n 	Explain any a
 ction taken if an examination comes under enquiry\n 	Prosecute serious non
 -compliance issues when required\n 	Examine protocols as well as other que
 stionnaires that have been used in the past and may be used to help prepar
 e your organizations for a future review\n 	Create a compliance managemen
 t tool to ensure continued compliance improvement\n 	Explain the enforceme
 nt regulations and any recent changes\n 	Discuss upcoming trends in infor
 mation security risks so you can start to plan for the work needed to do t
 o stay in compliance and keep information private and secure\n\nTraining M
 ethodology\nThis is an interactive Compliance Investigation and Enforcemen
 t training program and will consist of the following training approaches:\
 n\n 	Lectures\n 	Seminars &amp\; Presentations\n 	Group Discussions\n 	Ind
 ividual Coursework\n 	Group Assignments\n 	Case Studies &amp\; Functional 
 Exercises\n 	Practical Tests\n\nJust like all our courses\, this program a
 lso follows the ‘Do-Review-Learn-Apply’ model.\nOrganizational Benefit
 s\nCompanies who send in their employees to participate in this Compliance
  Investigation and Enforcement course can benefit in the following ways:\n
 \n 	Explore what artefacts and processes need to be documented to outlast 
 an audit or enforcement review and evade fines\n 	Understand how to use th
 e audit protocol as the basis for compliance undertakings and documentati
 on for your organization\n 	Keep your company one step ahead with this all
 -inclusive overview of enforcement compliance\n 	Gain a competitive advant
 age in the industry with more efficient compliance processes\n 	Increase e
 mployee satisfaction with the provision for professional development\n 	Tr
 ained employees will be better equipped to prevent issues related to enfor
 cement compliance\n\nPersonal Benefits\nProfessionals who participate in t
 his course can benefit in the following ways:\n\n 	Fines and penalties for
  violations of regulations have been significantly increased and may inclu
 de mandatory fines for willful neglect of the rules – it is essential to
  be aware of such information so as to avoid paying hefty fine amounts\n 	
 Have an idea about what you will be asked if you are selected for an audit
  or enforcement review\, and what you’ll have to have prepared already w
 hen they do\n 	Know the rules that you need to comply with and what polici
 es you can adopt that can help you come into compliance\n 	Realize how hav
 ing a good compliance process can help you stay compliant more easily\n\nW
 ho Should Attend?\nThis course is ideal for:\n\n 	Individuals who are seek
 ing employment in the field of compliance\n 	Individuals who\, as a part o
 f their employment\, are currently or plan to be involved in monitoring fo
 r compliance\n 	Individuals who conduct inspections\, investigations\, or 
 compliance-related duties\n 	Individuals who are currently employed and wi
 sh to expand their investigation and compliance skillset\n\nCourse Outline
 \nINTRODUCTION TO THE CRIMINAL JUSTICE SYSTEM\n\n 	Introduction to Crimina
 l law\n 	Introduction to Administrative Law\n 	Introduction to Investigati
 ve Skills and Processes\n\nENHANCED INVESTIGATIVE INTERVIEWING      
    \n\n 	Report Writing for Professional Investigators\n 	How to Be Pre
 pared for Investigative Interviews\n 	Roles &amp\; Responsibilities\n 	Und
 ertake Inspections and Monitoring\n 	Plan and Initiate Investigation\n 	Co
 nduct Investigation\n\nAPPLICATION FOR AND EXECUTION OF SEARCH WARRANTS\n\
 n 	The Law in Obtaining Search Warrants\n 	Fundamentals of the Search Proc
 ess\n 	Rights of the Individuals Involved\n\nGIVING EXPERT WITNESS TESTIMO
 NY\n\n 	Testifying in Legal Proceedings/Hearings\n 	Do’s and Don’ts of
  Testimonies\n 	Prepare Brief of Evidence\n 	Finalize Investigation\n 	Giv
 e Evidence\n 	Uphold and Support Values &amp\; Principles\n\nFORENSIC DIGI
 TAL IMAGING: DOCUMENTING AND PRESENTING VISUAL EVIDENCE\n\n 	Benefits of a
  Good Compliance Process using Technology\n 	The Power of Photography in a
 n Investigative Context\n 	Photographic Applications to Document Evidence\
 n 	Maintain Continuity of Digital Visual Evidence\n 	Documentation Require
 d for Audits\n 	Security Protocols\n\nINTERNET OPEN SOURCE INVESTIGATIONS\
 n\n 	Locating and Gathering Open Source Information\n 	Capture Vital Infor
 mation for Any Category of Investigative File\n 	Compile and Use Official 
 Notes\n 	Gather information Through Interviews\n 	Effects of Neglecting Co
 mpliance\n\nINTRODUCTION TO INVESTIGATIVE FILE MANAGEMENT  \n\n 	What is
  Investigative File Management and What Does it Entail?\n 	The Value of Hi
 storical Records as Investigative Support\n 	Improper Handling and Ineffec
 tive Management of Information\n 	Key Tactical Communication Strategies an
 d Techniques\n 	Framework of Security Policies\n\nCONDUCTING INTERNAL INVE
 STIGATIONS\n\n 	Enforcement Regulations\n 	Foundations of Collaborative Co
 nflict\n 	Foundations of Collaborative Conflict Resolution: Workplace Focu
 s\n 	Plan for Audits &amp\; Attaining Compliance\n\nASSERTING YOURSELF IN 
 CONFLICT SITUATIONS \n\n 	What is Conflict?\n 	How to Handle Conflict Sit
 uations?\n 	Negotiation &amp\; Assertiveness in Conflict Management\n\nMAN
 AGING THE HOSTILE INDIVIDUAL\n\n 	Recent Cases Involving Multi-Million Dol
 lar Settlements\n 	Maintain Workplace Safety\n\n&nbsp\;
ATTACH;FMTTYPE=image/jpeg:https://x8ti.com/wp-content/uploads/2024/10/Scre
 enshot_20240917-144214_Chrome.jpg
CATEGORIES:Audit, Compliance and Governance
LOCATION:http://Online
END:VEVENT
BEGIN:VTIMEZONE
TZID:Asia/Riyadh
X-LIC-LOCATION:Asia/Riyadh
BEGIN:STANDARD
DTSTART:20251123T090000
TZOFFSETFROM:+0300
TZOFFSETTO:+0300
TZNAME:+03
END:STANDARD
END:VTIMEZONE
END:VCALENDAR