BEGIN:VCALENDAR
VERSION:2.0
PRODID:-//wp-events-plugin.com//7.2.3.1//EN
BEGIN:VEVENT
UID:307@x8ti.com
DTSTART;TZID=Europe/Paris:20260511T090000
DTEND;TZID=Europe/Paris:20260515T130000
DTSTAMP:20260212T195417Z
URL:https://x8ti.com/event/business-communication-skills-2/
SUMMARY:Business Communication Skills
DESCRIPTION:Introduction\n\nAs the world has transformed phenomenally from 
 physical to digital\, it behooves individuals across industries and skille
 ts to become acquainted with\, if not excel in global communication for bu
 siness.\n\nAt Xcelerate Training Institute\, we are privileged to empower 
 our participants with this much sought-after skill of Business Communicati
 on. The art of being able to merge data with a story\, statistics with a c
 onversation and reports with long-lasting customer loyalty is all rooted i
 n effective business communication.\n\nProfessionalism in communication st
 ems from assertiveness in behavior\, and therefore this seemingly understa
 ndable skill is far deeper rooted than it might appear. The success of bus
 iness communication lies in an individual’s ability to fully imbibe the 
 responsibility of their representation in the global scheme of things.\n\n
 The first source of our training is in evolving the mind-set of an individ
 ual. The business of the 21st century is one that appreciates and rewards 
 authentic and positive relationships established through well-structured c
 ommunication.\n\nThis can happen only when target audiences are well resea
 rched. Therefore\, we at Xcelerate Training Institute take special care in
  making sure that our delegates learn methods to fully understand the natu
 re of the audience that they will be catering to before communication is d
 esigned\, be it formal or informal.\n\nOur highly experienced and proficie
 nt facilitators will provide personalized and real-time feedback to each p
 articipant\, assisting a meaningful growth in their ability to communicate
  better.\n\nOur Business Communication Skills Training Course has helped s
 everal executives\, managers\, government employees and business owners ho
 ne a paradigm shift in their mindset\, thus breaking a redundant communica
 tion pattern.\n\nOur post-training analysis records a display of positive 
 business communication in all our participants\, empowering them to embrac
 e a greater level of success every day.\n\nThis Xcelerate training course 
 will thus empower you to become a highly positive and professional communi
 cator. Through this course\, you will be able to apply advanced communicat
 ion techniques and also role-model this ability to mentor others in your t
 eam by virtue of your own example.\n\npositioned to contribute tangibly to
  the growth of your organization in national and global markets\, both on 
 a physical and virtual platform.\n\nLearning Objectives \n\nThe main objec
 tive of this Business Communication Skills Training Course is to empower p
 rofessionals with—\n\n 	the ability to reach a higher level of competenc
 e in business communication\n 	real-time feedback on their communication a
 ligned with business interaction in 21st century\n 	the ability to recogni
 ze language and vocal aspects that do not align with professional paramete
 rs of communication\n 	capability to rectify these errors and self-improvi
 se continuously\n 	understanding of the requisites of a positive and colla
 borative communicator representing a brand in the global market\n 	ability
  to present ideas assertively and confidently on any subject\n 	the skill 
 to build rapport\, initiate conversations\, offer feedback\, respond to cr
 iticism and compliment people in a positive way\n 	understanding of the po
 tential of great listening\, questioning and acknowledging the other at al
 l times\n\nTraining Methodology \n\nXcelerate Training Institute Solutions
  designs training courses to accommodate to our training audience and thei
 r distinctive professional background and experience. Classroom sessions w
 ith presentations by an approvingly experienced facilitator form a major p
 art of our training programs.\n\nWe boost participant involvement through 
 group discussions\, role-plays\, group activities\, assessments and more. 
 Participants are also requested to share their experiences\, problems\, ap
 prehensions and best practices from their respective organizations\, which
  are facilitated by the trainer to enhance learning for the entire partici
 pant group.\n\nXcelerate Training Institute Solutions follows the Do–Rev
 iew–Learn–Apply Model.\n\nBenefits For Your Organization\n\nOrganizati
 ons' whose professionals undertake this Business Communication Skills Trai
 ning Course will benefit in many ways as follows:\n\n 	Individuals are a s
 tep closer towards global standards of exemplary business communication an
 d their skills will reflect positively for your business\n 	More calibrati
 on in professional communication\, aligned with the work ethic of your org
 anization\n 	Greater credibility for the individual\, the organization and
  brand value\n 	More demand for the goods and services your organization o
 ffers in diverse markets\n 	The decrease in ambiguity in business communic
 ation\n 	Market credibility increase owing to client and customer recommen
 dations\n 	Improved employee performance owing to the higher understanding
  and exhibiting of professionalism in communication and a positive sense o
 f esteem for the organization\n 	Better employee relations\, owing to a ke
 en awareness of human behavior\n 	Lower attrition as individuals participa
 ting will feel invested in\, valued and motivated\n\nBenefits For You\n\nP
 rofessionals attending this course will benefit from skill and behavioral 
 perspective in the following ways:\n\n 	A clear understanding of the role 
 of business communication in an organization\n 	Increased awareness of one
 ’s ability to understand human behaviors and their effect and impact on 
 communication in business\n 	Access to videos and facilitator-led practice
  sessions exclusively owned and run by Xcelerate Training Institute Soluti
 ons\n 	Ability to identify one’s area of opportunity to recognize and co
 rrect common errors in verbal and non-verbal interactions\n 	Negating the 
 impact of unprofessional business and personal communication within and ou
 tside the organization\n 	A sense of accomplishment contributing to a stea
 dy application of good business communication etiquette\n 	A holistic impr
 ovement in individual performance and relationships\, owing to increased c
 ompetency in business communication\n 	The ability to role-model credible 
 standards of communication in the organization for subordinates to follow\
 n 	Ability to employ techniques and positive body language to showcase a s
 tandard of excellence\n\n&nbsp\;\n\n&nbsp\;\n\nTarget Audience \n\n&nbsp\;
 \n\nThe target audience for this course is individuals who are already pra
 cticing communication in their current role and want to develop their Busi
 ness Communication skills. This could include:\n\n&nbsp\;\n\n 	Professiona
 ls from various industries who want to improve their communication effecti
 veness.\n 	Managers and supervisors who need to enhance their ability to c
 ommunicate with their teams and stakeholders.\n 	Individuals in customer-f
 acing roles who want to improve their communication with clients and custo
 mers.\n 	Entrepreneurs who want to effectively communicate their business 
 ideas and strategies.\n 	Anyone interested in developing their communicati
 on skills for personal or professional growth.\n\n&nbsp\;\n\n&nbsp\;\n\n&n
 bsp\;\n\n&nbsp\;\n\n&nbsp\;\n\n&nbsp\;\n\n&nbsp\;\n\n&nbsp\;\n\nCourse Out
 line\n\nThis exclusive course by Xcelerate Training Institute is aimed at 
 developing Business Communication skills in an individual who is already p
 racticing communication in their current role. The modules will cover in-d
 epth aspects of behaviors and skills that will prepare participants for al
 l kinds of digital and face to face communication.\n\nBusiness Communicati
 on in the 21st Century\n\n 	What is Business Communication?\n 	Role of an 
 Effective Communicator\n 	Good vs Bad Communication\n 	Unprofessional Comm
 unication &amp\; its impact on Businesses\n 	Assess your personal Communic
 ation Style\n\nBehaviors &amp\; Communication Styles\n\n 	Role of Behaviou
 rs in Business Communication\n 	Passive Style of Communication\n 	Aggressi
 ve Style of Communication\n 	(Role-plays) &amp\; Feedback\n\nElements of B
 usiness Communication\n\n 	Identifying your Audience\n 	The 4 Universal Au
 dience Categories\n 	Written Communication\n 	Verbal Communication\n 	Virt
 ual Communication\n 	Practice and Feedback\n\nBusiness Communication Tools
 \n\n 	Introduction to Tools for Business Communication\n 	Analytical Tools
 \n 	Presentation Tools\n 	Functional Tools\n 	Applying Business Communicat
 ion Tools\n 	Practice Activities &amp\; Feedback\n\nBuilding Rapport \n\n 
 	Introduction to Rapport\n 	Connection before Communication\n 	First Impre
 ssions\n 	Body Language\n 	Self-Assessment\n\nAssertive Listening\n\n 	Int
 roduction to Listening\n 	What is Empathetic Listening?\n 	Tips to become 
 an Assertive Listener\n 	Barriers to Effective Listning\n 	Interruptions a
 nd Pauses\n 	Practice Exercises &amp\; Feedback\n\nSteps in Business Commu
 nication\n\n 	Identifying an Issue\n 	Develop a Solution\n 	Idea Transmiss
 ion\n 	Influencing a Group\n 	Measure Effectiveness\n 	Worksheets and Prac
 tice\n\nBusiness Communication Instruments \n\n 	Identifying a Communicati
 on Channel\n 	Formal and Informal Communication\n 	Email\, Memos and Intra
 net\n 	Digital Media and Press Releases\n 	Public Relations\n 	Summary &am
 p\; Feedback\n\n&nbsp\;
ATTACH;FMTTYPE=image/jpeg:https://x8ti.com/wp-content/uploads/2024/09/What
 sApp-Image-2024-10-29-at-10.00.31-PM3.jpeg
CATEGORIES:Communication &amp; Writing Skills
LOCATION:Paris Training Courses\, Maison Colbert Meliá Collection\, Paris\
 , France\, France
X-APPLE-STRUCTURED-LOCATION;VALUE=URI;X-ADDRESS=Maison Colbert Meliá Colle
 ction\, Paris\, France\, France;X-APPLE-RADIUS=100;X-TITLE=Paris Training 
 Courses:geo:0,0
END:VEVENT
BEGIN:VTIMEZONE
TZID:Europe/Paris
X-LIC-LOCATION:Europe/Paris
BEGIN:DAYLIGHT
DTSTART:20260329T030000
TZOFFSETFROM:+0100
TZOFFSETTO:+0200
TZNAME:CEST
END:DAYLIGHT
END:VTIMEZONE
END:VCALENDAR