BEGIN:VCALENDAR
VERSION:2.0
PRODID:-//wp-events-plugin.com//7.2.3.1//EN
BEGIN:VEVENT
UID:1745@x8ti.com
DTSTART;TZID=America/Toronto:20260420T090000
DTEND;TZID=America/Toronto:20260501T130000
DTSTAMP:20260207T222628Z
URL:https://x8ti.com/event/budgeting-and-forecasting-process-tools-and-tec
 hniques-training-course/
SUMMARY:Budgeting and Forecasting Process\, Tools and Techniques Training C
 ourse
DESCRIPTION:Introduction \nBudgeting and forecasting are essential compone
 nts of the corporate financial planning process. Every business\, regardle
 ss of its size\, must prepare an annual budget and review it quarterly to 
 align with the company's strategic plan. The budget should include sales f
 orecasts\, cost of sales\, operating overheads\, and capital expenditure p
 lans. Key performance indicators (KPIs) must be identified and monitored t
 hroughout the year.\nLearning Objectives\nThe Budgeting and Forecasting Pr
 ocess\, Tools and Techniques Course aims to:\n\n 	Emphasize the importance
  of effective budget preparation and financial planning.\n 	Understand var
 ious sources of finance and their utilization based on the cost of capital
 .\n 	Make sound investment decisions through proper appraisal.\n 	Obtain a
 n overview of financial statements and management reports to evaluate comp
 any performance.\n 	Review key performance analyses relevant to the busine
 ss.\n 	Prepare competitor analysis\, market trends\, and related explanati
 ons for top-level discussions.\n 	Understand cost behavior and its impact 
 on financial planning.\n 	Assess the usage of ERP systems and other budget
 ing tools.\n 	Understand various types of budgets and select the most suit
 able for the organization.\n 	Use financial modeling to forecast profitabi
 lity and cash flows with sensible assumptions.\n 	Understand the different
  components of working capital and reduce the operating cycle.\n 	Manage a
 nd control budgets and forward plans effectively.\n 	Learn best practices 
 in financial planning and management.\n\nTraining Methodology\nThis collab
 orative training course will include:\n\n 	Lectures\n 	Seminars &amp\; Pre
 sentations\n 	Group Discussions\n 	Assignments\n 	Case Studies &amp\; Func
 tional Exercises Xcelerate Training Institute uses the ‘Do-Review-Learn-
 Apply’ model for practical and effective learning.\n\nBenefits for Your 
 Organization\nOrganizations will benefit from:\n\n 	Understanding the theo
 ry and merits of a proper corporate financial planning process.\n 	Alignin
 g the planning process with the overall strategic plan.\n 	Performing prop
 er investment appraisals to optimize ROI.\n 	Estimating fund requirements 
 and understanding the concept of the cost of capital.\n 	Maintaining a bal
 ance between fund inflows and outflows for healthy liquidity.\n 	Evaluatin
 g financial statements and measuring performance against market trends.\n 
 	Identifying the most suitable types of budgets for the organization.\n 	D
 ifferentiating between revenue and capital expenditures in budget componen
 ts.\n 	Allocating budgets smartly based on each division’s requirements.
 \n 	Recognizing cost behavior for better analysis and identifying cost-cut
 ting areas.\n 	Assessing working capital requirements and reducing the ope
 rating cycle.\n 	Maintaining a balance between inventory\, debtors\, and c
 reditors.\n\nBenefits for You\nParticipants will gain:\n\n 	Key accounting
  concepts for financial planning.\n 	Skills to evaluate capital structure\
 , understand equity and debt capital\, and calculate the cost of capital.\
 n 	Ability to conduct investment appraisals and prepare sensitivity analys
 es.\n 	Skills to calculate ROI and net cash flow for capital projects.\n 	
 Expertise in building integrated financial models for budget preparation\,
  including cash flow forecasts.\n 	Understanding of cost behavior and vari
 ance analyses.\n 	Ability to differentiate between capital and revenue exp
 enditures for effective planning.\n 	Knowledge of all components of workin
 g capital and how to optimize them.\n 	Skills to liaise with senior manage
 ment in preparing financial and strategic plans.\n 	Ability to evaluate fi
 nancial reports and understand information flow within statements.\n 	Expe
 rtise in preparing ratio analyses and reporting to senior management.\n 	O
 pportunities for personal development and increased financial awareness.\n
 \nTarget Audience\nThis course is ideal for:\n\n 	Chairmen\n 	Members of t
 he Board of Directors\n 	C-suite Executives (CEOs\, CFOs\, COOs)\n 	Extern
 al and Internal Auditors\n 	Members of Audit Committees\n 	Senior Executiv
 es and Management Committee Members\n 	Finance Professionals\n 	Shareholde
 rs and Business Owners eager to learn the fundamentals of budgeting and fo
 recasting\n\nCourse Outline\nIntroduction\n\n 	Overall Strategic Plan\n 	M
 ission/Vision Statement\n 	Majority/Minority Shareholders\n 	Profitability
  vs. Liquidity\n\nBudget Process and Management\n\n 	Preparation of Master
  Budget\n 	Fixed vs. Flexible Budgets\n 	Quarterly Reviews\n 	Forward Plan
 ning\n 	Budget vs. Actual Comparison\n 	Zero-Based Budgets\n\nBudget State
 ments\n\n 	Balance Sheet\n 	Profit &amp\; Loss Statement\n 	Statement of C
 ash Flow\n 	Budget Assumptions\n 	Accompanying Notes\n\nWorking Capital Co
 ntrol\n\n 	Inventory Control\n 	Accounts Receivable\n 	Accounts Payable\n 
 	Reconciliation of Sub-ledgers\n 	Other Current Assets &amp\; Current Liab
 ilities\n 	Tax and Deferred Taxation\n\nComparison with Actuals\n\n 	Ratio
  Analysis\n 	Vertical and Horizontal Balance Sheet &amp\; P&amp\;L Stateme
 nts\n 	Variance Analysis (Price\, Quantity\, Mix Variance)\n\nCapital Expe
 nditure\n\n 	Capital Investment Appraisal\n 	Return on Investment\n 	Payba
 ck Period\n 	Net Present Value\n 	Internal Rate of Return\n 	Lease or Buy 
 Decisions\n 	Tax Implications\n\nEnterprise Resource Planning (ERP)\n\n 	S
 ales\n 	Bill of Material\n 	Material Management\n 	Procurement\n 	Producti
 on\n 	Finance\n\nOther Budgeting Tools\n\n 	Vertex 42\n 	MS Office Budget 
 Templates\n 	YNAB\n 	Quicken Budget Calculator\n
ATTACH;FMTTYPE=image/jpeg:https://x8ti.com/wp-content/uploads/2025/01/5540
 9125-f18f-41b1-ad40-f75d5bb86dba.jpg
CATEGORIES:Accounting &amp; Finance
LOCATION:Boston Training Courses\, Boston Harbor Hotel\, Boston\, USA\, Uni
 ted States
X-APPLE-STRUCTURED-LOCATION;VALUE=URI;X-ADDRESS=Boston Harbor Hotel\, Bosto
 n\, USA\, United States;X-APPLE-RADIUS=100;X-TITLE=Boston Training Courses
 :geo:0,0
END:VEVENT
BEGIN:VTIMEZONE
TZID:America/Toronto
X-LIC-LOCATION:America/Toronto
BEGIN:DAYLIGHT
DTSTART:20260308T030000
TZOFFSETFROM:-0500
TZOFFSETTO:-0400
TZNAME:EDT
END:DAYLIGHT
END:VTIMEZONE
END:VCALENDAR