BEGIN:VCALENDAR
VERSION:2.0
PRODID:-//wp-events-plugin.com//7.2.3.1//EN
BEGIN:VEVENT
UID:1413@x8ti.com
DTSTART;TZID=Europe/Istanbul:20250203T090000
DTEND;TZID=Europe/Istanbul:20250207T130000
DTSTAMP:20241226T135257Z
URL:https://x8ti.com/event/awareness-for-iso-14001-environmental-managemen
 t-system-ems-training-course/
SUMMARY:Awareness for ISO 14001 Environmental Management System (EMS) Train
 ing Course
DESCRIPTION:Introduction\n\nWhat is Environmental Management System ISO 140
 01? An Environmental Management System (EMS) includes an organization's op
 erations with the environment and the use of effective strategies and prac
 tices designed to eliminate negative consequences while increasing product
 ivity. ISO 14001 is intended for use by an organization aiming to manage i
 ts environmental responsibilities methodically.\n\nA strong EMS enables an
  organization to improve environmental performance\, reduce unnecessary co
 sts\, and increase productivity. It is of utmost importance that when impl
 ementing Environmental Management System in an organization\, it should be
  tailored to follow the standards of ISO 14001 while meeting the needs of 
 the organization.\n\nWhat will be covered in ISO 14001:2015 standard? This
  course will discuss topics revolving around ISO 14001:2015 and the older 
 versions\, the PDCA approach\, aspect and impact analysis\, operation cont
 rols\, and internal auditing.\n\nThis Xcelerate Training Institute course 
 will empower you with the principles\, techniques\, and processes of plann
 ing\, conducting\, and implementing an EMS audit to comply with and become
  personally or institutionally certified in ISO 14001.\n\nLearning Objecti
 ves\n\nUpon completing this ISO 14001 Environmental Management System (EMS
 ) Training Course successfully\, participants will be able to:\n\n 	Unders
 tand the importance and benefits of an ISO 14001:2015 EMS\n 	Learn the key
  requirements\, terms\, and definitions of ISO 14001:2015\n 	Familiarize y
 ourself with commonly used environmental management terms and definitions\
 n 	Gain the necessary skills\, and knowledge needed to conduct first\, sec
 ond and third-party audits against ISO 14001 standard requirements\n 	Unde
 rstand the Plan-Do-Check-Act (PDCA) cycle and explain the process-based EM
 S model for ISO 14001\n 	Study the concepts of environmental management an
 d the relationship between an organization's activities\, and its products
  and services\n 	Discuss the benefits of structured environmental manageme
 nt\n 	Describe the specific environmental management-related requirements 
 of ISO 14001\n 	Lead audit teams for ISO 14001 certifications\n 	Increase 
 your knowledge on ISO 14001 and its fundamental concepts like aspect impac
 t analysis\, emergency preparedness and response\n 	Analyze the structure 
 of ISO 14001:2015 for management system standards\n\nTraining Methodology\
 n\n 	Lectures\n 	Seminars &amp\; Presentations\n 	Group Discussions\n 	Qui
 zzes\n 	Class Activities\n 	Assignments\n 	Case Studies &amp\; Functional 
 Exercises\n\nXcelerate Training Institute Solutions follows the ‘Do-Revi
 ew-Learn-Apply’ model.\n\nBenefits For Your Organization\n\nCompanies wh
 o nominate their employees to participate in this ISO 14001 Environmental 
 Management System (EMS) Training Course can benefit in the following ways:
 \n\n 	Manage environmental risk and drive continual improvement within the
  company\n 	Address concerns that feed directly into the company’s corpo
 rate responsibility\n 	Demonstrate environmental commitment to key organiz
 ational stakeholders\n 	Develop a solid EMS plan and determine the resourc
 es required\n 	Apply and benefit from good EMS practices using proven tool
 s and techniques\n 	Implement and apply a system that considers socioecono
 mic needs and environmental stipulations\n 	Provide products and services 
 that meet regulatory environmental requirements\n\nBenefits For You\n\nInd
 ividuals who participate in this ISO 14001 Environmental Management System
  (EMS) Training Course can gain from it in the following ways:\n\n 	Identi
 fy the key requirements and advantages of ISO 14001\n 	Gain the knowledge 
 to lead a team to obtain an ISO 14001 certification for your workplace\n 	
 Learn how to thoroughly plan for an audit and prepare an on-site plan that
  establishes effective audits\n 	Explain the purpose of EMD Standards\, au
 dit third-party certification\, and understand the business benefits of im
 proved performance of environmental management systems\n 	Develop the mana
 gement skills to effectively lead or support the implementation of an effe
 ctive ISO 14001 management system within your organization\n\nTarget Audie
 nce \n\n 	Environmental consultants\n 	Occupational health and safety and 
 environmental managers\n 	EMS auditors\n 	Employees involved in obtaining 
 ISO 14001 EMS certifications\n 	Individuals or companies who want to acqui
 re an understanding of ISO 14001 and management audits\n 	Individuals who 
 want to broaden their knowledge of environmental management principles\, s
 tandards\, and practices\n\nCourse Outline\n\nINTRODUCTION\n\n 	Background
  of the ISO 14000 family\n 	Overview of Environmental Management System (E
 MS)\n 	Success factors\n 	ISO 14000 series of standards\n 	Intended outcom
 es of an EMS\n 	Compatibility with other management system standards\n 	Ba
 sic principles of ISO 14001\n\nBENEFITS OF BEING ISO 14001 CERTIFIED\n\n 	
 Compliance\n 	Employee engagement\n 	Confidence of stakeholders\n 	Strateg
 ic communication\n 	Competitive and financial advantage\n 	Improved effici
 encies and reduced costs\n 	Better environmental performance of suppliers\
 n\nORGANIZATIONAL CONTEXT\n\n 	Context of the organization\n 	Scope applic
 ation\n 	Understand the needs and expectations of stakeholders\n 	Determin
 e the scope of the EMS\n\nTHE IMPORTANCE OF LEADERSHIP IN EMS IMPLEMENTATI
 ON\n\n 	Leadership and commitment\n 	Leadership styles and approaches\n 	E
 nvironmental policy\n 	Organizational roles and responsibilities\n\nRISKS 
 AND ENVIRONMENTAL CONCERNS\n\n 	Risks and opportunities\n 	Risks vs. issue
 s\n 	Risk-based thinking\n 	Risk planning and management\n 	Significant en
 vironmental aspects\n 	Compliance obligations\n 	Risks associated with thr
 eats and opportunities\n\nRESOURCES AND DOCUMENTATION\n\n 	Resources\n 	Co
 mpetence\n 	Awareness\n 	Communication\n 	Documented information\n\nOPERAT
 IONAL PLANNING\n\n 	Operational planning and control\n 	Emergency prepared
 ness and response\n 	Planning action\n 	Environmental objectives\n 	Planni
 ng actions to achieve objectives\n\nMONITORING AND EVALUATION\n\n 	Perform
 ance evaluation\n 	Monitoring\, measurement\, analysis\, and evaluation\n 
 	Internal audit\n 	Evaluation of compliance\n 	Management review\n\nPLAN F
 OR IMPROVEMENT AND CONTINUITY\n\n 	Improvement\n 	Nonconformity and correc
 tive action\n 	Continual improvement based on the PDCA cycle\n\nCASE STUDI
 ES \n\n 	Organizations with successful ISO 14001 certifications\n 	Premier
  Foods\n 	UPCON\n 	Lessons learned\n\nENVIRONMENTAL MANAGEMENT SYSTEM – 
 PLAN\n\n 	Step 1: Define the organization's goals for EMS\n 	Step 2: Secur
 e top management commitment\n 	Step 3: Select an EMS champion\n 	Step 4: B
 uild an implementation team\n 	Step 5: Hold kick-off meeting\n 	Step 6: Co
 nduct preliminary review\n 	Step 7: Prepare budget and schedule\n 	Step 8:
  Secure resources and assistance\n 	Step 9: Involve employees\n 	Step 10: 
 Monitor and communicate progress\n\nISO 9001 VS. ISO 14001 \n\n 	Quality m
 anagement principles\n 	Process approach\n 	Clause structure\n 	ISO 9001: 
 Sections 1-10\n 	ISO 14001: Sections 1-10\n 	Environmental planning vs. qu
 ality planning\n 	Compliance with local and federal requirements\n 	Object
 ives and targets as part of environmental management\n 	Management role an
 d responsibilities are more extensive under ISO 14001\n 	Establishment of 
 an external communication procedure\n\n&nbsp\;
ATTACH;FMTTYPE=image/jpeg:https://x8ti.com/wp-content/uploads/2024/12/What
 sApp-Image-2024-12-25-at-1.21.09-PM1.jpeg
CATEGORIES:Health, Safety and Environment (HSE)
LOCATION:Istanbul Training Courses\, Four Seasons Hotel Istanbul At The Bos
 phorus\, Istanbul\, Turkey\, Turkey
X-APPLE-STRUCTURED-LOCATION;VALUE=URI;X-ADDRESS=Four Seasons Hotel Istanbul
  At The Bosphorus\, Istanbul\, Turkey\, Turkey;X-APPLE-RADIUS=100;X-TITLE=
 Istanbul Training Courses:geo:0,0
END:VEVENT
BEGIN:VTIMEZONE
TZID:Europe/Istanbul
X-LIC-LOCATION:Europe/Istanbul
BEGIN:STANDARD
DTSTART:20240204T090000
TZOFFSETFROM:+0300
TZOFFSETTO:+0300
TZNAME:+03
END:STANDARD
END:VTIMEZONE
END:VCALENDAR