BEGIN:VCALENDAR
VERSION:2.0
PRODID:-//wp-events-plugin.com//7.2.3.1//EN
BEGIN:VEVENT
UID:361@x8ti.com
DTSTART;TZID=Europe/Amsterdam:20261214T090000
DTEND;TZID=Europe/Amsterdam:20261225T130000
DTSTAMP:20260209T191945Z
URL:https://x8ti.com/event/agriculture-entrepreneurship-business-plan-and-
 innovation-course/
SUMMARY:Agriculture Entrepreneurship\, Business Plan and Innovation Course
DESCRIPTION:Introduction\nThis course by Xcelerate Training Institute aims 
 to equip participants with the knowledge and skills necessary to understan
 d and practice entrepreneurship within the agriculture sector. By developi
 ng entrepreneurial abilities and mindset\, participants will be better pre
 pared to assist farmers in running their businesses. This course is part o
 f a broader agricultural business management series designed to support ex
 tension agents in their work with farmers.\n\nBy enrolling in this course\
 , you will gain insights into innovation and entrepreneurship strategies t
 o expand your business. You will learn to identify and develop new opportu
 nities through creative and design-thinking approaches. Additionally\, you
  will acquire skills to protect intellectual property and generate profit 
 from innovative ideas. This course emphasizes practical application throug
 h simulated business and marketing plans\, real-world experiences\, and a 
 focus on job creation and community development.\nLearning Objectives\nUpo
 n completion of this course\, participants will be able to:\n\n 	Grasp fun
 damental entrepreneurial concepts\n 	Understand the structure of agribusin
 ess companies\n 	Develop marketing and business strategies\n 	Enhance orga
 nizational and time management skills\n 	Apply business principles to the 
 agricultural value chain\n 	Conduct market research for business launch\n 
 	Analyze the impact of technology\, economics\, and cultural factors on th
 e agriculture industry\n 	Understand the entire business cycle from produc
 tion to policy\n 	Recognize current economic challenges\n\nTraining Method
 ology\nThis course combines theory\, practice\, and research to explore th
 e process of launching and growing agribusiness ventures. Participants wil
 l learn about matching venture types to entrepreneurial goals\, value crea
 tion\, business model development\, market analysis\, fundraising\, compet
 itive advantage\, business planning\, franchising\, and growth management.
  The course emphasizes academic integrity and ethical conduct. Teaching me
 thods include expert lectures\, case studies\, exercises\, group discussio
 ns\, and the "Do-Review-Learn-Apply" model.\nBenefits for Your Organizatio
 n\nBy participating in this course\, organizations will:\n\n 	Enhance thei
 r ability to address agricultural challenges through entrepreneurial initi
 atives\n 	Identify and leverage business strengths and weaknesses\n 	Devel
 op innovative growth strategies\n\nBenefits for you \nIndividuals who comp
 lete this course will:\n\n 	Acquire skills to identify and develop busines
 s opportunities in sustainable agriculture and food production\n 	Create e
 ffective business and marketing plans for new ventures\n 	Understand small
  business management in agriculture and food production\n 	Develop strong 
 public speaking abilities\n 	Cultivate leadership and entrepreneurial qual
 ities\n\nTarget Audience\nThis course is designed for:\n\n 	Managers and e
 ntrepreneurs in the agribusiness industry\n 	Undergraduate and graduate st
 udents in agriculture and related fields\n 	Agribusiness management and ge
 neral management students\n 	Agriculture experts from government agencies\
 n 	Professionals in agricultural marketing and cooperation\n 	Agricultural
  engineering faculty and students\n 	Agriculture-focused NGOs\n 	Progressi
 ve farmers and community members\n\nCourse Outline\nIntroduction to Farmin
 g\n\n 	Provides an overview of the agriculture industry\n 	Including oppor
 tunities\n 	Business structures\n 	Its global economic impact\n\nConsumer 
 Preference Trends\n\n 	Explores consumer preferences and their influence o
 n agricultural production\n\nEntrepreneurship Overview\n\n 	Covers the fun
 damentals of entrepreneurship\n 	Including business and economic concepts\
 n 	Strategic ethics\n 	Global business management\n\nBusiness and Marketin
 g Strategy Development\n\n 	Focuses on developing effective\n 	Business an
 d marketing strategies\n 	Including product development\n 	Pricing\n 	Prom
 otion\n 	Human resource management\n\nEntrepreneurship Solutions\n\n 	Addr
 esses financial aspects of entrepreneurship\n 	Including business finance\
 n 	Risk management\n 	Accounting\n 	Business planning\n\n \nPersonal Fina
 nce\n\n 	Provides an overview of personal finance\n 	Including taxation\n 
 	Investments\n 	Insurance\n\nDeveloping Entrepreneurial Abilities\n\n 	Foc
 uses on personal development for entrepreneurs\n 	Including career plannin
 g\n 	Professional writing\n 	Digital citizenship\n\nThe Importance of Agri
 -preneurship\n\n 	Highlights the role of extension agents in promoting agr
 i-preneurship\n 	Identifying target markets\n\nSales and Agreements\n\n 	C
 overs sales techniques\n 	Contract development\n 	Sales forecasting\n 	Sal
 es growth strategies\n\nBusiness Start-up and Expansion\n\n 	Provides guid
 ance on business management\n 	Goal setting\n 	Relationship building\n 	Cu
 stomer relationship management\n\n&nbsp\;
ATTACH;FMTTYPE=image/jpeg:https://x8ti.com/wp-content/uploads/2024/09/What
 sApp-Image-2024-10-25-at-8.51.16-AM-2.jpeg
CATEGORIES:Agribusiness Sustainability
LOCATION:Amsterdam Training Courses\, Waldorf Astoria Amsterdam Hotel\, Ams
 terdam\, Netherlands\, Netherlands
X-APPLE-STRUCTURED-LOCATION;VALUE=URI;X-ADDRESS=Waldorf Astoria Amsterdam H
 otel\, Amsterdam\, Netherlands\, Netherlands;X-APPLE-RADIUS=100;X-TITLE=Am
 sterdam Training Courses:geo:0,0
END:VEVENT
BEGIN:VTIMEZONE
TZID:Europe/Amsterdam
X-LIC-LOCATION:Europe/Amsterdam
BEGIN:STANDARD
DTSTART:20261025T020000
TZOFFSETFROM:+0200
TZOFFSETTO:+0100
TZNAME:CET
END:STANDARD
END:VTIMEZONE
END:VCALENDAR