BEGIN:VCALENDAR
VERSION:2.0
PRODID:-//wp-events-plugin.com//7.2.3.1//EN
BEGIN:VEVENT
UID:558@x8ti.com
DTSTART;TZID=Europe/Amsterdam:20260504T090000
DTEND;TZID=Europe/Amsterdam:20260508T130000
DTSTAMP:20260215T161710Z
URL:https://x8ti.com/event/advanced-concrete-technology/
SUMMARY:Advanced Concrete Technology
DESCRIPTION:Introduction\n\nOver the years\, concrete technology has shown 
 some tremendous improvement to ensure less premature deterioration of stru
 ctures made of concrete.  This could sometimes lead to catastrophic endin
 gs. Without the improvement and advancement of technology\, the concrete d
 eterioration prematurely will continue to create a colossal of weak. It is
  likely to fail ageing concrete structures. Therefore\, Xcelerate Training
  Institute offers advanced concrete technology techniques to improve and e
 ven\, in some cases\, exceed the expected service life of concrete structu
 res using modern technology. The concrete structure created using advanced
  technology should withstand harsh environmental conditions while at the s
 ame time reducing the maintenance and repair costs. To achieve this\, a so
 lid understanding of various utilization of technology and how it interact
 s with concrete to build structures that withstand harsh conditions.\n\nTh
 e popularity of concrete across the globe makes it an element of interest 
 in the building industry. To improve its properties\, there have been adva
 ncements in technologies in the material science field to give new improve
 d mixtures and materials that dramatically improve quality and reliability
  when mixed with concrete. When mishandled\, these materials can have more
  negative impacts than benefit and\, therefore\, requires this training to
  get a better understanding of how these materials can be used effectively
 .\n\nThis Xcelerate Training Institute course will give deep knowledge and
  skills required to use concrete technology in building durable and sustai
 nable structures. Detailed considerations have been given to chemical mixt
 ures\, mineral addition\, work ability and strength enhancement of concret
 e\, and maintaining the durability of concrete. It will also guide the dec
 ision-making process when choosing the right concrete products\, procedure
 s\, and test methods.\n\nLearning Objectives \n\nThis course intends to h
 elp the participants to be able to:\n\n 	Use advanced techniques in standa
 rds and codes\n 	Familiarize with new concrete technology\n 	Handle capabl
 y the design of CFRP for concrete strengthening\n 	Understand deeply advan
 ced materials used in concrete construction\n 	Explain and apply the use o
 f high strength concrete (HSC)\n 	Explain with a great understanding of th
 e new materials being utilized in the concrete industry\n 	Understand how 
 the new materials are being utilized to enhance concrete durability\n 	Kno
 w how to use carbon fiber reinforced polymer (CFRP) in structures built us
 ing concrete\n 	Understand High-performance concrete (HPC)\n 	Get a detail
 ed understanding of how advanced methods are being used in construction\n 
 	Corrosion protection in a modern way\n 	Get a deeper understanding of Sel
 f-consolidating concrete (SCC)\n\nTraining Methodology\n\nThis Xcelerate T
 raining Institute course will be delivered by professionals with vast expe
 rience both in teaching and their area of expertise. Different methods wil
 l be used\, such as notes\, lectures\, presentations\, and short videos. C
 ase studies and exercises will also be used when there is a need. An effec
 tive and well-designed method of teaching developed by Xcelerate Training 
 Institute Talent for high retention will also be used.\n\nAll the particip
 ants are highly encouraged to be engaged by using the ‘Do-Review-Learn-A
 pply’ model. This ensures full retention of what participants are traine
 d on.\n\nBenefits For Your Organization\n\n 	Improved methods and quality 
 of concrete construction\n 	Optimized costs due to reduction in maintenanc
 e and repairs\n 	Improved credibility by undertaking durable constructions
 \n 	Reduced shutdown time for maintenance and repairs\n 	Cut down on time 
 spent on construction by using enhanced concrete additives\n 	Better inves
 tments because of knowledge of enhanced materials and how they are used in
  concrete construction\n 	Better use of resources by having an effective s
 tructure along its lifetime\n\nBenefits For You\n\n 	Improved concrete mai
 ntenance skills\n 	Improved confidence and performance because of the conc
 rete enhanced technology use\n 	A better understanding of material propert
 ies\n 	Creating optimized designs that will use advanced concrete technolo
 gy\n 	Deep understanding of how to use modern and advanced technology and 
 techniques\n 	Enhanced skills and capabilities to assume high-level roles 
 and responsibilities above their current positions\n 	Greater potential to
  lead a concrete project\n 	Improved concrete technology exposure\n\nTarge
 t Audience\n\nThis course is suitable for the professionals listed below\,
  but it is not in any way limited to them\, anyone interested can take it 
 up and reap its great benefits:\n\n 	Construction managers who would like 
 to improve the quality of their work\n 	Civil engineers who would want to 
 improve their design knowledge\n 	Project engineers to fully understand th
 e benefits of advanced technologies\n 	Construction engineers who would wi
 sh to construct durable structures using concrete\n 	Structure engineers w
 ho would want to improve the strengths of their concrete structures\n 	Pla
 nt and facility engineers\n 	Design engineers\n 	Civil asset engineers\n 	
 Technicians and technologists\n\nCourse Outline\n\nIntroduction to Advance
 d Technology\n\n 	Quality control as applied in concrete\n 	Construction p
 ractices and best practices in your local area\n 	Admixtures and special c
 omponent materials\n 	Concrete design mix\n 	Hot weather handling for any 
 concrete operations\n 	High-performance concrete\n 	High-strength concrete
 \n 	Standard and best practices in test methods for non-conventional concr
 ete reinforcement\n\nFundamentals of Concrete\n\n 	Fibers and reinforced c
 oncrete\n 	Factors influencing concrete properties\n 	Characteristics of c
 oncrete\n 	Approaches used to study concrete\n 	Concrete as a structural m
 aterial\n 	Concrete water mixture\n 	Natural protozoans\n 	Fly ash\n 	Plac
 ing and finishing concrete\n 	Aggregates for concrete\n\nConcrete Handling
 \n\n 	Special types of concrete\n 	Hot-weather concrete\n 	Control tests f
 or concrete\n 	Curing concrete\n 	Air-entrained concrete\n 	Volume changes
  of concrete\n 	Mixing\, batching\, and transporting concrete mixture\n 	H
 ydraulic cement\n\nCorrosion and Advanced Technology\n\n 	Anodic inhibitor
 \n 	Technical specification for concrete and reinforcement\n 	Galvanized a
 nd epoxy-coated bars\n 	Standard testing for FRP rods\n 	Standard specific
 ation for Epoxy-coated bars\n 	Protecting concrete by using advanced mater
 ials\n 	Advanced concrete reinforcement\n\nUsing Carbon Fiber Reinforced P
 olymer for Repair\n\n 	Advanced programs and schedule for inspection and r
 epair\n 	Design of carbon fiber reinforced polymer philosophy\n 	Effective
  execution of the CFRP\n 	How to select reasonable materials\n 	Various re
 pair and maintenance techniques using CFRP\n\nAdvanced Technology for Conc
 rete Repair\n\n 	Latex modification to repair concrete\n\n 	Production of 
 latex\n 	Latex properties and application\n\n\n 	Well-defined process\n 	C
 oncrete repair with fiber\n 	Convention repair methods to slab and beams\n
 \nConcrete Repair Materials\n\n 	Lightweight concrete\n 	Steel section app
 lication in latex modified concrete repair\n 	Concrete repair using rubber
 \n 	Existing structure evaluation\n 	Foundation concrete repair by use of 
 new materials\n\nAdvanced Cementitious Components\n\n 	Heavyweight concret
 e\n 	Polymer concrete\n 	Tube-reinforced concrete\n 	Shrinkage-compensatin
 g concrete\n 	High-strength contentious composites\n 	Structural lightweig
 ht concrete\n 	Engineered contentious composite\n\nConcrete Types\n\n 	Har
 dened Concrete\n\n 	Durability\n 	Stress-strain interdependence\n 	Constit
 utive equations\n 	Measuring strengths of any hardened concrete\n\n\n 	Str
 ucture concrete\n\n 	Introduction\n 	Setting and finding transition zones 
 in concrete\n 	Micro structural Engineering\n 	Structural levels\n\n\n 	Fr
 esh concrete\n\n 	Mix design utilized\n 	Work ability of fresh concrete\n 
 	Delivery of fresh concrete\n 	Procedures and methods for mixed design\n 	
 Concrete placing techniques\n 	Manufacturing concrete\n 	Early-age propert
 ies of concrete\n\n\n\nFracture Mechanics in Concrete\n\n 	Introduction\n 
 	Size effect model\n 	R-curve methods and techniques for quasi-brittle mat
 erials\n 	Crack Tip opening displacement\n 	Linear elastic fracture mechan
 ics\n 	Nonlinear fracture mechanics and how it applies to concrete\n 	The 
 crack Tip plastic zone\n 	Two-parameter fracture model\n\nFuture Developme
 nt\n\n 	Concrete use and its sustainability\n 	Development of tough and du
 ctile concrete for use\n 	Unified service life design\n 	Hydration nature 
 and its research\n 	Load-carrying capability\n 	Durability\n\n&nbsp\;
ATTACH;FMTTYPE=image/jpeg:https://x8ti.com/wp-content/uploads/2024/11/What
 sApp-Image-2024-10-25-at-9.27.44-AM.jpeg
CATEGORIES:Construction Management &amp; Civil Engineering
LOCATION:Amsterdam Training Courses\, Waldorf Astoria Amsterdam Hotel\, Ams
 terdam\, Netherlands\, Netherlands
X-APPLE-STRUCTURED-LOCATION;VALUE=URI;X-ADDRESS=Waldorf Astoria Amsterdam H
 otel\, Amsterdam\, Netherlands\, Netherlands;X-APPLE-RADIUS=100;X-TITLE=Am
 sterdam Training Courses:geo:0,0
END:VEVENT
BEGIN:VTIMEZONE
TZID:Europe/Amsterdam
X-LIC-LOCATION:Europe/Amsterdam
BEGIN:DAYLIGHT
DTSTART:20260329T030000
TZOFFSETFROM:+0100
TZOFFSETTO:+0200
TZNAME:CEST
END:DAYLIGHT
END:VTIMEZONE
END:VCALENDAR