BEGIN:VCALENDAR
VERSION:2.0
PRODID:-//wp-events-plugin.com//7.2.3.1//EN
BEGIN:VEVENT
UID:219@x8ti.com
DTSTART;TZID=Africa/Cairo:20260615T090000
DTEND;TZID=Africa/Cairo:20260619T130000
DTSTAMP:20260214T163001Z
URL:https://x8ti.com/event/advanced-business-writing-skills-4/
SUMMARY:Advanced Business Writing Skills
DESCRIPTION:Introduction\n\nPresentation matters a great deal in today’s 
 business world. There was a time when the actual business was the crux of 
 a customer’s interest. However\, in the age of competitive executive pre
 sence and virtual realities\, every brand needs to showcase phenomenal tal
 ent in the area of its presentation.\n\nBe it a government\, private or pu
 blic enterprise\, written communication has gained precedence like never b
 efore. At ‘Xcelerate Training Institute’\, we take a keen interest in 
 developing the innate writing skills of our participants by providing clos
 e guidance and showing them how they can apply master techniques to build 
 expertise in Business Writing.\n\nThe Advanced class on this subject will 
 take our delegates a step ahead on their ability to communicate on behalf 
 of their organization in a distinguished manner. Our research and work ove
 r the years have helped us create a database of the most appreciated norms
  in business writing\, which will enable our participants to keep up to th
 e high standards of succinct.\n\nIt has been globally observed that candid
 ates who can express fluency in writing through a wide vocabulary stand a 
 higher chance of a promotion\, winning a new project and taking a business
  to greater heights.\n\nThrough the course on Business writing\, we not on
 ly endeavor to help you achieve a distinction in this skill\, but also see
 k to nurture discipline in your life – one that lets you alter your beha
 vior to practice the right habits. This way\, participants acquire real gr
 owth in their skills at a deeper level and not just theoretical knowledge.
 \n\nThis Xcelerate training Institute course will empower you to become an
  expert in business writing. Through this course\, you will be able to app
 ly the skill of presenting your message in a well-structured format throug
 h your writing in any business communication.\n\nBy ensuring the applicati
 on of all the elements in professional business writing\, your message wil
 l be received exactly as intended. The information and practice gained thr
 ough this course will also bridge the gap in your writing skills. You will
  resultant be better positioned to contribute to your organization in your
  communication with your stakeholders and your customer.\n\nLearning Objec
 tives \n\nThe main objective of this Advanced Business Writing Skills Trai
 ning Course is to empower professionals with—\n\n 	the ability to write 
 emails\, memos\, white paper\, press-releases and digital content for thei
 r business in a structured manner\, in keeping with their organizational b
 rand values\n 	real-time feedback on their written communication\n 	the ab
 ility to recognize language and formatting errors in their own writing\n 	
 capability to correct their own errors in writing and errors in any other 
 potential publication material before publishing\n 	understanding of the r
 equisites of a good business document\n 	express ideas fluently through an
 y written medium\n 	edit and perfect a draft before sending it out\n 	unde
 rstand the potential of well-written content in the business world\n\nTrai
 ning Methodology \n\nXcelerate Training Institute Solutions designs traini
 ng courses to cater to our training audience and their distinctive profess
 ional background and experience. Classroom sessions with presentations by 
 a highly experienced facilitator form a major part of our training program
 s. We encourage trainee participation through group discussions\, role-pla
 ys\, group activities\, assessments and more.\n\nTrainees are also request
 ed to share their experiences\, issues\, concerns and best practices from 
 their respective organizations\, which are facilitated by the trainer to o
 ptimize learning for the entire participant group.\n\nIn alignment with th
 e Xcelerate Training Institute Solutions’ unique training methodology\, 
 this course follows the Do–Review–Learn–Apply Model.\n\n Benefits F
 or Your Organization\n\nOrganizations whose professionals undertake this A
 dvanced Business Writing Skills Training Course will benefit in the follow
 ing ways:\n\n 	Individuals become better at written communication and thei
 r skills will reflect positively for your business\n 	More calibration and
  streamlining in writing in keeping with the brand values of your organiza
 tion\n 	Greater credibility for the individual and the organization\n 	Inc
 reased respect for your organization in the market\n 	The decrease in conf
 usion over instructions and ambiguous written communication\n 	Market cred
 ibility increases because of stakeholder recommendations\n 	Improved indiv
 idual performance and sense of esteem for the organization\n 	Better dispu
 te management\n 	Lower attrition as individuals feel invested in\, listene
 d to\, valued and motivated\n\nBenefits For You\n\nProfessionals attending
  this Advanced Business Writing Skills Training Course will benefit in the
  following ways:\n\n 	A clear understanding of the role of written skills\
 n 	Increased self-awareness of one’s ability to write good content\n 	Ac
 cess to examples\, videos and practice sessions exclusively owned and run 
 by Xcelerate Training Institute\n 	Ability to identify one’s area of opp
 ortunity to recognize and correct common writing errors\n 	Understanding t
 he impact of not maintaining a global standard of excellence in written co
 mmunication\n 	A sense of accomplishment contributing to a steady applicat
 ion of this skill\n 	Overall improvement in individual performance\n 	The 
 ability to role-model this skill in the organization for subordinates to l
 earn from and imitate\n\n&nbsp\;\n\n&nbsp\;\n\n&nbsp\;\n\nTarget Audience 
 \n\nThe target audience for this Advanced Business Writing Skills Training
  course is likely professionals who:\n\n&nbsp\;\n\n 	Need to improve their
  writing skills for their current job or career advancement.\n 	Work in a 
 professional environment where effective communication is essential.\n 	Wa
 nt to enhance their ability to write clear\, concise\, and persuasive busi
 ness documents\n 	Are interested in learning about global business writing
  standards and best practices\n 	Desire to develop their skills in writing
  various types of business correspondence\, such as emails\, memos\, repor
 ts\, and proposals\n\n&nbsp\;\n\nCourse Outline\n\nThe Advanced Business W
 riting Skills Training Course will cover the following areas that are esse
 ntial in understanding the importance of Business Writing Skills and incre
 asing the participants’ ability to practice this skill effectively.\n\nI
 ntroduction to Business Writing\n\n 	Fluency of thoughts and ideas\n 	Asso
 ciating similar and opposite ideas\n 	Translate thoughts into words\n 	Pra
 ctice Assignment (Pre-work)\n\nElements of Business Writing\n\n 	Global Bu
 siness Writing Formats\n 	Statement of Purpose\n 	Indentation and Formatti
 ng\n 	Presentation\n 	Conciseness in Writing\n 	Practice Assignment &amp\;
  Feedback\n\nGrammar &amp\; Punctuation\n\n 	Common Grammatical Errors\n 	
 Archived English\n 	Redundant Phrases\n 	Punctuation and Tone\n 	Clichés 
 and how to avoid them\n 	Practice Activities &amp\; Feedback\n\nPurposes o
 f Business Correspondence\n\n 	Introduction | Defining the Purpose\n 	Requ
 esting\n 	Placing Orders / Consignments\n 	Letters of Acknowledgement\n 	C
 ongratulatory / Expressing Gratitude\n 	Conveying Bad News\n\nEffective Bu
 siness Writing\n\n 	Introduction to the 5 C Principles\n 	Clarity and Conc
 iseness\n 	Complete and Correct\n 	Courtesy | Using a professional tone\n 
 	Self-Assessment\n\nTypes of Business Letters\n\n 	Business Letters\n 	Mem
 orandums\n 	Business Emails\n 	Faxes\n\nWriting Templates\n\n 	Business Le
 tter Template\n 	Business Report Template\n 	Proposals and Executive Summa
 ry\n 	Minutes of the Meeting\n 	Worksheets and Practice\n\nAdvanced Busine
 ss Writing \n\n 	Rewrite a Poorly Written Message\n 	Respond to Written Co
 mplaint\n 	The Golden Art of Writing a CV\n 	Drafting the Perfect Job Adve
 rtisement\n 	Cross-cultural Communication on Email/Chat\n 	Summary &amp\; 
 Feedback\n\n&nbsp\;
ATTACH;FMTTYPE=image/jpeg:https://x8ti.com/wp-content/uploads/2024/09/What
 sApp-Image-2024-10-29-at-10.00.31-PM.jpeg
CATEGORIES:Communication &amp; Writing Skills
LOCATION:Cairo Training Courses\, Kempinski Nile Hotel Garden City Cairo\, 
 Cairo\, Egypt\, Egypt
X-APPLE-STRUCTURED-LOCATION;VALUE=URI;X-ADDRESS=Kempinski Nile Hotel Garden
  City Cairo\, Cairo\, Egypt\, Egypt;X-APPLE-RADIUS=100;X-TITLE=Cairo Train
 ing Courses:geo:0,0
END:VEVENT
BEGIN:VTIMEZONE
TZID:Africa/Cairo
X-LIC-LOCATION:Africa/Cairo
BEGIN:STANDARD
DTSTART:20250615T090000
TZOFFSETFROM:+0200
TZOFFSETTO:+0200
TZNAME:EET
END:STANDARD
END:VTIMEZONE
END:VCALENDAR