BEGIN:VCALENDAR
VERSION:2.0
PRODID:-//wp-events-plugin.com//7.2.3.1//EN
BEGIN:VEVENT
UID:586@x8ti.com
DTSTART;TZID=Asia/Riyadh:20261019T090000
DTEND;TZID=Asia/Riyadh:20261030T130000
DTSTAMP:20260209T194510Z
URL:https://x8ti.com/event/advanced-agribusiness-management-training-cours
 e-5/
SUMMARY:Advanced Agribusiness Management Training Course
DESCRIPTION:Introduction\nThis Agribusiness Management course by Xcelerate 
 Training Institute offers a distinct approach to agricultural education. U
 nlike traditional programs\, it combines business management with agricult
 ural expertise. Students will learn to make informed decisions in the comp
 lex world of agribusiness and contribute to building an agri-based economy
 . This course is designed for professionals seeking careers in agriculture
 \, food production\, or agribusiness startups. It addresses contemporary e
 conomic\, environmental\, and international trade challenges.\nLearning Ob
 jectives\nThis course aims to equip students with practical skills for dev
 eloping successful agribusiness ventures. Key learning outcomes include:\n
 \n 	Mastering financial analysis tools for decision-making.\n 	Understandi
 ng the agribusiness environment and its impact on business operations.\n 	
 Developing effective communication and presentation skills.\n 	Creating co
 mprehensive business plans.\n\nTraining Methodology\nLearning is interacti
 ve and experiential\, combining lectures\, case studies\, group work\, and
  online activities. The course emphasizes practical application of knowled
 ge through a student-centered approach.\nBenefits for Your Organization\nO
 rganizations that participate in this course will gain valuable insights i
 nto agribusiness management. Key benefits include:\n\n 	Developing effecti
 ve business plans.\n 	Improving financial management.\n 	Accessing financi
 al resources and support.\n 	Enhancing marketing and sales strategies.\n\n
 Benefits for you \nIndividuals who complete this course will be able to:\n
 \n 	Apply agribusiness management principles to address community challeng
 es.\n 	Successfully start and manage agribusiness ventures.\n 	Lead and in
 novate in the agricultural sector.\n\nTarget Audience\nThis course is idea
 l for:\n\n 	Agricultural professionals seeking to enhance their management
  skills.\n 	Entrepreneurs starting agribusiness ventures.\n 	Graduates asp
 iring to leadership roles in the agricultural or food industry.\n 	Individ
 uals interested in learning about the agribusiness sector.\n\nCourse Outli
 ne\nManagement and Organizational Behavior Fundamentals\n\n 	Agricultural 
 policies and regulations\n 	Financial management and control for managers\
 n 	Marketing\, economics\, and communication strategies\n 	Marketing manag
 ement principles\n 	Computer applications for management\n\nEthical Values
  and Business Law\n\n 	Rural marketing strategies\n 	Human resource manage
 ment practices\n 	Financial administration\n 	Environmental business manag
 ement\n\nProduction Management\n\n 	Research methodologies for business ad
 ministration\n 	Information management systems for entrepreneurs\n 	Rural 
 business development\n 	Agribusiness management\n\nGlobal Business\n\n 	Lo
 ng-term sustainability management\n 	Collaborative agribusiness management
 \n 	Food retail management\n 	Marketing and service management\n 	Consumer
  behavior analysis\n\nAgribusiness Financial Management\n\n 	Commodities t
 rading and contracts\n 	Agribusiness financing options\n 	Agricultural ris
 k management\n 	Financial management principles and practices\n 	Farm busi
 ness management\n\nAgricultural Data Systems\n\n 	Internet-based system de
 sign\n 	Remote sensing data analysis\n 	Information delivery systems using
  remote sensing\n 	Agricultural concepts and principles\n 	Organizational 
 learning and data collection\n\nAgricultural Data Network\n\n 	Remote data
  acquisition\n 	Information delivery systems based on remote sensing\n 	Ag
 ricultural concepts and principles\n 	Organizational learning and data col
 lection\n\nFertilizer Management and Technology\n\n 	Agrochemical industry
  management\n 	Seed production science and maintenance\n 	Agricultural inp
 ut marketing\n 	Agri-supply chain management\n 	Basin development manageme
 nt\n\nFruit Cultivation and Post-Harvest Management\n\n 	Agri-supply chain
  management\n 	Floriculture and landscape management\n 	Vegetable producti
 on\n 	Harvest management\n 	Organic food production technology\n\nLivestoc
 k and Food Production Management\n\n 	Food supply management\n 	Agricultur
 al supply chain management\n\n&nbsp\;
ATTACH;FMTTYPE=image/jpeg:https://x8ti.com/wp-content/uploads/2024/09/What
 sApp-Image-2024-10-25-at-8.51.17-AM-1.jpeg
CATEGORIES:Agribusiness Sustainability
LOCATION:http://Online
END:VEVENT
BEGIN:VTIMEZONE
TZID:Asia/Riyadh
X-LIC-LOCATION:Asia/Riyadh
BEGIN:STANDARD
DTSTART:20251019T090000
TZOFFSETFROM:+0300
TZOFFSETTO:+0300
TZNAME:+03
END:STANDARD
END:VTIMEZONE
END:VCALENDAR