BEGIN:VCALENDAR
VERSION:2.0
PRODID:-//wp-events-plugin.com//7.2.3.1//EN
BEGIN:VEVENT
UID:350@x8ti.com
DTSTART;TZID=Europe/Madrid:20261214T090000
DTEND;TZID=Europe/Madrid:20261218T130000
DTSTAMP:20260202T161044Z
URL:https://x8ti.com/event/5g-nr-physical-layer-overview-and-simulations/
SUMMARY:5G NR Physical Layer Overview and Simulations
DESCRIPTION:Introduction\nThis course by Xcelerate Training Institute provi
 des a comprehensive understanding of 5G New Radio (NR) technology. It cove
 rs the fundamentals of 5G NR\, its architecture\, and key components. The 
 course aims to equip learners with the skills and knowledge needed to impl
 ement and manage 5G NR networks effectively.\nLearning Objectives\nThe pri
 mary goal of this course is to develop professionals with in-depth knowled
 ge of 5G NR technology. Upon completion\, participants will be able to imp
 lement\, manage\, and teach others about 5G NR\, ultimately gaining a comp
 etitive advantage in the 5G market.\nTraining Methodology\nThe course empl
 oys a combination of lectures\, group discussions\, assignments\, and case
  studies to deliver the content. The learning approach emphasizes hands-on
  experience and practical application.\nBenefits for Your Organization\nOr
 ganizations that invest in this course will benefit from increased efficie
 ncy\, improved competitiveness\, and enhanced customer satisfaction. The c
 ourse empowers employees to implement and manage 5G NR technology effectiv
 ely\, leading to cost reductions and increased revenue.\nBenefits for You\
 nParticipants will gain a deep understanding of 5G NR technology\, develop
  advanced skills\, and enhance their career prospects. The course equips i
 ndividuals with the knowledge and confidence to take on leadership roles i
 n the 5G domain.\nTarget Audience\nThis course is designed for senior mana
 gement\, technical advisors\, end-users\, and other professionals interest
 ed in understanding 5G NR technology.\nCourse Outline\nThe course covers t
 he following modules:\n\n 	\nIntroduction to 5G Technology:\n\n\n\n 	Overv
 iew of 5G evolution\,\n 	architecture\n 	key differences compared to LTE.\
 n\n\n 	\nRadio Protocols:\n\n\n\n 	In-depth exploration of RRC sublayer\n 
 	Initial access procedures\n 	Network procedures\n 	RLC and PDCP protocols
 .\n\n\n 	\n5G Architecture:\n\n\n\n 	End-to-end architecture\n 	Including 
 NSA and SA modes\n 	Interface with Wi-Fi\n 	5G core network\n 	Service-bas
 ed architecture.\n\n&nbsp\;\n\n 	\nNetwork Virtualization:\n\n\n\n 	Overvi
 ew of NFV architecture\n 	Use cases\n 	Its role in 5G core and access netw
 orks.\n\n&nbsp\;\n\n 	\nNetwork Slicing:\n\n\n\n 	Understanding network sl
 icing concepts\n 	Data models\n 	Implementation for various use cases.\n\n
 &nbsp\;\n\n 	\n5G System QoS:\n\n\n\n 	QoS flows\, parameters\n 	Handling\
 n 	Differences between network slicing and QoS.\n\n&nbsp\;\n\n 	\n5G NR Ra
 dio Designing and Planning:\n\n\n\n 	Spectrum\n 	Performance targets\n 	RF
  planning\n 	Propagation models\n 	Link budget\, MIMO\n 	Beamforming techn
 iques.\n\n&nbsp\;\n\n 	\nC-RAN:\n\n\n\n 	Introduction to disaggregated RAN
 \n 	C-RAN architecture\, and its benefits.\n\n&nbsp\;\n\n 	\n5G NR Optimiz
 ation:\n\n\n\n 	Call flows\n 	Accessibility\n 	Retainability\n 	Throughput
 \n 	Latency\n 	Mobility\n 	Troubleshooting techniques.\n\n&nbsp\;\n\n 	\n5
 G System Security:\n\n\n\n 	5G security architecture\n 	Requirements\n 	Pr
 ocedures\n 	Key management.\n\n&nbsp\;
ATTACH;FMTTYPE=image/jpeg:https://x8ti.com/wp-content/uploads/2024/09/IMG-
 20241019-WA0131-1.jpg
CATEGORIES:Telecommunication
LOCATION:Barcelona Training Courses\, Le Méridien Barcelona Hotel\, Barcel
 ona\, Spain\, Spain
X-APPLE-STRUCTURED-LOCATION;VALUE=URI;X-ADDRESS=Le Méridien Barcelona Hote
 l\, Barcelona\, Spain\, Spain;X-APPLE-RADIUS=100;X-TITLE=Barcelona Trainin
 g Courses:geo:0,0
END:VEVENT
BEGIN:VTIMEZONE
TZID:Europe/Madrid
X-LIC-LOCATION:Europe/Madrid
BEGIN:STANDARD
DTSTART:20261025T020000
TZOFFSETFROM:+0200
TZOFFSETTO:+0100
TZNAME:CET
END:STANDARD
END:VTIMEZONE
END:VCALENDAR