BEGIN:VCALENDAR
VERSION:2.0
PRODID:-//wp-events-plugin.com//7.2.3.1//EN
BEGIN:VEVENT
UID:1696@x8ti.com
DTSTART;TZID=Asia/Riyadh:20260803T090000
DTEND;TZID=Asia/Riyadh:20260814T130000
DTSTAMP:20260208T001440Z
URL:https://x8ti.com/event/10-day-training-course-in-financial-management-
 training-course-2/
SUMMARY:10 Days Training Course in Financial Management
DESCRIPTION:Introduction \nFinancial Management is essential for planning 
 and controlling an organization's financial resources. It supports the acq
 uisition\, financing\, and management of assets to achieve the objective o
 f maximizing shareholder wealth. This 10-day training course in Financial 
 Management is designed to provide in-depth knowledge and practical skills 
 to advance your career in financial management.\nLearning Objectives\nBy t
 he end of this 10-day training course\, participants will:\n\n 	Formulate 
 and implement effective financial strategies.\n 	Understand key issues in 
 financial management.\n 	Apply financial management knowledge in decision-
 making processes.\n\nTraining Methodology\nThis course includes:\n\n 	Visu
 al presentations by experienced trainers\n 	Group discussions\n 	Problem-s
 olving exercises\n 	Group activities and projects\n 	Sharing experiences a
 nd best practices from participants' organizations Xcelerate Training Inst
 itute follows the ‘Do–Review–Learn–Apply’ model for interactive 
 and experiential learning.\n\nBenefits for Your Organization\nOrganization
 s will benefit from:\n\n 	Implementing best practices in planning and cont
 rolling financial resources.\n 	Acquiring\, financing\, and managing asset
 s to maximize shareholder wealth.\n 	Developing and implementing effective
  financial strategies.\n\nBenefits for You\nParticipants will gain:\n\n 	A
 dvanced career opportunities in financial management.\n 	Enhanced financia
 l intelligence.\n 	Expertise in business investment\, budgeting\, cash flo
 w\, cost analysis\, statements\, asset management\, asset register\, and m
 ergers and acquisitions.\n\nTarget Audience\nThis course is ideal for:\n\n
  	Professionals in accounting and finance\n 	Financial controllers\, finan
 ce managers\, financial systems analysts\, senior accountants\, financial 
 accountants\, management accountants\n 	Chief Financial Officers (CFOs)\, 
 finance directors\, and strategic planners\n\nCourse Outline\nDesigning an
 d Implementing Financial Strategy\n\n 	Strategic Decision-Making Framework
 \n 	Objectives of Financial Management\n 	Formulating and Selecting Financ
 ial Strategies\n\nRisk Management\n\n 	Types of Risks Faced by Organizatio
 ns\n 	Evaluation of Financial Risks\n 	Value at Risk (VAR)\n\nCapital Stru
 cture Decisions\n\n 	Sources of Finance\n 	Risks Associated with Funding O
 ptions\n 	Capital Structure Theories\n 	Designing an Optimal Capital Struc
 ture\n 	Control Issues with Financing Options\n\nInvestment Decisions\n\n 
 	Objectives of Capital Investment Decisions\n 	Capital Budgeting\n 	Invest
 ment Evaluation Techniques\n 	Selecting the Best Investment\n\nCorporate V
 aluation\n\n 	Conceptual Framework of Valuation\n 	Asset-Based Valuation M
 odel\n 	Earnings-Based Valuation Model\n 	Cash Flow-Based Valuation Model\
 n 	Measuring Cost of Equity\n 	Relative Valuation\n\nMergers\, Acquisition
 s\, and Corporate Restructuring\n\n 	Mergers and Acquisitions\n 	Deriving 
 Synergies\n 	Demergers\n 	Divestitures\n 	Corporate Restructuring\n 	Cross
 -Border Mergers\n\nCapital and Finance Markets\n\n 	Regulatory Framework o
 f Capital Markets\n 	International Capital Markets\n 	Debt Markets\n 	Fixe
 d Income Securities\n 	Money Market\n\nSecurity Analysis and Portfolio Man
 agement\n\n 	Security Analysis – Fundamental and Technical Analysis\n 	S
 ecurity Valuation\n 	Portfolio Analysis\n 	Portfolio Selection\n 	Portfoli
 o Evaluation\n 	Portfolio Revision\n\nDerivatives Analysis and Valuation\n
 \n 	Futures Contracts\n 	Forward Contracts\n 	Options\n 	Swaps\n\nForeign 
 Exchange Exposure and Risk Management\n\n 	Exchange Rate Determination\n 	
 Foreign Currency Market\n 	Managing Transaction\, Translation\, and Econom
 ic Exposures\n 	Hedging Currency Risk\n 	Foreign Exchange Derivatives – 
 Futures\, Forward\, Options\, and Swaps\n
CATEGORIES:Accounting &amp; Finance
LOCATION:http://online
END:VEVENT
BEGIN:VTIMEZONE
TZID:Asia/Riyadh
X-LIC-LOCATION:Asia/Riyadh
BEGIN:STANDARD
DTSTART:20250803T090000
TZOFFSETFROM:+0300
TZOFFSETTO:+0300
TZNAME:+03
END:STANDARD
END:VTIMEZONE
END:VCALENDAR