BEGIN:VCALENDAR
VERSION:2.0
PRODID:-//wp-events-plugin.com//7.2.3.1//EN
BEGIN:VEVENT
UID:116@x8ti.com
DTSTART;TZID=Europe/Berlin:20261207T090000
DTEND;TZID=Europe/Berlin:20261218T130000
DTSTAMP:20260209T163212Z
URL:https://x8ti.com/event/10-day-intensive-training-on-agriculture-and-fo
 od-business-management/
SUMMARY:10 Day Intensive Training on Agriculture and Food Business Manageme
 nt
DESCRIPTION:Introduction\nWhat will I learn in this Mini MBA?\nThis course 
 by Xcelerate Training Institute delves into the complex relationship betwe
 en business\, food\, and agriculture. It examines the interconnected value
  chains within the agriculture and food industries\, which have significan
 tly evolved with technological and scientific advancements. Participants w
 ill gain the skills and knowledge needed for various roles in the food and
  fiber sector\, agricultural businesses\, financial institutions\, researc
 h establishments\, retail food companies\, and other related fields. The c
 ourse covers a wide range of topics including agribusiness structure\, inp
 ut procurement\, value addition\, marketing\, financing\, agricultural ext
 ension\, and entrepreneurship.\nWhat are the advantages of doing this cour
 se with Xcelerate Training Institute?\nXcelerate Training Institute offers
  an International Agribusiness MBA program based in a major agricultural h
 ub. The course provides a comprehensive understanding of the supply chain 
 from a technological\, developmental\, and responsible perspective. It emp
 hasizes the importance of modern and innovative approaches to sustain and 
 improve domestic agricultural production.\n\nParticipants will develop str
 ong management skills encompassing finance\, supplier management\, account
 ing\, microfinance\, and rural marketing. The agriculture and food industr
 ies offer diverse career paths\, including roles in technology\, commerce\
 , shipping\, food and fiber technology\, and finance.\nLearning Objectives
 \nThe Agriculture Management Program distinguishes itself from traditional
  MBA programs by focusing on agri-marketing\, agri-financing\, and agri-pr
 oduction. Key characteristics of the program include:\n\n 	Addressing long
 -term challenges such as extended payback periods\, development cycles\, s
 upply instability\, food safety\, agricultural security\, and environmenta
 l impact.\n 	Covering the entire agribusiness ecosystem\, from agricultura
 l productivity to related industries like agrochemicals\, genetics\, equip
 ment\, and trade.\n 	Acknowledging the long-term nature of agricultural pl
 anning and the potential for significant market changes over time.\n\nTrai
 ning Methodology\nThis curriculum emphasizes the creation and growth of ne
 w agricultural ventures. It covers topics like aligning entrepreneurial go
 als with new ventures\, business model development\, market assessment\, c
 apital raising\, competitive advantage\, business planning\, franchising\,
  and growth management. The courses promote academic integrity\, proper ci
 tation\, and support for fellow students. This collaborative Mini MBA foll
 ows a “Do-Review-Learn-Apply” model.\n\n \nBenefits for Your Organiza
 tion\nBy participating in this course\, organizations can:\n\n 	Foster agr
 i-entrepreneurship to address industry challenges and improve farm profita
 bility.\n 	Conduct a thorough company assessment to identify strengths\, w
 eaknesses\, and obstacles developments.\n 	Cultivate a culture of environm
 ental responsibility among employees.\n 	Develop long-term strategic think
 ers and co-creators.\n 	Encourage healthy competition within the organizat
 ion.\n 	Create a growth strategy for the company.\n\nBenefits for you \nGr
 aduates of this program can pursue various career paths. The industry expe
 riences a shortage of skilled professionals in agriculture and food busine
 ss management. Participants will develop financial and commercial decision
 -making abilities. Graduates can find opportunities in both the private an
 d public sectors. The program provides a strong foundation in soil science
 \, plant growth\, and sustainable agricultural practices. Graduates can co
 ntribute to agricultural development and environmental conservation. The c
 ourse offers a comprehensive understanding of the food and fiber supply ch
 ain and related business fundamentals.\nTarget Audience\nThis course is su
 itable for both aspiring and experienced professionals in the agriculture 
 and food industry. Individuals seeking an MBA in Agriculture and those wor
 king in seed\, agrichemical\, and related companies are the primary target
  audience.\nCourse Outline\nThe course is structured into ten modules cove
 ring various aspects of agriculture and food business management:\nInfrast
 ructure in Agriculture:\n\n 	Focuses on food and agriculture production\n 
 	Input supply\n 	Financing\n 	Project management\n\nPlatforms for Financia
 l Services:\n\n 	 Covers data selection\n 	Reporting\, human resource man
 agement\n 	Individual attributes\n\nFundamentals of Business Law: \n\n 	In
 cludes technology for managers\n 	Microeconomic theory\n 	Industry managem
 ent\n 	Quantitative techniques\n\nAdministration of Human Resources:\n\n 	
  Covers information technology application\n 	Group dynamics\n 	Governanc
 e\n 	Macroeconomics\n 	Logistics management\n\nIndividual and Commercial E
 thics:\n\n 	 Addresses business ethics\n 	Community impact\n 	Research me
 thods\n 	Corporate finance\n 	Government processes\n 	Internet business\n\
 n Organizational Change:\n\n 	 Focuses on rural\n 	Economic and organiza
 tional context\n 	Strategic planning\n 	Communication\n 	Agricultural poli
 cy\n\nFinancing for Agriculture:\n\n 	 Covers input and output management
 \n 	Food business strategy\n 	Project planning\n 	Information assurance\n 
 	International agri-food trade\n\nControl of the Value Chain:\n\n 	 Inclu
 des agribusiness solutions\n 	Entrepreneurship\n 	Global farm and agribusi
 ness\n 	Corporate approaches\n\nMicrofinance Administration:\n\n 	 Covers
  food supply chain control\n 	Competitive development\n 	Carbon finance\n 
 	Government policy\n\nBusiness in Agriculture:\n\n 	 Addresses agribusine
 ss management\n 	Future markets\n 	Agricultural value\n 	Food quality econ
 omics\n 	Trade policy\n 	Power company management\n
ATTACH;FMTTYPE=image/jpeg:https://x8ti.com/wp-content/uploads/2024/09/agri
 .png
CATEGORIES:Agribusiness Sustainability
LOCATION:Berlin Training Courses\, Hotel Adlon Kempinski Berlin\, Berlin\, 
 Germany\, Germany
X-APPLE-STRUCTURED-LOCATION;VALUE=URI;X-ADDRESS=Hotel Adlon Kempinski Berli
 n\, Berlin\, Germany\, Germany;X-APPLE-RADIUS=100;X-TITLE=Berlin Training 
 Courses:geo:0,0
END:VEVENT
BEGIN:VTIMEZONE
TZID:Europe/Berlin
X-LIC-LOCATION:Europe/Berlin
BEGIN:STANDARD
DTSTART:20261025T020000
TZOFFSETFROM:+0200
TZOFFSETTO:+0100
TZNAME:CET
END:STANDARD
END:VTIMEZONE
END:VCALENDAR